BEGIN:VCALENDAR
VERSION:2.0
PRODID:https://www.kufer.de/kuferweb / DE
METHOD:PUBLISH
CALSCALE:GREGORIAN
X-WR-TIMEZONE:Europe/Berlin
BEGIN:VTIMEZONE
TZID:Europe/Berlin
X-LIC-LOCATION:Europe/Berlin
BEGIN:DAYLIGHT
TZOFFSETFROM:+0100
TZOFFSETTO:+0200
TZNAME:CEST
DTSTART:19700329T020000
RRULE:FREQ=YEARLY;INTERVAL=1;BYDAY=-1SU;BYMONTH=3
END:DAYLIGHT
BEGIN:STANDARD
TZOFFSETFROM:+0200
TZOFFSETTO:+0100
TZNAME:CET
DTSTART:19701025T030000
RRULE:FREQ=YEARLY;INTERVAL=1;BYDAY=-1SU;BYMONTH=10
END:STANDARD
END:VTIMEZONE
BEGIN:VEVENT
DTSTAMP:20260421T190538
DTSTART;TZID=Europe/Berlin:20251103T160000
DTEND;TZID=Europe/Berlin:20251103T173000
UID:T01015-20251103T160000@EFBOLDENBURG
SUMMARY:FAZO - "Stricken ist mein Yoga" - Offener Stricktreff mit Anleitung (T01015) 
LOCATION:Ev. Familien-Bildungsstätte, Nähraum,  Gorch-Fock-Str. 5 a, 26135 Oldenburg
END:VEVENT
BEGIN:VEVENT
DTSTAMP:20260421T190538
DTSTART;TZID=Europe/Berlin:20251110T160000
DTEND;TZID=Europe/Berlin:20251110T173000
UID:T01015-20251110T160000@EFBOLDENBURG
SUMMARY:FAZO - "Stricken ist mein Yoga" - Offener Stricktreff mit Anleitung (T01015) 
LOCATION:Ev. Familien-Bildungsstätte, Nähraum,  Gorch-Fock-Str. 5 a, 26135 Oldenburg
END:VEVENT
BEGIN:VEVENT
DTSTAMP:20260421T190538
DTSTART;TZID=Europe/Berlin:20251117T160000
DTEND;TZID=Europe/Berlin:20251117T173000
UID:T01015-20251117T160000@EFBOLDENBURG
SUMMARY:FAZO - "Stricken ist mein Yoga" - Offener Stricktreff mit Anleitung (T01015) 
LOCATION:Ev. Familien-Bildungsstätte, Nähraum,  Gorch-Fock-Str. 5 a, 26135 Oldenburg
END:VEVENT
BEGIN:VEVENT
DTSTAMP:20260421T190538
DTSTART;TZID=Europe/Berlin:20251124T160000
DTEND;TZID=Europe/Berlin:20251124T173000
UID:T01015-20251124T160000@EFBOLDENBURG
SUMMARY:FAZO - "Stricken ist mein Yoga" - Offener Stricktreff mit Anleitung (T01015) 
LOCATION:Ev. Familien-Bildungsstätte, Nähraum,  Gorch-Fock-Str. 5 a, 26135 Oldenburg
END:VEVENT
END:VCALENDAR