BEGIN:VCALENDAR
VERSION:2.0
PRODID:https://www.kufer.de/kuferweb / DE
METHOD:PUBLISH
CALSCALE:GREGORIAN
X-WR-TIMEZONE:Europe/Berlin
BEGIN:VTIMEZONE
TZID:Europe/Berlin
X-LIC-LOCATION:Europe/Berlin
BEGIN:DAYLIGHT
TZOFFSETFROM:+0100
TZOFFSETTO:+0200
TZNAME:CEST
DTSTART:19700329T020000
RRULE:FREQ=YEARLY;INTERVAL=1;BYDAY=-1SU;BYMONTH=3
END:DAYLIGHT
BEGIN:STANDARD
TZOFFSETFROM:+0200
TZOFFSETTO:+0100
TZNAME:CET
DTSTART:19701025T030000
RRULE:FREQ=YEARLY;INTERVAL=1;BYDAY=-1SU;BYMONTH=10
END:STANDARD
END:VTIMEZONE
BEGIN:VEVENT
DTSTAMP:20260422T110311
DTSTART;TZID=Europe/Berlin:20250814T123000
DTEND;TZID=Europe/Berlin:20250814T153000
UID:T03001-20250814T123000@EFBOLDENBURG
SUMMARY:FAZO - Pädagogischer Mittagstisch für Grundschulkinder (T03001) 
LOCATION:Ev. Familien-Bildungsstätte, Werkraum,  Gorch-Fock-Str. 5 a, 26135 Oldenburg
END:VEVENT
BEGIN:VEVENT
DTSTAMP:20260422T110311
DTSTART;TZID=Europe/Berlin:20250818T123000
DTEND;TZID=Europe/Berlin:20250818T153000
UID:T03001-20250818T123000@EFBOLDENBURG
SUMMARY:FAZO - Pädagogischer Mittagstisch für Grundschulkinder (T03001) 
LOCATION:Ev. Familien-Bildungsstätte, Werkraum,  Gorch-Fock-Str. 5 a, 26135 Oldenburg
END:VEVENT
BEGIN:VEVENT
DTSTAMP:20260422T110311
DTSTART;TZID=Europe/Berlin:20250819T123000
DTEND;TZID=Europe/Berlin:20250819T153000
UID:T03001-20250819T123000@EFBOLDENBURG
SUMMARY:FAZO - Pädagogischer Mittagstisch für Grundschulkinder (T03001) 
LOCATION:Ev. Familien-Bildungsstätte, Werkraum,  Gorch-Fock-Str. 5 a, 26135 Oldenburg
END:VEVENT
BEGIN:VEVENT
DTSTAMP:20260422T110311
DTSTART;TZID=Europe/Berlin:20250820T123000
DTEND;TZID=Europe/Berlin:20250820T153000
UID:T03001-20250820T123000@EFBOLDENBURG
SUMMARY:FAZO - Pädagogischer Mittagstisch für Grundschulkinder (T03001) 
LOCATION:Ev. Familien-Bildungsstätte, Werkraum,  Gorch-Fock-Str. 5 a, 26135 Oldenburg
END:VEVENT
BEGIN:VEVENT
DTSTAMP:20260422T110311
DTSTART;TZID=Europe/Berlin:20250821T123000
DTEND;TZID=Europe/Berlin:20250821T153000
UID:T03001-20250821T123000@EFBOLDENBURG
SUMMARY:FAZO - Pädagogischer Mittagstisch für Grundschulkinder (T03001) 
LOCATION:Ev. Familien-Bildungsstätte, Werkraum,  Gorch-Fock-Str. 5 a, 26135 Oldenburg
END:VEVENT
BEGIN:VEVENT
DTSTAMP:20260422T110311
DTSTART;TZID=Europe/Berlin:20250825T123000
DTEND;TZID=Europe/Berlin:20250825T153000
UID:T03001-20250825T123000@EFBOLDENBURG
SUMMARY:FAZO - Pädagogischer Mittagstisch für Grundschulkinder (T03001) 
LOCATION:Ev. Familien-Bildungsstätte, Werkraum,  Gorch-Fock-Str. 5 a, 26135 Oldenburg
END:VEVENT
BEGIN:VEVENT
DTSTAMP:20260422T110311
DTSTART;TZID=Europe/Berlin:20250826T123000
DTEND;TZID=Europe/Berlin:20250826T153000
UID:T03001-20250826T123000@EFBOLDENBURG
SUMMARY:FAZO - Pädagogischer Mittagstisch für Grundschulkinder (T03001) 
LOCATION:Ev. Familien-Bildungsstätte, Werkraum,  Gorch-Fock-Str. 5 a, 26135 Oldenburg
END:VEVENT
BEGIN:VEVENT
DTSTAMP:20260422T110311
DTSTART;TZID=Europe/Berlin:20250827T123000
DTEND;TZID=Europe/Berlin:20250827T153000
UID:T03001-20250827T123000@EFBOLDENBURG
SUMMARY:FAZO - Pädagogischer Mittagstisch für Grundschulkinder (T03001) 
LOCATION:Ev. Familien-Bildungsstätte, Werkraum,  Gorch-Fock-Str. 5 a, 26135 Oldenburg
END:VEVENT
BEGIN:VEVENT
DTSTAMP:20260422T110311
DTSTART;TZID=Europe/Berlin:20250828T123000
DTEND;TZID=Europe/Berlin:20250828T153000
UID:T03001-20250828T123000@EFBOLDENBURG
SUMMARY:FAZO - Pädagogischer Mittagstisch für Grundschulkinder (T03001) 
LOCATION:Ev. Familien-Bildungsstätte, Werkraum,  Gorch-Fock-Str. 5 a, 26135 Oldenburg
END:VEVENT
BEGIN:VEVENT
DTSTAMP:20260422T110311
DTSTART;TZID=Europe/Berlin:20250901T123000
DTEND;TZID=Europe/Berlin:20250901T153000
UID:T03001-20250901T123000@EFBOLDENBURG
SUMMARY:FAZO - Pädagogischer Mittagstisch für Grundschulkinder (T03001) 
LOCATION:Ev. Familien-Bildungsstätte, Werkraum,  Gorch-Fock-Str. 5 a, 26135 Oldenburg
END:VEVENT
BEGIN:VEVENT
DTSTAMP:20260422T110311
DTSTART;TZID=Europe/Berlin:20250902T123000
DTEND;TZID=Europe/Berlin:20250902T153000
UID:T03001-20250902T123000@EFBOLDENBURG
SUMMARY:FAZO - Pädagogischer Mittagstisch für Grundschulkinder (T03001) 
LOCATION:Ev. Familien-Bildungsstätte, Werkraum,  Gorch-Fock-Str. 5 a, 26135 Oldenburg
END:VEVENT
BEGIN:VEVENT
DTSTAMP:20260422T110311
DTSTART;TZID=Europe/Berlin:20250903T123000
DTEND;TZID=Europe/Berlin:20250903T153000
UID:T03001-20250903T123000@EFBOLDENBURG
SUMMARY:FAZO - Pädagogischer Mittagstisch für Grundschulkinder (T03001) 
LOCATION:Ev. Familien-Bildungsstätte, Werkraum,  Gorch-Fock-Str. 5 a, 26135 Oldenburg
END:VEVENT
BEGIN:VEVENT
DTSTAMP:20260422T110311
DTSTART;TZID=Europe/Berlin:20250904T123000
DTEND;TZID=Europe/Berlin:20250904T153000
UID:T03001-20250904T123000@EFBOLDENBURG
SUMMARY:FAZO - Pädagogischer Mittagstisch für Grundschulkinder (T03001) 
LOCATION:Ev. Familien-Bildungsstätte, Werkraum,  Gorch-Fock-Str. 5 a, 26135 Oldenburg
END:VEVENT
BEGIN:VEVENT
DTSTAMP:20260422T110311
DTSTART;TZID=Europe/Berlin:20250908T123000
DTEND;TZID=Europe/Berlin:20250908T153000
UID:T03001-20250908T123000@EFBOLDENBURG
SUMMARY:FAZO - Pädagogischer Mittagstisch für Grundschulkinder (T03001) 
LOCATION:Ev. Familien-Bildungsstätte, Werkraum,  Gorch-Fock-Str. 5 a, 26135 Oldenburg
END:VEVENT
BEGIN:VEVENT
DTSTAMP:20260422T110311
DTSTART;TZID=Europe/Berlin:20250909T123000
DTEND;TZID=Europe/Berlin:20250909T153000
UID:T03001-20250909T123000@EFBOLDENBURG
SUMMARY:FAZO - Pädagogischer Mittagstisch für Grundschulkinder (T03001) 
LOCATION:Ev. Familien-Bildungsstätte, Werkraum,  Gorch-Fock-Str. 5 a, 26135 Oldenburg
END:VEVENT
BEGIN:VEVENT
DTSTAMP:20260422T110311
DTSTART;TZID=Europe/Berlin:20250910T123000
DTEND;TZID=Europe/Berlin:20250910T153000
UID:T03001-20250910T123000@EFBOLDENBURG
SUMMARY:FAZO - Pädagogischer Mittagstisch für Grundschulkinder (T03001) 
LOCATION:Ev. Familien-Bildungsstätte, Werkraum,  Gorch-Fock-Str. 5 a, 26135 Oldenburg
END:VEVENT
BEGIN:VEVENT
DTSTAMP:20260422T110311
DTSTART;TZID=Europe/Berlin:20250911T123000
DTEND;TZID=Europe/Berlin:20250911T153000
UID:T03001-20250911T123000@EFBOLDENBURG
SUMMARY:FAZO - Pädagogischer Mittagstisch für Grundschulkinder (T03001) 
LOCATION:Ev. Familien-Bildungsstätte, Werkraum,  Gorch-Fock-Str. 5 a, 26135 Oldenburg
END:VEVENT
BEGIN:VEVENT
DTSTAMP:20260422T110311
DTSTART;TZID=Europe/Berlin:20250915T123000
DTEND;TZID=Europe/Berlin:20250915T153000
UID:T03001-20250915T123000@EFBOLDENBURG
SUMMARY:FAZO - Pädagogischer Mittagstisch für Grundschulkinder (T03001) 
LOCATION:Ev. Familien-Bildungsstätte, Werkraum,  Gorch-Fock-Str. 5 a, 26135 Oldenburg
END:VEVENT
BEGIN:VEVENT
DTSTAMP:20260422T110311
DTSTART;TZID=Europe/Berlin:20250916T123000
DTEND;TZID=Europe/Berlin:20250916T153000
UID:T03001-20250916T123000@EFBOLDENBURG
SUMMARY:FAZO - Pädagogischer Mittagstisch für Grundschulkinder (T03001) 
LOCATION:Ev. Familien-Bildungsstätte, Werkraum,  Gorch-Fock-Str. 5 a, 26135 Oldenburg
END:VEVENT
BEGIN:VEVENT
DTSTAMP:20260422T110311
DTSTART;TZID=Europe/Berlin:20250917T123000
DTEND;TZID=Europe/Berlin:20250917T153000
UID:T03001-20250917T123000@EFBOLDENBURG
SUMMARY:FAZO - Pädagogischer Mittagstisch für Grundschulkinder (T03001) 
LOCATION:Ev. Familien-Bildungsstätte, Werkraum,  Gorch-Fock-Str. 5 a, 26135 Oldenburg
END:VEVENT
BEGIN:VEVENT
DTSTAMP:20260422T110311
DTSTART;TZID=Europe/Berlin:20250918T123000
DTEND;TZID=Europe/Berlin:20250918T153000
UID:T03001-20250918T123000@EFBOLDENBURG
SUMMARY:FAZO - Pädagogischer Mittagstisch für Grundschulkinder (T03001) 
LOCATION:Ev. Familien-Bildungsstätte, Werkraum,  Gorch-Fock-Str. 5 a, 26135 Oldenburg
END:VEVENT
BEGIN:VEVENT
DTSTAMP:20260422T110311
DTSTART;TZID=Europe/Berlin:20250922T123000
DTEND;TZID=Europe/Berlin:20250922T153000
UID:T03001-20250922T123000@EFBOLDENBURG
SUMMARY:FAZO - Pädagogischer Mittagstisch für Grundschulkinder (T03001) 
LOCATION:Ev. Familien-Bildungsstätte, Werkraum,  Gorch-Fock-Str. 5 a, 26135 Oldenburg
END:VEVENT
BEGIN:VEVENT
DTSTAMP:20260422T110311
DTSTART;TZID=Europe/Berlin:20250923T123000
DTEND;TZID=Europe/Berlin:20250923T153000
UID:T03001-20250923T123000@EFBOLDENBURG
SUMMARY:FAZO - Pädagogischer Mittagstisch für Grundschulkinder (T03001) 
LOCATION:Ev. Familien-Bildungsstätte, Werkraum,  Gorch-Fock-Str. 5 a, 26135 Oldenburg
END:VEVENT
BEGIN:VEVENT
DTSTAMP:20260422T110311
DTSTART;TZID=Europe/Berlin:20250924T123000
DTEND;TZID=Europe/Berlin:20250924T153000
UID:T03001-20250924T123000@EFBOLDENBURG
SUMMARY:FAZO - Pädagogischer Mittagstisch für Grundschulkinder (T03001) 
LOCATION:Ev. Familien-Bildungsstätte, Werkraum,  Gorch-Fock-Str. 5 a, 26135 Oldenburg
END:VEVENT
BEGIN:VEVENT
DTSTAMP:20260422T110311
DTSTART;TZID=Europe/Berlin:20250925T123000
DTEND;TZID=Europe/Berlin:20250925T153000
UID:T03001-20250925T123000@EFBOLDENBURG
SUMMARY:FAZO - Pädagogischer Mittagstisch für Grundschulkinder (T03001) 
LOCATION:Ev. Familien-Bildungsstätte, Werkraum,  Gorch-Fock-Str. 5 a, 26135 Oldenburg
END:VEVENT
BEGIN:VEVENT
DTSTAMP:20260422T110311
DTSTART;TZID=Europe/Berlin:20250929T123000
DTEND;TZID=Europe/Berlin:20250929T153000
UID:T03001-20250929T123000@EFBOLDENBURG
SUMMARY:FAZO - Pädagogischer Mittagstisch für Grundschulkinder (T03001) 
LOCATION:Ev. Familien-Bildungsstätte, Werkraum,  Gorch-Fock-Str. 5 a, 26135 Oldenburg
END:VEVENT
BEGIN:VEVENT
DTSTAMP:20260422T110311
DTSTART;TZID=Europe/Berlin:20250930T123000
DTEND;TZID=Europe/Berlin:20250930T153000
UID:T03001-20250930T123000@EFBOLDENBURG
SUMMARY:FAZO - Pädagogischer Mittagstisch für Grundschulkinder (T03001) 
LOCATION:Ev. Familien-Bildungsstätte, Werkraum,  Gorch-Fock-Str. 5 a, 26135 Oldenburg
END:VEVENT
BEGIN:VEVENT
DTSTAMP:20260422T110311
DTSTART;TZID=Europe/Berlin:20251001T123000
DTEND;TZID=Europe/Berlin:20251001T153000
UID:T03001-20251001T123000@EFBOLDENBURG
SUMMARY:FAZO - Pädagogischer Mittagstisch für Grundschulkinder (T03001) 
LOCATION:Ev. Familien-Bildungsstätte, Werkraum,  Gorch-Fock-Str. 5 a, 26135 Oldenburg
END:VEVENT
BEGIN:VEVENT
DTSTAMP:20260422T110311
DTSTART;TZID=Europe/Berlin:20251002T123000
DTEND;TZID=Europe/Berlin:20251002T153000
UID:T03001-20251002T123000@EFBOLDENBURG
SUMMARY:FAZO - Pädagogischer Mittagstisch für Grundschulkinder (T03001) 
LOCATION:Ev. Familien-Bildungsstätte, Werkraum,  Gorch-Fock-Str. 5 a, 26135 Oldenburg
END:VEVENT
BEGIN:VEVENT
DTSTAMP:20260422T110311
DTSTART;TZID=Europe/Berlin:20251006T123000
DTEND;TZID=Europe/Berlin:20251006T153000
UID:T03001-20251006T123000@EFBOLDENBURG
SUMMARY:FAZO - Pädagogischer Mittagstisch für Grundschulkinder (T03001) 
LOCATION:Ev. Familien-Bildungsstätte, Werkraum,  Gorch-Fock-Str. 5 a, 26135 Oldenburg
END:VEVENT
BEGIN:VEVENT
DTSTAMP:20260422T110311
DTSTART;TZID=Europe/Berlin:20251007T123000
DTEND;TZID=Europe/Berlin:20251007T153000
UID:T03001-20251007T123000@EFBOLDENBURG
SUMMARY:FAZO - Pädagogischer Mittagstisch für Grundschulkinder (T03001) 
LOCATION:Ev. Familien-Bildungsstätte, Werkraum,  Gorch-Fock-Str. 5 a, 26135 Oldenburg
END:VEVENT
BEGIN:VEVENT
DTSTAMP:20260422T110311
DTSTART;TZID=Europe/Berlin:20251008T123000
DTEND;TZID=Europe/Berlin:20251008T153000
UID:T03001-20251008T123000@EFBOLDENBURG
SUMMARY:FAZO - Pädagogischer Mittagstisch für Grundschulkinder (T03001) 
LOCATION:Ev. Familien-Bildungsstätte, Werkraum,  Gorch-Fock-Str. 5 a, 26135 Oldenburg
END:VEVENT
BEGIN:VEVENT
DTSTAMP:20260422T110311
DTSTART;TZID=Europe/Berlin:20251009T123000
DTEND;TZID=Europe/Berlin:20251009T153000
UID:T03001-20251009T123000@EFBOLDENBURG
SUMMARY:FAZO - Pädagogischer Mittagstisch für Grundschulkinder (T03001) 
LOCATION:Ev. Familien-Bildungsstätte, Werkraum,  Gorch-Fock-Str. 5 a, 26135 Oldenburg
END:VEVENT
BEGIN:VEVENT
DTSTAMP:20260422T110311
DTSTART;TZID=Europe/Berlin:20251027T123000
DTEND;TZID=Europe/Berlin:20251027T153000
UID:T03001-20251027T123000@EFBOLDENBURG
SUMMARY:FAZO - Pädagogischer Mittagstisch für Grundschulkinder (T03001) 
LOCATION:Ev. Familien-Bildungsstätte, Werkraum,  Gorch-Fock-Str. 5 a, 26135 Oldenburg
END:VEVENT
BEGIN:VEVENT
DTSTAMP:20260422T110311
DTSTART;TZID=Europe/Berlin:20251028T123000
DTEND;TZID=Europe/Berlin:20251028T153000
UID:T03001-20251028T123000@EFBOLDENBURG
SUMMARY:FAZO - Pädagogischer Mittagstisch für Grundschulkinder (T03001) 
LOCATION:Ev. Familien-Bildungsstätte, Werkraum,  Gorch-Fock-Str. 5 a, 26135 Oldenburg
END:VEVENT
BEGIN:VEVENT
DTSTAMP:20260422T110311
DTSTART;TZID=Europe/Berlin:20251029T123000
DTEND;TZID=Europe/Berlin:20251029T153000
UID:T03001-20251029T123000@EFBOLDENBURG
SUMMARY:FAZO - Pädagogischer Mittagstisch für Grundschulkinder (T03001) 
LOCATION:Ev. Familien-Bildungsstätte, Werkraum,  Gorch-Fock-Str. 5 a, 26135 Oldenburg
END:VEVENT
BEGIN:VEVENT
DTSTAMP:20260422T110311
DTSTART;TZID=Europe/Berlin:20251030T123000
DTEND;TZID=Europe/Berlin:20251030T153000
UID:T03001-20251030T123000@EFBOLDENBURG
SUMMARY:FAZO - Pädagogischer Mittagstisch für Grundschulkinder (T03001) 
LOCATION:Ev. Familien-Bildungsstätte, Werkraum,  Gorch-Fock-Str. 5 a, 26135 Oldenburg
END:VEVENT
BEGIN:VEVENT
DTSTAMP:20260422T110311
DTSTART;TZID=Europe/Berlin:20251103T123000
DTEND;TZID=Europe/Berlin:20251103T153000
UID:T03001-20251103T123000@EFBOLDENBURG
SUMMARY:FAZO - Pädagogischer Mittagstisch für Grundschulkinder (T03001) 
LOCATION:Ev. Familien-Bildungsstätte, Werkraum,  Gorch-Fock-Str. 5 a, 26135 Oldenburg
END:VEVENT
BEGIN:VEVENT
DTSTAMP:20260422T110311
DTSTART;TZID=Europe/Berlin:20251104T123000
DTEND;TZID=Europe/Berlin:20251104T153000
UID:T03001-20251104T123000@EFBOLDENBURG
SUMMARY:FAZO - Pädagogischer Mittagstisch für Grundschulkinder (T03001) 
LOCATION:Ev. Familien-Bildungsstätte, Werkraum,  Gorch-Fock-Str. 5 a, 26135 Oldenburg
END:VEVENT
BEGIN:VEVENT
DTSTAMP:20260422T110311
DTSTART;TZID=Europe/Berlin:20251105T123000
DTEND;TZID=Europe/Berlin:20251105T153000
UID:T03001-20251105T123000@EFBOLDENBURG
SUMMARY:FAZO - Pädagogischer Mittagstisch für Grundschulkinder (T03001) 
LOCATION:Ev. Familien-Bildungsstätte, Werkraum,  Gorch-Fock-Str. 5 a, 26135 Oldenburg
END:VEVENT
BEGIN:VEVENT
DTSTAMP:20260422T110311
DTSTART;TZID=Europe/Berlin:20251106T123000
DTEND;TZID=Europe/Berlin:20251106T153000
UID:T03001-20251106T123000@EFBOLDENBURG
SUMMARY:FAZO - Pädagogischer Mittagstisch für Grundschulkinder (T03001) 
LOCATION:Ev. Familien-Bildungsstätte, Werkraum,  Gorch-Fock-Str. 5 a, 26135 Oldenburg
END:VEVENT
BEGIN:VEVENT
DTSTAMP:20260422T110311
DTSTART;TZID=Europe/Berlin:20251110T123000
DTEND;TZID=Europe/Berlin:20251110T153000
UID:T03001-20251110T123000@EFBOLDENBURG
SUMMARY:FAZO - Pädagogischer Mittagstisch für Grundschulkinder (T03001) 
LOCATION:Ev. Familien-Bildungsstätte, Werkraum,  Gorch-Fock-Str. 5 a, 26135 Oldenburg
END:VEVENT
BEGIN:VEVENT
DTSTAMP:20260422T110311
DTSTART;TZID=Europe/Berlin:20251111T123000
DTEND;TZID=Europe/Berlin:20251111T153000
UID:T03001-20251111T123000@EFBOLDENBURG
SUMMARY:FAZO - Pädagogischer Mittagstisch für Grundschulkinder (T03001) 
LOCATION:Ev. Familien-Bildungsstätte, Werkraum,  Gorch-Fock-Str. 5 a, 26135 Oldenburg
END:VEVENT
BEGIN:VEVENT
DTSTAMP:20260422T110311
DTSTART;TZID=Europe/Berlin:20251112T123000
DTEND;TZID=Europe/Berlin:20251112T153000
UID:T03001-20251112T123000@EFBOLDENBURG
SUMMARY:FAZO - Pädagogischer Mittagstisch für Grundschulkinder (T03001) 
LOCATION:Ev. Familien-Bildungsstätte, Werkraum,  Gorch-Fock-Str. 5 a, 26135 Oldenburg
END:VEVENT
BEGIN:VEVENT
DTSTAMP:20260422T110311
DTSTART;TZID=Europe/Berlin:20251113T123000
DTEND;TZID=Europe/Berlin:20251113T153000
UID:T03001-20251113T123000@EFBOLDENBURG
SUMMARY:FAZO - Pädagogischer Mittagstisch für Grundschulkinder (T03001) 
LOCATION:Ev. Familien-Bildungsstätte, Werkraum,  Gorch-Fock-Str. 5 a, 26135 Oldenburg
END:VEVENT
BEGIN:VEVENT
DTSTAMP:20260422T110311
DTSTART;TZID=Europe/Berlin:20251117T123000
DTEND;TZID=Europe/Berlin:20251117T153000
UID:T03001-20251117T123000@EFBOLDENBURG
SUMMARY:FAZO - Pädagogischer Mittagstisch für Grundschulkinder (T03001) 
LOCATION:Ev. Familien-Bildungsstätte, Werkraum,  Gorch-Fock-Str. 5 a, 26135 Oldenburg
END:VEVENT
BEGIN:VEVENT
DTSTAMP:20260422T110311
DTSTART;TZID=Europe/Berlin:20251118T123000
DTEND;TZID=Europe/Berlin:20251118T153000
UID:T03001-20251118T123000@EFBOLDENBURG
SUMMARY:FAZO - Pädagogischer Mittagstisch für Grundschulkinder (T03001) 
LOCATION:Ev. Familien-Bildungsstätte, Werkraum,  Gorch-Fock-Str. 5 a, 26135 Oldenburg
END:VEVENT
BEGIN:VEVENT
DTSTAMP:20260422T110311
DTSTART;TZID=Europe/Berlin:20251119T123000
DTEND;TZID=Europe/Berlin:20251119T153000
UID:T03001-20251119T123000@EFBOLDENBURG
SUMMARY:FAZO - Pädagogischer Mittagstisch für Grundschulkinder (T03001) 
LOCATION:Ev. Familien-Bildungsstätte, Werkraum,  Gorch-Fock-Str. 5 a, 26135 Oldenburg
END:VEVENT
BEGIN:VEVENT
DTSTAMP:20260422T110311
DTSTART;TZID=Europe/Berlin:20251120T123000
DTEND;TZID=Europe/Berlin:20251120T153000
UID:T03001-20251120T123000@EFBOLDENBURG
SUMMARY:FAZO - Pädagogischer Mittagstisch für Grundschulkinder (T03001) 
LOCATION:Ev. Familien-Bildungsstätte, Werkraum,  Gorch-Fock-Str. 5 a, 26135 Oldenburg
END:VEVENT
BEGIN:VEVENT
DTSTAMP:20260422T110311
DTSTART;TZID=Europe/Berlin:20251124T123000
DTEND;TZID=Europe/Berlin:20251124T153000
UID:T03001-20251124T123000@EFBOLDENBURG
SUMMARY:FAZO - Pädagogischer Mittagstisch für Grundschulkinder (T03001) 
LOCATION:Ev. Familien-Bildungsstätte, Werkraum,  Gorch-Fock-Str. 5 a, 26135 Oldenburg
END:VEVENT
BEGIN:VEVENT
DTSTAMP:20260422T110311
DTSTART;TZID=Europe/Berlin:20251125T123000
DTEND;TZID=Europe/Berlin:20251125T153000
UID:T03001-20251125T123000@EFBOLDENBURG
SUMMARY:FAZO - Pädagogischer Mittagstisch für Grundschulkinder (T03001) 
LOCATION:Ev. Familien-Bildungsstätte, Werkraum,  Gorch-Fock-Str. 5 a, 26135 Oldenburg
END:VEVENT
BEGIN:VEVENT
DTSTAMP:20260422T110311
DTSTART;TZID=Europe/Berlin:20251126T123000
DTEND;TZID=Europe/Berlin:20251126T153000
UID:T03001-20251126T123000@EFBOLDENBURG
SUMMARY:FAZO - Pädagogischer Mittagstisch für Grundschulkinder (T03001) 
LOCATION:Ev. Familien-Bildungsstätte, Werkraum,  Gorch-Fock-Str. 5 a, 26135 Oldenburg
END:VEVENT
BEGIN:VEVENT
DTSTAMP:20260422T110311
DTSTART;TZID=Europe/Berlin:20251127T123000
DTEND;TZID=Europe/Berlin:20251127T153000
UID:T03001-20251127T123000@EFBOLDENBURG
SUMMARY:FAZO - Pädagogischer Mittagstisch für Grundschulkinder (T03001) 
LOCATION:Ev. Familien-Bildungsstätte, Werkraum,  Gorch-Fock-Str. 5 a, 26135 Oldenburg
END:VEVENT
BEGIN:VEVENT
DTSTAMP:20260422T110311
DTSTART;TZID=Europe/Berlin:20251201T123000
DTEND;TZID=Europe/Berlin:20251201T153000
UID:T03001-20251201T123000@EFBOLDENBURG
SUMMARY:FAZO - Pädagogischer Mittagstisch für Grundschulkinder (T03001) 
LOCATION:Ev. Familien-Bildungsstätte, Werkraum,  Gorch-Fock-Str. 5 a, 26135 Oldenburg
END:VEVENT
BEGIN:VEVENT
DTSTAMP:20260422T110311
DTSTART;TZID=Europe/Berlin:20251202T123000
DTEND;TZID=Europe/Berlin:20251202T153000
UID:T03001-20251202T123000@EFBOLDENBURG
SUMMARY:FAZO - Pädagogischer Mittagstisch für Grundschulkinder (T03001) 
LOCATION:Ev. Familien-Bildungsstätte, Werkraum,  Gorch-Fock-Str. 5 a, 26135 Oldenburg
END:VEVENT
BEGIN:VEVENT
DTSTAMP:20260422T110311
DTSTART;TZID=Europe/Berlin:20251203T123000
DTEND;TZID=Europe/Berlin:20251203T153000
UID:T03001-20251203T123000@EFBOLDENBURG
SUMMARY:FAZO - Pädagogischer Mittagstisch für Grundschulkinder (T03001) 
LOCATION:Ev. Familien-Bildungsstätte, Werkraum,  Gorch-Fock-Str. 5 a, 26135 Oldenburg
END:VEVENT
BEGIN:VEVENT
DTSTAMP:20260422T110311
DTSTART;TZID=Europe/Berlin:20251204T123000
DTEND;TZID=Europe/Berlin:20251204T153000
UID:T03001-20251204T123000@EFBOLDENBURG
SUMMARY:FAZO - Pädagogischer Mittagstisch für Grundschulkinder (T03001) 
LOCATION:Ev. Familien-Bildungsstätte, Werkraum,  Gorch-Fock-Str. 5 a, 26135 Oldenburg
END:VEVENT
BEGIN:VEVENT
DTSTAMP:20260422T110311
DTSTART;TZID=Europe/Berlin:20251208T123000
DTEND;TZID=Europe/Berlin:20251208T153000
UID:T03001-20251208T123000@EFBOLDENBURG
SUMMARY:FAZO - Pädagogischer Mittagstisch für Grundschulkinder (T03001) 
LOCATION:Ev. Familien-Bildungsstätte, Werkraum,  Gorch-Fock-Str. 5 a, 26135 Oldenburg
END:VEVENT
BEGIN:VEVENT
DTSTAMP:20260422T110311
DTSTART;TZID=Europe/Berlin:20251209T123000
DTEND;TZID=Europe/Berlin:20251209T153000
UID:T03001-20251209T123000@EFBOLDENBURG
SUMMARY:FAZO - Pädagogischer Mittagstisch für Grundschulkinder (T03001) 
LOCATION:Ev. Familien-Bildungsstätte, Werkraum,  Gorch-Fock-Str. 5 a, 26135 Oldenburg
END:VEVENT
BEGIN:VEVENT
DTSTAMP:20260422T110311
DTSTART;TZID=Europe/Berlin:20251210T123000
DTEND;TZID=Europe/Berlin:20251210T153000
UID:T03001-20251210T123000@EFBOLDENBURG
SUMMARY:FAZO - Pädagogischer Mittagstisch für Grundschulkinder (T03001) 
LOCATION:Ev. Familien-Bildungsstätte, Werkraum,  Gorch-Fock-Str. 5 a, 26135 Oldenburg
END:VEVENT
BEGIN:VEVENT
DTSTAMP:20260422T110311
DTSTART;TZID=Europe/Berlin:20251211T123000
DTEND;TZID=Europe/Berlin:20251211T153000
UID:T03001-20251211T123000@EFBOLDENBURG
SUMMARY:FAZO - Pädagogischer Mittagstisch für Grundschulkinder (T03001) 
LOCATION:Ev. Familien-Bildungsstätte, Werkraum,  Gorch-Fock-Str. 5 a, 26135 Oldenburg
END:VEVENT
BEGIN:VEVENT
DTSTAMP:20260422T110311
DTSTART;TZID=Europe/Berlin:20251215T123000
DTEND;TZID=Europe/Berlin:20251215T153000
UID:T03001-20251215T123000@EFBOLDENBURG
SUMMARY:FAZO - Pädagogischer Mittagstisch für Grundschulkinder (T03001) 
LOCATION:Ev. Familien-Bildungsstätte, Werkraum,  Gorch-Fock-Str. 5 a, 26135 Oldenburg
END:VEVENT
BEGIN:VEVENT
DTSTAMP:20260422T110311
DTSTART;TZID=Europe/Berlin:20251216T123000
DTEND;TZID=Europe/Berlin:20251216T153000
UID:T03001-20251216T123000@EFBOLDENBURG
SUMMARY:FAZO - Pädagogischer Mittagstisch für Grundschulkinder (T03001) 
LOCATION:Ev. Familien-Bildungsstätte, Werkraum,  Gorch-Fock-Str. 5 a, 26135 Oldenburg
END:VEVENT
BEGIN:VEVENT
DTSTAMP:20260422T110311
DTSTART;TZID=Europe/Berlin:20251217T123000
DTEND;TZID=Europe/Berlin:20251217T153000
UID:T03001-20251217T123000@EFBOLDENBURG
SUMMARY:FAZO - Pädagogischer Mittagstisch für Grundschulkinder (T03001) 
LOCATION:Ev. Familien-Bildungsstätte, Werkraum,  Gorch-Fock-Str. 5 a, 26135 Oldenburg
END:VEVENT
BEGIN:VEVENT
DTSTAMP:20260422T110311
DTSTART;TZID=Europe/Berlin:20251218T123000
DTEND;TZID=Europe/Berlin:20251218T153000
UID:T03001-20251218T123000@EFBOLDENBURG
SUMMARY:FAZO - Pädagogischer Mittagstisch für Grundschulkinder (T03001) 
LOCATION:Ev. Familien-Bildungsstätte, Werkraum,  Gorch-Fock-Str. 5 a, 26135 Oldenburg
END:VEVENT
END:VCALENDAR