BEGIN:VCALENDAR
VERSION:2.0
PRODID:https://www.kufer.de/kuferweb / DE
METHOD:PUBLISH
CALSCALE:GREGORIAN
X-WR-TIMEZONE:Europe/Berlin
BEGIN:VTIMEZONE
TZID:Europe/Berlin
X-LIC-LOCATION:Europe/Berlin
BEGIN:DAYLIGHT
TZOFFSETFROM:+0100
TZOFFSETTO:+0200
TZNAME:CEST
DTSTART:19700329T020000
RRULE:FREQ=YEARLY;INTERVAL=1;BYDAY=-1SU;BYMONTH=3
END:DAYLIGHT
BEGIN:STANDARD
TZOFFSETFROM:+0200
TZOFFSETTO:+0100
TZNAME:CET
DTSTART:19701025T030000
RRULE:FREQ=YEARLY;INTERVAL=1;BYDAY=-1SU;BYMONTH=10
END:STANDARD
END:VTIMEZONE
BEGIN:VEVENT
DTSTAMP:20260421T210120
DTSTART;TZID=Europe/Berlin:20250814T180000
DTEND;TZID=Europe/Berlin:20250814T193000
UID:T03301-20250814T180000@EFBOLDENBURG
SUMMARY:FAZO - Ukulele - Spaß am gemeinsamen Musizieren (T03301) 
LOCATION:Ev. Familien-Bildungsstätte, Nähraum,  Gorch-Fock-Str. 5 a, 26135 Oldenburg
END:VEVENT
BEGIN:VEVENT
DTSTAMP:20260421T210120
DTSTART;TZID=Europe/Berlin:20250828T180000
DTEND;TZID=Europe/Berlin:20250828T193000
UID:T03301-20250828T180000@EFBOLDENBURG
SUMMARY:FAZO - Ukulele - Spaß am gemeinsamen Musizieren (T03301) 
LOCATION:Ev. Familien-Bildungsstätte, Nähraum,  Gorch-Fock-Str. 5 a, 26135 Oldenburg
END:VEVENT
BEGIN:VEVENT
DTSTAMP:20260421T210120
DTSTART;TZID=Europe/Berlin:20250911T180000
DTEND;TZID=Europe/Berlin:20250911T193000
UID:T03301-20250911T180000@EFBOLDENBURG
SUMMARY:FAZO - Ukulele - Spaß am gemeinsamen Musizieren (T03301) 
LOCATION:Ev. Familien-Bildungsstätte, Nähraum,  Gorch-Fock-Str. 5 a, 26135 Oldenburg
END:VEVENT
BEGIN:VEVENT
DTSTAMP:20260421T210120
DTSTART;TZID=Europe/Berlin:20250925T180000
DTEND;TZID=Europe/Berlin:20250925T193000
UID:T03301-20250925T180000@EFBOLDENBURG
SUMMARY:FAZO - Ukulele - Spaß am gemeinsamen Musizieren (T03301) 
LOCATION:Ev. Familien-Bildungsstätte, Gesprächsraum, Gorch-Fock-Str. 5 a, 26135 Oldenburg
END:VEVENT
BEGIN:VEVENT
DTSTAMP:20260421T210120
DTSTART;TZID=Europe/Berlin:20251009T180000
DTEND;TZID=Europe/Berlin:20251009T193000
UID:T03301-20251009T180000@EFBOLDENBURG
SUMMARY:FAZO - Ukulele - Spaß am gemeinsamen Musizieren (T03301) 
LOCATION:Ev. Familien-Bildungsstätte, Nähraum,  Gorch-Fock-Str. 5 a, 26135 Oldenburg
END:VEVENT
BEGIN:VEVENT
DTSTAMP:20260421T210120
DTSTART;TZID=Europe/Berlin:20251106T180000
DTEND;TZID=Europe/Berlin:20251106T193000
UID:T03301-20251106T180000@EFBOLDENBURG
SUMMARY:FAZO - Ukulele - Spaß am gemeinsamen Musizieren (T03301) 
LOCATION:Ev. Familien-Bildungsstätte, Gesprächsraum, Gorch-Fock-Str. 5 a, 26135 Oldenburg
END:VEVENT
BEGIN:VEVENT
DTSTAMP:20260421T210120
DTSTART;TZID=Europe/Berlin:20251120T180000
DTEND;TZID=Europe/Berlin:20251120T193000
UID:T03301-20251120T180000@EFBOLDENBURG
SUMMARY:FAZO - Ukulele - Spaß am gemeinsamen Musizieren (T03301) 
LOCATION:Ev. Familien-Bildungsstätte, Gesprächsraum, Gorch-Fock-Str. 5 a, 26135 Oldenburg
END:VEVENT
BEGIN:VEVENT
DTSTAMP:20260421T210120
DTSTART;TZID=Europe/Berlin:20251204T180000
DTEND;TZID=Europe/Berlin:20251204T193000
UID:T03301-20251204T180000@EFBOLDENBURG
SUMMARY:FAZO - Ukulele - Spaß am gemeinsamen Musizieren (T03301) 
LOCATION:Ev. Familien-Bildungsstätte, Nähraum,  Gorch-Fock-Str. 5 a, 26135 Oldenburg
END:VEVENT
BEGIN:VEVENT
DTSTAMP:20260421T210120
DTSTART;TZID=Europe/Berlin:20251218T180000
DTEND;TZID=Europe/Berlin:20251218T193000
UID:T03301-20251218T180000@EFBOLDENBURG
SUMMARY:FAZO - Ukulele - Spaß am gemeinsamen Musizieren (T03301) 
LOCATION:Ev. Familien-Bildungsstätte, Nähraum,  Gorch-Fock-Str. 5 a, 26135 Oldenburg
END:VEVENT
END:VCALENDAR