BEGIN:VCALENDAR
VERSION:2.0
PRODID:https://www.kufer.de/kuferweb / DE
METHOD:PUBLISH
CALSCALE:GREGORIAN
X-WR-TIMEZONE:Europe/Berlin
BEGIN:VTIMEZONE
TZID:Europe/Berlin
X-LIC-LOCATION:Europe/Berlin
BEGIN:DAYLIGHT
TZOFFSETFROM:+0100
TZOFFSETTO:+0200
TZNAME:CEST
DTSTART:19700329T020000
RRULE:FREQ=YEARLY;INTERVAL=1;BYDAY=-1SU;BYMONTH=3
END:DAYLIGHT
BEGIN:STANDARD
TZOFFSETFROM:+0200
TZOFFSETTO:+0100
TZNAME:CET
DTSTART:19701025T030000
RRULE:FREQ=YEARLY;INTERVAL=1;BYDAY=-1SU;BYMONTH=10
END:STANDARD
END:VTIMEZONE
BEGIN:VEVENT
DTSTAMP:20260421T234850
DTSTART;TZID=Europe/Berlin:20250815T153000
DTEND;TZID=Europe/Berlin:20250815T174500
UID:T05001-20250815T153000@EFBOLDENBURG
SUMMARY:FAZO - "Papa-Zeit - für Väter und ihre Kinder unter 4 Jahren" (T05001) 
LOCATION:Ev. Familien-Bildungsstätte, Kinderraum, Gorch-Fock-Str. 5 a, 26135 Oldenburg
END:VEVENT
BEGIN:VEVENT
DTSTAMP:20260421T234850
DTSTART;TZID=Europe/Berlin:20250822T153000
DTEND;TZID=Europe/Berlin:20250822T174500
UID:T05001-20250822T153000@EFBOLDENBURG
SUMMARY:FAZO - "Papa-Zeit - für Väter und ihre Kinder unter 4 Jahren" (T05001) 
LOCATION:Ev. Familien-Bildungsstätte, Kinderraum, Gorch-Fock-Str. 5 a, 26135 Oldenburg
END:VEVENT
BEGIN:VEVENT
DTSTAMP:20260421T234850
DTSTART;TZID=Europe/Berlin:20250829T153000
DTEND;TZID=Europe/Berlin:20250829T174500
UID:T05001-20250829T153000@EFBOLDENBURG
SUMMARY:FAZO - "Papa-Zeit - für Väter und ihre Kinder unter 4 Jahren" (T05001) 
LOCATION:Ev. Familien-Bildungsstätte, Kinderraum, Gorch-Fock-Str. 5 a, 26135 Oldenburg
END:VEVENT
END:VCALENDAR