BEGIN:VCALENDAR
VERSION:2.0
PRODID:https://www.kufer.de/kuferweb / DE
METHOD:PUBLISH
CALSCALE:GREGORIAN
X-WR-TIMEZONE:Europe/Berlin
BEGIN:VTIMEZONE
TZID:Europe/Berlin
X-LIC-LOCATION:Europe/Berlin
BEGIN:DAYLIGHT
TZOFFSETFROM:+0100
TZOFFSETTO:+0200
TZNAME:CEST
DTSTART:19700329T020000
RRULE:FREQ=YEARLY;INTERVAL=1;BYDAY=-1SU;BYMONTH=3
END:DAYLIGHT
BEGIN:STANDARD
TZOFFSETFROM:+0200
TZOFFSETTO:+0100
TZNAME:CET
DTSTART:19701025T030000
RRULE:FREQ=YEARLY;INTERVAL=1;BYDAY=-1SU;BYMONTH=10
END:STANDARD
END:VTIMEZONE
BEGIN:VEVENT
DTSTAMP:20260421T191608
DTSTART;TZID=Europe/Berlin:20251015T174500
DTEND;TZID=Europe/Berlin:20251015T191500
UID:T13001-20251015T174500@EFBOLDENBURG
SUMMARY:Geburtsvorbereitung für Frauen/Paare (T13001) 
LOCATION:Ev. Familien-Bildungsstätte, Kinderraum, Gorch-Fock-Str. 5 a, 26135 Oldenburg
END:VEVENT
BEGIN:VEVENT
DTSTAMP:20260421T191608
DTSTART;TZID=Europe/Berlin:20251022T174500
DTEND;TZID=Europe/Berlin:20251022T191500
UID:T13001-20251022T174500@EFBOLDENBURG
SUMMARY:Geburtsvorbereitung für Frauen/Paare (T13001) 
LOCATION:Ev. Familien-Bildungsstätte, Kinderraum, Gorch-Fock-Str. 5 a, 26135 Oldenburg
END:VEVENT
BEGIN:VEVENT
DTSTAMP:20260421T191608
DTSTART;TZID=Europe/Berlin:20251029T174500
DTEND;TZID=Europe/Berlin:20251029T191500
UID:T13001-20251029T174500@EFBOLDENBURG
SUMMARY:Geburtsvorbereitung für Frauen/Paare (T13001) 
LOCATION:Ev. Familien-Bildungsstätte, Kinderraum, Gorch-Fock-Str. 5 a, 26135 Oldenburg
END:VEVENT
BEGIN:VEVENT
DTSTAMP:20260421T191608
DTSTART;TZID=Europe/Berlin:20251105T174500
DTEND;TZID=Europe/Berlin:20251105T191500
UID:T13001-20251105T174500@EFBOLDENBURG
SUMMARY:Geburtsvorbereitung für Frauen/Paare (T13001) 
LOCATION:Ev. Familien-Bildungsstätte, Kinderraum, Gorch-Fock-Str. 5 a, 26135 Oldenburg
END:VEVENT
BEGIN:VEVENT
DTSTAMP:20260421T191608
DTSTART;TZID=Europe/Berlin:20251112T174500
DTEND;TZID=Europe/Berlin:20251112T191500
UID:T13001-20251112T174500@EFBOLDENBURG
SUMMARY:Geburtsvorbereitung für Frauen/Paare (T13001) 
LOCATION:Ev. Familien-Bildungsstätte, Kinderraum, Gorch-Fock-Str. 5 a, 26135 Oldenburg
END:VEVENT
BEGIN:VEVENT
DTSTAMP:20260421T191608
DTSTART;TZID=Europe/Berlin:20251119T174500
DTEND;TZID=Europe/Berlin:20251119T191500
UID:T13001-20251119T174500@EFBOLDENBURG
SUMMARY:Geburtsvorbereitung für Frauen/Paare (T13001) 
LOCATION:Ev. Familien-Bildungsstätte, Kinderraum, Gorch-Fock-Str. 5 a, 26135 Oldenburg
END:VEVENT
BEGIN:VEVENT
DTSTAMP:20260421T191608
DTSTART;TZID=Europe/Berlin:20251126T174500
DTEND;TZID=Europe/Berlin:20251126T191500
UID:T13001-20251126T174500@EFBOLDENBURG
SUMMARY:Geburtsvorbereitung für Frauen/Paare (T13001) 
LOCATION:Ev. Familien-Bildungsstätte, Kinderraum, Gorch-Fock-Str. 5 a, 26135 Oldenburg
END:VEVENT
BEGIN:VEVENT
DTSTAMP:20260421T191608
DTSTART;TZID=Europe/Berlin:20251203T174500
DTEND;TZID=Europe/Berlin:20251203T191500
UID:T13001-20251203T174500@EFBOLDENBURG
DESCRIPTION:Ersatz für Ausfall am 08.10.2025
SUMMARY:Geburtsvorbereitung für Frauen/Paare (T13001) 
LOCATION:Ev. Familien-Bildungsstätte, Kinderraum, Gorch-Fock-Str. 5 a, 26135 Oldenburg
END:VEVENT
END:VCALENDAR