BEGIN:VCALENDAR
VERSION:2.0
PRODID:https://www.kufer.de/kuferweb / DE
METHOD:PUBLISH
CALSCALE:GREGORIAN
X-WR-TIMEZONE:Europe/Berlin
BEGIN:VTIMEZONE
TZID:Europe/Berlin
X-LIC-LOCATION:Europe/Berlin
BEGIN:DAYLIGHT
TZOFFSETFROM:+0100
TZOFFSETTO:+0200
TZNAME:CEST
DTSTART:19700329T020000
RRULE:FREQ=YEARLY;INTERVAL=1;BYDAY=-1SU;BYMONTH=3
END:DAYLIGHT
BEGIN:STANDARD
TZOFFSETFROM:+0200
TZOFFSETTO:+0100
TZNAME:CET
DTSTART:19701025T030000
RRULE:FREQ=YEARLY;INTERVAL=1;BYDAY=-1SU;BYMONTH=10
END:STANDARD
END:VTIMEZONE
BEGIN:VEVENT
DTSTAMP:20260423T105706
DTSTART;TZID=Europe/Berlin:20251118T093000
DTEND;TZID=Europe/Berlin:20251118T103000
UID:T13006-20251118T093000@EFBOLDENBURG
SUMMARY:Rückbildungsgymnastik mit Baby (T13006) 
LOCATION:Ev. Familien-Bildungsstätte, Saal, Gorch-Fock-Str. 5 a, 26135 Oldenburg
END:VEVENT
BEGIN:VEVENT
DTSTAMP:20260423T105706
DTSTART;TZID=Europe/Berlin:20251125T093000
DTEND;TZID=Europe/Berlin:20251125T103000
UID:T13006-20251125T093000@EFBOLDENBURG
SUMMARY:Rückbildungsgymnastik mit Baby (T13006) 
LOCATION:Ev. Familien-Bildungsstätte, Saal, Gorch-Fock-Str. 5 a, 26135 Oldenburg
END:VEVENT
BEGIN:VEVENT
DTSTAMP:20260423T105706
DTSTART;TZID=Europe/Berlin:20251202T093000
DTEND;TZID=Europe/Berlin:20251202T103000
UID:T13006-20251202T093000@EFBOLDENBURG
SUMMARY:Rückbildungsgymnastik mit Baby (T13006) 
LOCATION:Ev. Familien-Bildungsstätte, Saal, Gorch-Fock-Str. 5 a, 26135 Oldenburg
END:VEVENT
BEGIN:VEVENT
DTSTAMP:20260423T105706
DTSTART;TZID=Europe/Berlin:20251209T093000
DTEND;TZID=Europe/Berlin:20251209T103000
UID:T13006-20251209T093000@EFBOLDENBURG
SUMMARY:Rückbildungsgymnastik mit Baby (T13006) 
LOCATION:Ev. Familien-Bildungsstätte, Saal, Gorch-Fock-Str. 5 a, 26135 Oldenburg
END:VEVENT
BEGIN:VEVENT
DTSTAMP:20260423T105706
DTSTART;TZID=Europe/Berlin:20251216T093000
DTEND;TZID=Europe/Berlin:20251216T103000
UID:T13006-20251216T093000@EFBOLDENBURG
SUMMARY:Rückbildungsgymnastik mit Baby (T13006) 
LOCATION:Ev. Familien-Bildungsstätte, Saal, Gorch-Fock-Str. 5 a, 26135 Oldenburg
END:VEVENT
BEGIN:VEVENT
DTSTAMP:20260423T105706
DTSTART;TZID=Europe/Berlin:20260106T093000
DTEND;TZID=Europe/Berlin:20260106T103000
UID:T13006-20260106T093000@EFBOLDENBURG
SUMMARY:Rückbildungsgymnastik mit Baby (T13006) 
LOCATION:Ev. Familien-Bildungsstätte, Saal, Gorch-Fock-Str. 5 a, 26135 Oldenburg
END:VEVENT
BEGIN:VEVENT
DTSTAMP:20260423T105706
DTSTART;TZID=Europe/Berlin:20260113T093000
DTEND;TZID=Europe/Berlin:20260113T103000
UID:T13006-20260113T093000@EFBOLDENBURG
SUMMARY:Rückbildungsgymnastik mit Baby (T13006) 
LOCATION:Ev. Familien-Bildungsstätte, Saal, Gorch-Fock-Str. 5 a, 26135 Oldenburg
END:VEVENT
BEGIN:VEVENT
DTSTAMP:20260423T105706
DTSTART;TZID=Europe/Berlin:20260120T093000
DTEND;TZID=Europe/Berlin:20260120T103000
UID:T13006-20260120T093000@EFBOLDENBURG
SUMMARY:Rückbildungsgymnastik mit Baby (T13006) 
LOCATION:Ev. Familien-Bildungsstätte, Saal, Gorch-Fock-Str. 5 a, 26135 Oldenburg
END:VEVENT
END:VCALENDAR