BEGIN:VCALENDAR
VERSION:2.0
PRODID:https://www.kufer.de/kuferweb / DE
METHOD:PUBLISH
CALSCALE:GREGORIAN
X-WR-TIMEZONE:Europe/Berlin
BEGIN:VTIMEZONE
TZID:Europe/Berlin
X-LIC-LOCATION:Europe/Berlin
BEGIN:DAYLIGHT
TZOFFSETFROM:+0100
TZOFFSETTO:+0200
TZNAME:CEST
DTSTART:19700329T020000
RRULE:FREQ=YEARLY;INTERVAL=1;BYDAY=-1SU;BYMONTH=3
END:DAYLIGHT
BEGIN:STANDARD
TZOFFSETFROM:+0200
TZOFFSETTO:+0100
TZNAME:CET
DTSTART:19701025T030000
RRULE:FREQ=YEARLY;INTERVAL=1;BYDAY=-1SU;BYMONTH=10
END:STANDARD
END:VTIMEZONE
BEGIN:VEVENT
DTSTAMP:20260421T182700
DTSTART;TZID=Europe/Berlin:20250901T104500
DTEND;TZID=Europe/Berlin:20250901T121500
UID:T14002-20250901T104500@EFBOLDENBURG
SUMMARY:DELFI ®  November/Dezember  2024 geborene Kinder 2.Teil (T14002) 
LOCATION:Ev. Familien-Bildungsstätte, Kinderraum, Gorch-Fock-Str. 5 a, 26135 Oldenburg
END:VEVENT
BEGIN:VEVENT
DTSTAMP:20260421T182700
DTSTART;TZID=Europe/Berlin:20250908T104500
DTEND;TZID=Europe/Berlin:20250908T121500
UID:T14002-20250908T104500@EFBOLDENBURG
SUMMARY:DELFI ®  November/Dezember  2024 geborene Kinder 2.Teil (T14002) 
LOCATION:Ev. Familien-Bildungsstätte, Kinderraum, Gorch-Fock-Str. 5 a, 26135 Oldenburg
END:VEVENT
BEGIN:VEVENT
DTSTAMP:20260421T182700
DTSTART;TZID=Europe/Berlin:20250915T104500
DTEND;TZID=Europe/Berlin:20250915T121500
UID:T14002-20250915T104500@EFBOLDENBURG
SUMMARY:DELFI ®  November/Dezember  2024 geborene Kinder 2.Teil (T14002) 
LOCATION:Ev. Familien-Bildungsstätte, Kinderraum, Gorch-Fock-Str. 5 a, 26135 Oldenburg
END:VEVENT
BEGIN:VEVENT
DTSTAMP:20260421T182700
DTSTART;TZID=Europe/Berlin:20250922T104500
DTEND;TZID=Europe/Berlin:20250922T121500
UID:T14002-20250922T104500@EFBOLDENBURG
SUMMARY:DELFI ®  November/Dezember  2024 geborene Kinder 2.Teil (T14002) 
LOCATION:Ev. Familien-Bildungsstätte, Kinderraum, Gorch-Fock-Str. 5 a, 26135 Oldenburg
END:VEVENT
BEGIN:VEVENT
DTSTAMP:20260421T182700
DTSTART;TZID=Europe/Berlin:20250929T104500
DTEND;TZID=Europe/Berlin:20250929T121500
UID:T14002-20250929T104500@EFBOLDENBURG
SUMMARY:DELFI ®  November/Dezember  2024 geborene Kinder 2.Teil (T14002) 
LOCATION:Ev. Familien-Bildungsstätte, Kinderraum, Gorch-Fock-Str. 5 a, 26135 Oldenburg
END:VEVENT
BEGIN:VEVENT
DTSTAMP:20260421T182700
DTSTART;TZID=Europe/Berlin:20251006T104500
DTEND;TZID=Europe/Berlin:20251006T121500
UID:T14002-20251006T104500@EFBOLDENBURG
SUMMARY:DELFI ®  November/Dezember  2024 geborene Kinder 2.Teil (T14002) 
LOCATION:Ev. Familien-Bildungsstätte, Kinderraum, Gorch-Fock-Str. 5 a, 26135 Oldenburg
END:VEVENT
BEGIN:VEVENT
DTSTAMP:20260421T182700
DTSTART;TZID=Europe/Berlin:20251027T104500
DTEND;TZID=Europe/Berlin:20251027T121500
UID:T14002-20251027T104500@EFBOLDENBURG
SUMMARY:DELFI ®  November/Dezember  2024 geborene Kinder 2.Teil (T14002) 
LOCATION:Ev. Familien-Bildungsstätte, Kinderraum, Gorch-Fock-Str. 5 a, 26135 Oldenburg
END:VEVENT
BEGIN:VEVENT
DTSTAMP:20260421T182700
DTSTART;TZID=Europe/Berlin:20251103T104500
DTEND;TZID=Europe/Berlin:20251103T121500
UID:T14002-20251103T104500@EFBOLDENBURG
SUMMARY:DELFI ®  November/Dezember  2024 geborene Kinder 2.Teil (T14002) 
LOCATION:Ev. Familien-Bildungsstätte, Kinderraum, Gorch-Fock-Str. 5 a, 26135 Oldenburg
END:VEVENT
BEGIN:VEVENT
DTSTAMP:20260421T182700
DTSTART;TZID=Europe/Berlin:20251110T104500
DTEND;TZID=Europe/Berlin:20251110T121500
UID:T14002-20251110T104500@EFBOLDENBURG
SUMMARY:DELFI ®  November/Dezember  2024 geborene Kinder 2.Teil (T14002) 
LOCATION:Ev. Familien-Bildungsstätte, Kinderraum, Gorch-Fock-Str. 5 a, 26135 Oldenburg
END:VEVENT
BEGIN:VEVENT
DTSTAMP:20260421T182700
DTSTART;TZID=Europe/Berlin:20251117T104500
DTEND;TZID=Europe/Berlin:20251117T121500
UID:T14002-20251117T104500@EFBOLDENBURG
SUMMARY:DELFI ®  November/Dezember  2024 geborene Kinder 2.Teil (T14002) 
LOCATION:Ev. Familien-Bildungsstätte, Kinderraum, Gorch-Fock-Str. 5 a, 26135 Oldenburg
END:VEVENT
BEGIN:VEVENT
DTSTAMP:20260421T182700
DTSTART;TZID=Europe/Berlin:20251124T104500
DTEND;TZID=Europe/Berlin:20251124T121500
UID:T14002-20251124T104500@EFBOLDENBURG
DESCRIPTION:Ersatz für Ausfall am 18.08.2025
SUMMARY:DELFI ®  November/Dezember  2024 geborene Kinder 2.Teil (T14002) 
LOCATION:Ev. Familien-Bildungsstätte, Kinderraum, Gorch-Fock-Str. 5 a, 26135 Oldenburg
END:VEVENT
BEGIN:VEVENT
DTSTAMP:20260421T182700
DTSTART;TZID=Europe/Berlin:20251201T104500
DTEND;TZID=Europe/Berlin:20251201T121500
UID:T14002-20251201T104500@EFBOLDENBURG
DESCRIPTION:Ersatz für Ausfall am 25.08.2025
SUMMARY:DELFI ®  November/Dezember  2024 geborene Kinder 2.Teil (T14002) 
LOCATION:Ev. Familien-Bildungsstätte, Kinderraum, Gorch-Fock-Str. 5 a, 26135 Oldenburg
END:VEVENT
END:VCALENDAR