BEGIN:VCALENDAR
VERSION:2.0
PRODID:https://www.kufer.de/kuferweb / DE
METHOD:PUBLISH
CALSCALE:GREGORIAN
X-WR-TIMEZONE:Europe/Berlin
BEGIN:VTIMEZONE
TZID:Europe/Berlin
X-LIC-LOCATION:Europe/Berlin
BEGIN:DAYLIGHT
TZOFFSETFROM:+0100
TZOFFSETTO:+0200
TZNAME:CEST
DTSTART:19700329T020000
RRULE:FREQ=YEARLY;INTERVAL=1;BYDAY=-1SU;BYMONTH=3
END:DAYLIGHT
BEGIN:STANDARD
TZOFFSETFROM:+0200
TZOFFSETTO:+0100
TZNAME:CET
DTSTART:19701025T030000
RRULE:FREQ=YEARLY;INTERVAL=1;BYDAY=-1SU;BYMONTH=10
END:STANDARD
END:VTIMEZONE
BEGIN:VEVENT
DTSTAMP:20260422T025638
DTSTART;TZID=Europe/Berlin:20250905T104500
DTEND;TZID=Europe/Berlin:20250905T121500
UID:T14005-20250905T104500@EFBOLDENBURG
SUMMARY:DELFI ®  Dezember 2024 geborene Kinder 2.Teil (T14005) 
LOCATION:Ev. Familien-Bildungsstätte, Kinderraum, Gorch-Fock-Str. 5 a, 26135 Oldenburg
END:VEVENT
BEGIN:VEVENT
DTSTAMP:20260422T025638
DTSTART;TZID=Europe/Berlin:20250912T104500
DTEND;TZID=Europe/Berlin:20250912T121500
UID:T14005-20250912T104500@EFBOLDENBURG
SUMMARY:DELFI ®  Dezember 2024 geborene Kinder 2.Teil (T14005) 
LOCATION:Ev. Familien-Bildungsstätte, Kinderraum, Gorch-Fock-Str. 5 a, 26135 Oldenburg
END:VEVENT
BEGIN:VEVENT
DTSTAMP:20260422T025638
DTSTART;TZID=Europe/Berlin:20250926T104500
DTEND;TZID=Europe/Berlin:20250926T121500
UID:T14005-20250926T104500@EFBOLDENBURG
SUMMARY:DELFI ®  Dezember 2024 geborene Kinder 2.Teil (T14005) 
LOCATION:Ev. Familien-Bildungsstätte, Kinderraum, Gorch-Fock-Str. 5 a, 26135 Oldenburg
END:VEVENT
BEGIN:VEVENT
DTSTAMP:20260422T025638
DTSTART;TZID=Europe/Berlin:20251010T104500
DTEND;TZID=Europe/Berlin:20251010T121500
UID:T14005-20251010T104500@EFBOLDENBURG
SUMMARY:DELFI ®  Dezember 2024 geborene Kinder 2.Teil (T14005) 
LOCATION:Ev. Familien-Bildungsstätte, Kinderraum, Gorch-Fock-Str. 5 a, 26135 Oldenburg
END:VEVENT
BEGIN:VEVENT
DTSTAMP:20260422T025638
DTSTART;TZID=Europe/Berlin:20251107T104500
DTEND;TZID=Europe/Berlin:20251107T121500
UID:T14005-20251107T104500@EFBOLDENBURG
SUMMARY:DELFI ®  Dezember 2024 geborene Kinder 2.Teil (T14005) 
LOCATION:Ev. Familien-Bildungsstätte, Kinderraum, Gorch-Fock-Str. 5 a, 26135 Oldenburg
END:VEVENT
BEGIN:VEVENT
DTSTAMP:20260422T025638
DTSTART;TZID=Europe/Berlin:20251121T104500
DTEND;TZID=Europe/Berlin:20251121T121500
UID:T14005-20251121T104500@EFBOLDENBURG
SUMMARY:DELFI ®  Dezember 2024 geborene Kinder 2.Teil (T14005) 
LOCATION:Ev. Familien-Bildungsstätte, Kinderraum, Gorch-Fock-Str. 5 a, 26135 Oldenburg
END:VEVENT
BEGIN:VEVENT
DTSTAMP:20260422T025638
DTSTART;TZID=Europe/Berlin:20251128T104500
DTEND;TZID=Europe/Berlin:20251128T121500
UID:T14005-20251128T104500@EFBOLDENBURG
SUMMARY:DELFI ®  Dezember 2024 geborene Kinder 2.Teil (T14005) 
LOCATION:Ev. Familien-Bildungsstätte, Kinderraum, Gorch-Fock-Str. 5 a, 26135 Oldenburg
END:VEVENT
BEGIN:VEVENT
DTSTAMP:20260422T025638
DTSTART;TZID=Europe/Berlin:20251205T104500
DTEND;TZID=Europe/Berlin:20251205T121500
UID:T14005-20251205T104500@EFBOLDENBURG
SUMMARY:DELFI ®  Dezember 2024 geborene Kinder 2.Teil (T14005) 
LOCATION:Ev. Familien-Bildungsstätte, Kinderraum, Gorch-Fock-Str. 5 a, 26135 Oldenburg
END:VEVENT
BEGIN:VEVENT
DTSTAMP:20260422T025638
DTSTART;TZID=Europe/Berlin:20251212T104500
DTEND;TZID=Europe/Berlin:20251212T121500
UID:T14005-20251212T104500@EFBOLDENBURG
SUMMARY:DELFI ®  Dezember 2024 geborene Kinder 2.Teil (T14005) 
LOCATION:Ev. Familien-Bildungsstätte, Kinderraum, Gorch-Fock-Str. 5 a, 26135 Oldenburg
END:VEVENT
BEGIN:VEVENT
DTSTAMP:20260422T025638
DTSTART;TZID=Europe/Berlin:20251219T104500
DTEND;TZID=Europe/Berlin:20251219T121500
UID:T14005-20251219T104500@EFBOLDENBURG
DESCRIPTION:Ersatz für Ausfall am 19.09.2025
SUMMARY:DELFI ®  Dezember 2024 geborene Kinder 2.Teil (T14005) 
LOCATION:Ev. Familien-Bildungsstätte, Kinderraum, Gorch-Fock-Str. 5 a, 26135 Oldenburg
END:VEVENT
BEGIN:VEVENT
DTSTAMP:20260422T025638
DTSTART;TZID=Europe/Berlin:20260109T104500
DTEND;TZID=Europe/Berlin:20260109T121500
UID:T14005-20260109T104500@EFBOLDENBURG
DESCRIPTION:Ersatz für Ausfall am 14.11.2025
SUMMARY:DELFI ®  Dezember 2024 geborene Kinder 2.Teil (T14005) 
LOCATION:Ev. Familien-Bildungsstätte, Kinderraum, Gorch-Fock-Str. 5 a, 26135 Oldenburg
END:VEVENT
END:VCALENDAR