BEGIN:VCALENDAR
VERSION:2.0
PRODID:https://www.kufer.de/kuferweb / DE
METHOD:PUBLISH
CALSCALE:GREGORIAN
X-WR-TIMEZONE:Europe/Berlin
BEGIN:VTIMEZONE
TZID:Europe/Berlin
X-LIC-LOCATION:Europe/Berlin
BEGIN:DAYLIGHT
TZOFFSETFROM:+0100
TZOFFSETTO:+0200
TZNAME:CEST
DTSTART:19700329T020000
RRULE:FREQ=YEARLY;INTERVAL=1;BYDAY=-1SU;BYMONTH=3
END:DAYLIGHT
BEGIN:STANDARD
TZOFFSETFROM:+0200
TZOFFSETTO:+0100
TZNAME:CET
DTSTART:19701025T030000
RRULE:FREQ=YEARLY;INTERVAL=1;BYDAY=-1SU;BYMONTH=10
END:STANDARD
END:VTIMEZONE
BEGIN:VEVENT
DTSTAMP:20260421T202044
DTSTART;TZID=Europe/Berlin:20251204T090000
DTEND;TZID=Europe/Berlin:20251204T103000
UID:T14010-20251204T090000@EFBOLDENBURG
SUMMARY:DELFI ®  Januar 2025 geborene Kinder 2.Teil (T14010) 
LOCATION:Ev. Familien-Bildungsstätte, Kinderraum, Gorch-Fock-Str. 5 a, 26135 Oldenburg
END:VEVENT
BEGIN:VEVENT
DTSTAMP:20260421T202044
DTSTART;TZID=Europe/Berlin:20251211T090000
DTEND;TZID=Europe/Berlin:20251211T103000
UID:T14010-20251211T090000@EFBOLDENBURG
SUMMARY:DELFI ®  Januar 2025 geborene Kinder 2.Teil (T14010) 
LOCATION:Ev. Familien-Bildungsstätte, Kinderraum, Gorch-Fock-Str. 5 a, 26135 Oldenburg
END:VEVENT
BEGIN:VEVENT
DTSTAMP:20260421T202044
DTSTART;TZID=Europe/Berlin:20251218T090000
DTEND;TZID=Europe/Berlin:20251218T103000
UID:T14010-20251218T090000@EFBOLDENBURG
SUMMARY:DELFI ®  Januar 2025 geborene Kinder 2.Teil (T14010) 
LOCATION:Ev. Familien-Bildungsstätte, Kinderraum, Gorch-Fock-Str. 5 a, 26135 Oldenburg
END:VEVENT
BEGIN:VEVENT
DTSTAMP:20260421T202044
DTSTART;TZID=Europe/Berlin:20260108T090000
DTEND;TZID=Europe/Berlin:20260108T103000
UID:T14010-20260108T090000@EFBOLDENBURG
SUMMARY:DELFI ®  Januar 2025 geborene Kinder 2.Teil (T14010) 
LOCATION:Ev. Familien-Bildungsstätte, Kinderraum, Gorch-Fock-Str. 5 a, 26135 Oldenburg
END:VEVENT
BEGIN:VEVENT
DTSTAMP:20260421T202044
DTSTART;TZID=Europe/Berlin:20260115T090000
DTEND;TZID=Europe/Berlin:20260115T103000
UID:T14010-20260115T090000@EFBOLDENBURG
SUMMARY:DELFI ®  Januar 2025 geborene Kinder 2.Teil (T14010) 
LOCATION:Ev. Familien-Bildungsstätte, Kinderraum, Gorch-Fock-Str. 5 a, 26135 Oldenburg
END:VEVENT
END:VCALENDAR