BEGIN:VCALENDAR
VERSION:2.0
PRODID:https://www.kufer.de/kuferweb / DE
METHOD:PUBLISH
CALSCALE:GREGORIAN
X-WR-TIMEZONE:Europe/Berlin
BEGIN:VTIMEZONE
TZID:Europe/Berlin
X-LIC-LOCATION:Europe/Berlin
BEGIN:DAYLIGHT
TZOFFSETFROM:+0100
TZOFFSETTO:+0200
TZNAME:CEST
DTSTART:19700329T020000
RRULE:FREQ=YEARLY;INTERVAL=1;BYDAY=-1SU;BYMONTH=3
END:DAYLIGHT
BEGIN:STANDARD
TZOFFSETFROM:+0200
TZOFFSETTO:+0100
TZNAME:CET
DTSTART:19701025T030000
RRULE:FREQ=YEARLY;INTERVAL=1;BYDAY=-1SU;BYMONTH=10
END:STANDARD
END:VTIMEZONE
BEGIN:VEVENT
DTSTAMP:20260422T025747
DTSTART;TZID=Europe/Berlin:20250926T090000
DTEND;TZID=Europe/Berlin:20250926T103000
UID:T14011-20250926T090000@EFBOLDENBURG
SUMMARY:DELFI ®  Januar 2025 geborene Kinder 2.Teil (T14011) 
LOCATION:Ev. Familien-Bildungsstätte, Kinderraum, Gorch-Fock-Str. 5 a, 26135 Oldenburg
END:VEVENT
BEGIN:VEVENT
DTSTAMP:20260422T025747
DTSTART;TZID=Europe/Berlin:20251010T090000
DTEND;TZID=Europe/Berlin:20251010T103000
UID:T14011-20251010T090000@EFBOLDENBURG
SUMMARY:DELFI ®  Januar 2025 geborene Kinder 2.Teil (T14011) 
LOCATION:Ev. Familien-Bildungsstätte, Kinderraum, Gorch-Fock-Str. 5 a, 26135 Oldenburg
END:VEVENT
BEGIN:VEVENT
DTSTAMP:20260422T025747
DTSTART;TZID=Europe/Berlin:20251107T090000
DTEND;TZID=Europe/Berlin:20251107T103000
UID:T14011-20251107T090000@EFBOLDENBURG
SUMMARY:DELFI ®  Januar 2025 geborene Kinder 2.Teil (T14011) 
LOCATION:Ev. Familien-Bildungsstätte, Kinderraum, Gorch-Fock-Str. 5 a, 26135 Oldenburg
END:VEVENT
BEGIN:VEVENT
DTSTAMP:20260422T025747
DTSTART;TZID=Europe/Berlin:20251121T090000
DTEND;TZID=Europe/Berlin:20251121T103000
UID:T14011-20251121T090000@EFBOLDENBURG
SUMMARY:DELFI ®  Januar 2025 geborene Kinder 2.Teil (T14011) 
LOCATION:Ev. Familien-Bildungsstätte, Kinderraum, Gorch-Fock-Str. 5 a, 26135 Oldenburg
END:VEVENT
BEGIN:VEVENT
DTSTAMP:20260422T025747
DTSTART;TZID=Europe/Berlin:20251128T090000
DTEND;TZID=Europe/Berlin:20251128T103000
UID:T14011-20251128T090000@EFBOLDENBURG
SUMMARY:DELFI ®  Januar 2025 geborene Kinder 2.Teil (T14011) 
LOCATION:Ev. Familien-Bildungsstätte, Kinderraum, Gorch-Fock-Str. 5 a, 26135 Oldenburg
END:VEVENT
BEGIN:VEVENT
DTSTAMP:20260422T025747
DTSTART;TZID=Europe/Berlin:20251205T090000
DTEND;TZID=Europe/Berlin:20251205T103000
UID:T14011-20251205T090000@EFBOLDENBURG
SUMMARY:DELFI ®  Januar 2025 geborene Kinder 2.Teil (T14011) 
LOCATION:Ev. Familien-Bildungsstätte, Kinderraum, Gorch-Fock-Str. 5 a, 26135 Oldenburg
END:VEVENT
BEGIN:VEVENT
DTSTAMP:20260422T025747
DTSTART;TZID=Europe/Berlin:20251212T090000
DTEND;TZID=Europe/Berlin:20251212T103000
UID:T14011-20251212T090000@EFBOLDENBURG
SUMMARY:DELFI ®  Januar 2025 geborene Kinder 2.Teil (T14011) 
LOCATION:Ev. Familien-Bildungsstätte, Kinderraum, Gorch-Fock-Str. 5 a, 26135 Oldenburg
END:VEVENT
BEGIN:VEVENT
DTSTAMP:20260422T025747
DTSTART;TZID=Europe/Berlin:20251219T090000
DTEND;TZID=Europe/Berlin:20251219T103000
UID:T14011-20251219T090000@EFBOLDENBURG
SUMMARY:DELFI ®  Januar 2025 geborene Kinder 2.Teil (T14011) 
LOCATION:Ev. Familien-Bildungsstätte, Kinderraum, Gorch-Fock-Str. 5 a, 26135 Oldenburg
END:VEVENT
BEGIN:VEVENT
DTSTAMP:20260422T025747
DTSTART;TZID=Europe/Berlin:20260109T090000
DTEND;TZID=Europe/Berlin:20260109T103000
UID:T14011-20260109T090000@EFBOLDENBURG
SUMMARY:DELFI ®  Januar 2025 geborene Kinder 2.Teil (T14011) 
LOCATION:Ev. Familien-Bildungsstätte, Kinderraum, Gorch-Fock-Str. 5 a, 26135 Oldenburg
END:VEVENT
BEGIN:VEVENT
DTSTAMP:20260422T025747
DTSTART;TZID=Europe/Berlin:20260116T090000
DTEND;TZID=Europe/Berlin:20260116T103000
UID:T14011-20260116T090000@EFBOLDENBURG
SUMMARY:DELFI ®  Januar 2025 geborene Kinder 2.Teil (T14011) 
LOCATION:Ev. Familien-Bildungsstätte, Kinderraum, Gorch-Fock-Str. 5 a, 26135 Oldenburg
END:VEVENT
BEGIN:VEVENT
DTSTAMP:20260422T025747
DTSTART;TZID=Europe/Berlin:20260123T090000
DTEND;TZID=Europe/Berlin:20260123T103000
UID:T14011-20260123T090000@EFBOLDENBURG
DESCRIPTION:Ersatz für Ausfall am 14.11.2025
SUMMARY:DELFI ®  Januar 2025 geborene Kinder 2.Teil (T14011) 
LOCATION:Ev. Familien-Bildungsstätte, Kinderraum, Gorch-Fock-Str. 5 a, 26135 Oldenburg
END:VEVENT
END:VCALENDAR