BEGIN:VCALENDAR
VERSION:2.0
PRODID:https://www.kufer.de/kuferweb / DE
METHOD:PUBLISH
CALSCALE:GREGORIAN
X-WR-TIMEZONE:Europe/Berlin
BEGIN:VTIMEZONE
TZID:Europe/Berlin
X-LIC-LOCATION:Europe/Berlin
BEGIN:DAYLIGHT
TZOFFSETFROM:+0100
TZOFFSETTO:+0200
TZNAME:CEST
DTSTART:19700329T020000
RRULE:FREQ=YEARLY;INTERVAL=1;BYDAY=-1SU;BYMONTH=3
END:DAYLIGHT
BEGIN:STANDARD
TZOFFSETFROM:+0200
TZOFFSETTO:+0100
TZNAME:CET
DTSTART:19701025T030000
RRULE:FREQ=YEARLY;INTERVAL=1;BYDAY=-1SU;BYMONTH=10
END:STANDARD
END:VTIMEZONE
BEGIN:VEVENT
DTSTAMP:20260421T233044
DTSTART;TZID=Europe/Berlin:20251118T104500
DTEND;TZID=Europe/Berlin:20251118T121500
UID:T14013-20251118T104500@EFBOLDENBURG
SUMMARY:DELFI ®  März 2025 geborene Kinder 2.Teil (T14013) 
LOCATION:Gemeindehaus St. Johannes, Pasteurstr. 5, Pasteurstr. 5, 26133 Oldenburg
END:VEVENT
BEGIN:VEVENT
DTSTAMP:20260421T233044
DTSTART;TZID=Europe/Berlin:20251125T104500
DTEND;TZID=Europe/Berlin:20251125T121500
UID:T14013-20251125T104500@EFBOLDENBURG
SUMMARY:DELFI ®  März 2025 geborene Kinder 2.Teil (T14013) 
LOCATION:Gemeindehaus St. Johannes, Pasteurstr. 5, Pasteurstr. 5, 26133 Oldenburg
END:VEVENT
BEGIN:VEVENT
DTSTAMP:20260421T233044
DTSTART;TZID=Europe/Berlin:20251202T104500
DTEND;TZID=Europe/Berlin:20251202T121500
UID:T14013-20251202T104500@EFBOLDENBURG
SUMMARY:DELFI ®  März 2025 geborene Kinder 2.Teil (T14013) 
LOCATION:Gemeindehaus St. Johannes, Pasteurstr. 5, Pasteurstr. 5, 26133 Oldenburg
END:VEVENT
BEGIN:VEVENT
DTSTAMP:20260421T233044
DTSTART;TZID=Europe/Berlin:20251209T104500
DTEND;TZID=Europe/Berlin:20251209T121500
UID:T14013-20251209T104500@EFBOLDENBURG
SUMMARY:DELFI ®  März 2025 geborene Kinder 2.Teil (T14013) 
LOCATION:Gemeindehaus St. Johannes, Pasteurstr. 5, Pasteurstr. 5, 26133 Oldenburg
END:VEVENT
BEGIN:VEVENT
DTSTAMP:20260421T233044
DTSTART;TZID=Europe/Berlin:20251216T104500
DTEND;TZID=Europe/Berlin:20251216T121500
UID:T14013-20251216T104500@EFBOLDENBURG
SUMMARY:DELFI ®  März 2025 geborene Kinder 2.Teil (T14013) 
LOCATION:Gemeindehaus St. Johannes, Pasteurstr. 5, Pasteurstr. 5, 26133 Oldenburg
END:VEVENT
BEGIN:VEVENT
DTSTAMP:20260421T233044
DTSTART;TZID=Europe/Berlin:20260106T104500
DTEND;TZID=Europe/Berlin:20260106T121500
UID:T14013-20260106T104500@EFBOLDENBURG
SUMMARY:DELFI ®  März 2025 geborene Kinder 2.Teil (T14013) 
LOCATION:Gemeindehaus St. Johannes, Pasteurstr. 5, Pasteurstr. 5, 26133 Oldenburg
END:VEVENT
BEGIN:VEVENT
DTSTAMP:20260421T233044
DTSTART;TZID=Europe/Berlin:20260113T104500
DTEND;TZID=Europe/Berlin:20260113T121500
UID:T14013-20260113T104500@EFBOLDENBURG
SUMMARY:DELFI ®  März 2025 geborene Kinder 2.Teil (T14013) 
LOCATION:Gemeindehaus St. Johannes, Pasteurstr. 5, Pasteurstr. 5, 26133 Oldenburg
END:VEVENT
BEGIN:VEVENT
DTSTAMP:20260421T233044
DTSTART;TZID=Europe/Berlin:20260120T104500
DTEND;TZID=Europe/Berlin:20260120T121500
UID:T14013-20260120T104500@EFBOLDENBURG
SUMMARY:DELFI ®  März 2025 geborene Kinder 2.Teil (T14013) 
LOCATION:Gemeindehaus St. Johannes, Pasteurstr. 5, Pasteurstr. 5, 26133 Oldenburg
END:VEVENT
BEGIN:VEVENT
DTSTAMP:20260421T233044
DTSTART;TZID=Europe/Berlin:20260127T104500
DTEND;TZID=Europe/Berlin:20260127T121500
UID:T14013-20260127T104500@EFBOLDENBURG
SUMMARY:DELFI ®  März 2025 geborene Kinder 2.Teil (T14013) 
LOCATION:Gemeindehaus St. Johannes, Pasteurstr. 5, Pasteurstr. 5, 26133 Oldenburg
END:VEVENT
BEGIN:VEVENT
DTSTAMP:20260421T233044
DTSTART;TZID=Europe/Berlin:20260210T104500
DTEND;TZID=Europe/Berlin:20260210T121500
UID:T14013-20260210T104500@EFBOLDENBURG
SUMMARY:DELFI ®  März 2025 geborene Kinder 2.Teil (T14013) 
LOCATION:Gemeindehaus St. Johannes, Pasteurstr. 5, Pasteurstr. 5, 26133 Oldenburg
END:VEVENT
BEGIN:VEVENT
DTSTAMP:20260421T233044
DTSTART;TZID=Europe/Berlin:20260217T104500
DTEND;TZID=Europe/Berlin:20260217T121500
UID:T14013-20260217T104500@EFBOLDENBURG
SUMMARY:DELFI ®  März 2025 geborene Kinder 2.Teil (T14013) 
LOCATION:Gemeindehaus St. Johannes, Pasteurstr. 5, Pasteurstr. 5, 26133 Oldenburg
END:VEVENT
BEGIN:VEVENT
DTSTAMP:20260421T233044
DTSTART;TZID=Europe/Berlin:20260224T104500
DTEND;TZID=Europe/Berlin:20260224T121500
UID:T14013-20260224T104500@EFBOLDENBURG
SUMMARY:DELFI ®  März 2025 geborene Kinder 2.Teil (T14013) 
LOCATION:Gemeindehaus St. Johannes, Pasteurstr. 5, Pasteurstr. 5, 26133 Oldenburg
END:VEVENT
BEGIN:VEVENT
DTSTAMP:20260421T233044
DTSTART;TZID=Europe/Berlin:20260303T104500
DTEND;TZID=Europe/Berlin:20260303T121500
UID:T14013-20260303T104500@EFBOLDENBURG
SUMMARY:DELFI ®  März 2025 geborene Kinder 2.Teil (T14013) 
LOCATION:Gemeindehaus St. Johannes, Pasteurstr. 5, Pasteurstr. 5, 26133 Oldenburg
END:VEVENT
BEGIN:VEVENT
DTSTAMP:20260421T233044
DTSTART;TZID=Europe/Berlin:20260310T104500
DTEND;TZID=Europe/Berlin:20260310T121500
UID:T14013-20260310T104500@EFBOLDENBURG
SUMMARY:DELFI ®  März 2025 geborene Kinder 2.Teil (T14013) 
LOCATION:Gemeindehaus St. Johannes, Pasteurstr. 5, Pasteurstr. 5, 26133 Oldenburg
END:VEVENT
BEGIN:VEVENT
DTSTAMP:20260421T233044
DTSTART;TZID=Europe/Berlin:20260317T104500
DTEND;TZID=Europe/Berlin:20260317T121500
UID:T14013-20260317T104500@EFBOLDENBURG
SUMMARY:DELFI ®  März 2025 geborene Kinder 2.Teil (T14013) 
LOCATION:Gemeindehaus St. Johannes, Pasteurstr. 5, Pasteurstr. 5, 26133 Oldenburg
END:VEVENT
END:VCALENDAR