BEGIN:VCALENDAR
VERSION:2.0
PRODID:https://www.kufer.de/kuferweb / DE
METHOD:PUBLISH
CALSCALE:GREGORIAN
X-WR-TIMEZONE:Europe/Berlin
BEGIN:VTIMEZONE
TZID:Europe/Berlin
X-LIC-LOCATION:Europe/Berlin
BEGIN:DAYLIGHT
TZOFFSETFROM:+0100
TZOFFSETTO:+0200
TZNAME:CEST
DTSTART:19700329T020000
RRULE:FREQ=YEARLY;INTERVAL=1;BYDAY=-1SU;BYMONTH=3
END:DAYLIGHT
BEGIN:STANDARD
TZOFFSETFROM:+0200
TZOFFSETTO:+0100
TZNAME:CET
DTSTART:19701025T030000
RRULE:FREQ=YEARLY;INTERVAL=1;BYDAY=-1SU;BYMONTH=10
END:STANDARD
END:VTIMEZONE
BEGIN:VEVENT
DTSTAMP:20260422T010339
DTSTART;TZID=Europe/Berlin:20251128T104500
DTEND;TZID=Europe/Berlin:20251128T121500
UID:T14014-20251128T104500@EFBOLDENBURG
SUMMARY:DELFI ®  März 2025 geborene Kinder 2.Teil (T14014) 
LOCATION:Gemeindehaus St. Johannes, Pasteurstr. 5, Pasteurstr. 5, 26133 Oldenburg
END:VEVENT
BEGIN:VEVENT
DTSTAMP:20260422T010339
DTSTART;TZID=Europe/Berlin:20251205T104500
DTEND;TZID=Europe/Berlin:20251205T121500
UID:T14014-20251205T104500@EFBOLDENBURG
SUMMARY:DELFI ®  März 2025 geborene Kinder 2.Teil (T14014) 
LOCATION:Gemeindehaus St. Johannes, Pasteurstr. 5, Pasteurstr. 5, 26133 Oldenburg
END:VEVENT
BEGIN:VEVENT
DTSTAMP:20260422T010339
DTSTART;TZID=Europe/Berlin:20251212T104500
DTEND;TZID=Europe/Berlin:20251212T121500
UID:T14014-20251212T104500@EFBOLDENBURG
SUMMARY:DELFI ®  März 2025 geborene Kinder 2.Teil (T14014) 
LOCATION:Gemeindehaus St. Johannes, Pasteurstr. 5, Pasteurstr. 5, 26133 Oldenburg
END:VEVENT
BEGIN:VEVENT
DTSTAMP:20260422T010339
DTSTART;TZID=Europe/Berlin:20251219T104500
DTEND;TZID=Europe/Berlin:20251219T121500
UID:T14014-20251219T104500@EFBOLDENBURG
SUMMARY:DELFI ®  März 2025 geborene Kinder 2.Teil (T14014) 
LOCATION:Gemeindehaus St. Johannes, Pasteurstr. 5, Pasteurstr. 5, 26133 Oldenburg
END:VEVENT
BEGIN:VEVENT
DTSTAMP:20260422T010339
DTSTART;TZID=Europe/Berlin:20260116T104500
DTEND;TZID=Europe/Berlin:20260116T121500
UID:T14014-20260116T104500@EFBOLDENBURG
SUMMARY:DELFI ®  März 2025 geborene Kinder 2.Teil (T14014) 
LOCATION:Gemeindehaus St. Johannes, Pasteurstr. 5, Pasteurstr. 5, 26133 Oldenburg
END:VEVENT
BEGIN:VEVENT
DTSTAMP:20260422T010339
DTSTART;TZID=Europe/Berlin:20260123T104500
DTEND;TZID=Europe/Berlin:20260123T121500
UID:T14014-20260123T104500@EFBOLDENBURG
SUMMARY:DELFI ®  März 2025 geborene Kinder 2.Teil (T14014) 
LOCATION:Gemeindehaus St. Johannes, Pasteurstr. 5, Pasteurstr. 5, 26133 Oldenburg
END:VEVENT
BEGIN:VEVENT
DTSTAMP:20260422T010339
DTSTART;TZID=Europe/Berlin:20260130T104500
DTEND;TZID=Europe/Berlin:20260130T121500
UID:T14014-20260130T104500@EFBOLDENBURG
SUMMARY:DELFI ®  März 2025 geborene Kinder 2.Teil (T14014) 
LOCATION:Gemeindehaus St. Johannes, Pasteurstr. 5, Pasteurstr. 5, 26133 Oldenburg
END:VEVENT
BEGIN:VEVENT
DTSTAMP:20260422T010339
DTSTART;TZID=Europe/Berlin:20260206T104500
DTEND;TZID=Europe/Berlin:20260206T121500
UID:T14014-20260206T104500@EFBOLDENBURG
SUMMARY:DELFI ®  März 2025 geborene Kinder 2.Teil (T14014) 
LOCATION:Gemeindehaus St. Johannes, Pasteurstr. 5, Pasteurstr. 5, 26133 Oldenburg
END:VEVENT
BEGIN:VEVENT
DTSTAMP:20260422T010339
DTSTART;TZID=Europe/Berlin:20260213T104500
DTEND;TZID=Europe/Berlin:20260213T121500
UID:T14014-20260213T104500@EFBOLDENBURG
SUMMARY:DELFI ®  März 2025 geborene Kinder 2.Teil (T14014) 
LOCATION:Gemeindehaus St. Johannes, Pasteurstr. 5, Pasteurstr. 5, 26133 Oldenburg
END:VEVENT
BEGIN:VEVENT
DTSTAMP:20260422T010339
DTSTART;TZID=Europe/Berlin:20260220T104500
DTEND;TZID=Europe/Berlin:20260220T121500
UID:T14014-20260220T104500@EFBOLDENBURG
SUMMARY:DELFI ®  März 2025 geborene Kinder 2.Teil (T14014) 
LOCATION:Gemeindehaus St. Johannes, Pasteurstr. 5, Pasteurstr. 5, 26133 Oldenburg
END:VEVENT
BEGIN:VEVENT
DTSTAMP:20260422T010339
DTSTART;TZID=Europe/Berlin:20260227T104500
DTEND;TZID=Europe/Berlin:20260227T121500
UID:T14014-20260227T104500@EFBOLDENBURG
SUMMARY:DELFI ®  März 2025 geborene Kinder 2.Teil (T14014) 
LOCATION:Gemeindehaus St. Johannes, Pasteurstr. 5, Pasteurstr. 5, 26133 Oldenburg
END:VEVENT
BEGIN:VEVENT
DTSTAMP:20260422T010339
DTSTART;TZID=Europe/Berlin:20260306T104500
DTEND;TZID=Europe/Berlin:20260306T121500
UID:T14014-20260306T104500@EFBOLDENBURG
SUMMARY:DELFI ®  März 2025 geborene Kinder 2.Teil (T14014) 
LOCATION:Gemeindehaus St. Johannes, Pasteurstr. 5, Pasteurstr. 5, 26133 Oldenburg
END:VEVENT
BEGIN:VEVENT
DTSTAMP:20260422T010339
DTSTART;TZID=Europe/Berlin:20260313T104500
DTEND;TZID=Europe/Berlin:20260313T121500
UID:T14014-20260313T104500@EFBOLDENBURG
SUMMARY:DELFI ®  März 2025 geborene Kinder 2.Teil (T14014) 
LOCATION:Gemeindehaus St. Johannes, Pasteurstr. 5, Pasteurstr. 5, 26133 Oldenburg
END:VEVENT
BEGIN:VEVENT
DTSTAMP:20260422T010339
DTSTART;TZID=Europe/Berlin:20260320T104500
DTEND;TZID=Europe/Berlin:20260320T121500
UID:T14014-20260320T104500@EFBOLDENBURG
SUMMARY:DELFI ®  März 2025 geborene Kinder 2.Teil (T14014) 
LOCATION:Gemeindehaus St. Johannes, Pasteurstr. 5, Pasteurstr. 5, 26133 Oldenburg
END:VEVENT
BEGIN:VEVENT
DTSTAMP:20260422T010339
DTSTART;TZID=Europe/Berlin:20260327T104500
DTEND;TZID=Europe/Berlin:20260327T121500
UID:T14014-20260327T104500@EFBOLDENBURG
DESCRIPTION:Ersatz für Ausfall am 09.01.2026
SUMMARY:DELFI ®  März 2025 geborene Kinder 2.Teil (T14014) 
LOCATION:Gemeindehaus St. Johannes, Pasteurstr. 5, Pasteurstr. 5, 26133 Oldenburg
END:VEVENT
END:VCALENDAR