BEGIN:VCALENDAR
VERSION:2.0
PRODID:https://www.kufer.de/kuferweb / DE
METHOD:PUBLISH
CALSCALE:GREGORIAN
X-WR-TIMEZONE:Europe/Berlin
BEGIN:VTIMEZONE
TZID:Europe/Berlin
X-LIC-LOCATION:Europe/Berlin
BEGIN:DAYLIGHT
TZOFFSETFROM:+0100
TZOFFSETTO:+0200
TZNAME:CEST
DTSTART:19700329T020000
RRULE:FREQ=YEARLY;INTERVAL=1;BYDAY=-1SU;BYMONTH=3
END:DAYLIGHT
BEGIN:STANDARD
TZOFFSETFROM:+0200
TZOFFSETTO:+0100
TZNAME:CET
DTSTART:19701025T030000
RRULE:FREQ=YEARLY;INTERVAL=1;BYDAY=-1SU;BYMONTH=10
END:STANDARD
END:VTIMEZONE
BEGIN:VEVENT
DTSTAMP:20260421T214437
DTSTART;TZID=Europe/Berlin:20251208T104500
DTEND;TZID=Europe/Berlin:20251208T121500
UID:T14016-20251208T104500@EFBOLDENBURG
SUMMARY:DELFI ®  April 2025 geborene Kinder 2.Teil (T14016) 
LOCATION:Gemeindehaus St. Johannes, Pasteurstr. 5, Pasteurstr. 5, 26133 Oldenburg
END:VEVENT
BEGIN:VEVENT
DTSTAMP:20260421T214437
DTSTART;TZID=Europe/Berlin:20251215T104500
DTEND;TZID=Europe/Berlin:20251215T121500
UID:T14016-20251215T104500@EFBOLDENBURG
SUMMARY:DELFI ®  April 2025 geborene Kinder 2.Teil (T14016) 
LOCATION:Gemeindehaus St. Johannes, Pasteurstr. 5, Pasteurstr. 5, 26133 Oldenburg
END:VEVENT
BEGIN:VEVENT
DTSTAMP:20260421T214437
DTSTART;TZID=Europe/Berlin:20260119T104500
DTEND;TZID=Europe/Berlin:20260119T121500
UID:T14016-20260119T104500@EFBOLDENBURG
SUMMARY:DELFI ®  April 2025 geborene Kinder 2.Teil (T14016) 
LOCATION:Gemeindehaus St. Johannes, Pasteurstr. 5, Pasteurstr. 5, 26133 Oldenburg
END:VEVENT
BEGIN:VEVENT
DTSTAMP:20260421T214437
DTSTART;TZID=Europe/Berlin:20260126T104500
DTEND;TZID=Europe/Berlin:20260126T121500
UID:T14016-20260126T104500@EFBOLDENBURG
SUMMARY:DELFI ®  April 2025 geborene Kinder 2.Teil (T14016) 
LOCATION:Gemeindehaus St. Johannes, Pasteurstr. 5, Pasteurstr. 5, 26133 Oldenburg
END:VEVENT
BEGIN:VEVENT
DTSTAMP:20260421T214437
DTSTART;TZID=Europe/Berlin:20260209T104500
DTEND;TZID=Europe/Berlin:20260209T121500
UID:T14016-20260209T104500@EFBOLDENBURG
SUMMARY:DELFI ®  April 2025 geborene Kinder 2.Teil (T14016) 
LOCATION:Gemeindehaus St. Johannes, Pasteurstr. 5, Pasteurstr. 5, 26133 Oldenburg
END:VEVENT
BEGIN:VEVENT
DTSTAMP:20260421T214437
DTSTART;TZID=Europe/Berlin:20260216T104500
DTEND;TZID=Europe/Berlin:20260216T121500
UID:T14016-20260216T104500@EFBOLDENBURG
SUMMARY:DELFI ®  April 2025 geborene Kinder 2.Teil (T14016) 
LOCATION:Gemeindehaus St. Johannes, Pasteurstr. 5, Pasteurstr. 5, 26133 Oldenburg
END:VEVENT
BEGIN:VEVENT
DTSTAMP:20260421T214437
DTSTART;TZID=Europe/Berlin:20260223T104500
DTEND;TZID=Europe/Berlin:20260223T121500
UID:T14016-20260223T104500@EFBOLDENBURG
SUMMARY:DELFI ®  April 2025 geborene Kinder 2.Teil (T14016) 
LOCATION:Gemeindehaus St. Johannes, Pasteurstr. 5, Pasteurstr. 5, 26133 Oldenburg
END:VEVENT
BEGIN:VEVENT
DTSTAMP:20260421T214437
DTSTART;TZID=Europe/Berlin:20260302T104500
DTEND;TZID=Europe/Berlin:20260302T121500
UID:T14016-20260302T104500@EFBOLDENBURG
SUMMARY:DELFI ®  April 2025 geborene Kinder 2.Teil (T14016) 
LOCATION:Gemeindehaus St. Johannes, Pasteurstr. 5, Pasteurstr. 5, 26133 Oldenburg
END:VEVENT
BEGIN:VEVENT
DTSTAMP:20260421T214437
DTSTART;TZID=Europe/Berlin:20260309T104500
DTEND;TZID=Europe/Berlin:20260309T121500
UID:T14016-20260309T104500@EFBOLDENBURG
SUMMARY:DELFI ®  April 2025 geborene Kinder 2.Teil (T14016) 
LOCATION:Gemeindehaus St. Johannes, Pasteurstr. 5, Pasteurstr. 5, 26133 Oldenburg
END:VEVENT
BEGIN:VEVENT
DTSTAMP:20260421T214437
DTSTART;TZID=Europe/Berlin:20260316T104500
DTEND;TZID=Europe/Berlin:20260316T121500
UID:T14016-20260316T104500@EFBOLDENBURG
SUMMARY:DELFI ®  April 2025 geborene Kinder 2.Teil (T14016) 
LOCATION:Gemeindehaus St. Johannes, Pasteurstr. 5, Pasteurstr. 5, 26133 Oldenburg
END:VEVENT
BEGIN:VEVENT
DTSTAMP:20260421T214437
DTSTART;TZID=Europe/Berlin:20260413T104500
DTEND;TZID=Europe/Berlin:20260413T121500
UID:T14016-20260413T104500@EFBOLDENBURG
SUMMARY:DELFI ®  April 2025 geborene Kinder 2.Teil (T14016) 
LOCATION:Gemeindehaus St. Johannes, Pasteurstr. 5, Pasteurstr. 5, 26133 Oldenburg
END:VEVENT
BEGIN:VEVENT
DTSTAMP:20260421T214437
DTSTART;TZID=Europe/Berlin:20260420T104500
DTEND;TZID=Europe/Berlin:20260420T121500
UID:T14016-20260420T104500@EFBOLDENBURG
SUMMARY:DELFI ®  April 2025 geborene Kinder 2.Teil (T14016) 
LOCATION:Gemeindehaus St. Johannes, Pasteurstr. 5, Pasteurstr. 5, 26133 Oldenburg
END:VEVENT
BEGIN:VEVENT
DTSTAMP:20260421T214437
DTSTART;TZID=Europe/Berlin:20260427T104500
DTEND;TZID=Europe/Berlin:20260427T121500
UID:T14016-20260427T104500@EFBOLDENBURG
SUMMARY:DELFI ®  April 2025 geborene Kinder 2.Teil (T14016) 
LOCATION:Gemeindehaus St. Johannes, Pasteurstr. 5, Pasteurstr. 5, 26133 Oldenburg
END:VEVENT
BEGIN:VEVENT
DTSTAMP:20260421T214437
DTSTART;TZID=Europe/Berlin:20260504T104500
DTEND;TZID=Europe/Berlin:20260504T121500
UID:T14016-20260504T104500@EFBOLDENBURG
SUMMARY:DELFI ®  April 2025 geborene Kinder 2.Teil (T14016) 
LOCATION:Gemeindehaus St. Johannes, Pasteurstr. 5, Pasteurstr. 5, 26133 Oldenburg
END:VEVENT
BEGIN:VEVENT
DTSTAMP:20260421T214437
DTSTART;TZID=Europe/Berlin:20260511T104500
DTEND;TZID=Europe/Berlin:20260511T121500
UID:T14016-20260511T104500@EFBOLDENBURG
DESCRIPTION:Ersatz für Ausfall am 12.01.2026
SUMMARY:DELFI ®  April 2025 geborene Kinder 2.Teil (T14016) 
LOCATION:Gemeindehaus St. Johannes, Pasteurstr. 5, Pasteurstr. 5, 26133 Oldenburg
END:VEVENT
END:VCALENDAR