BEGIN:VCALENDAR
VERSION:2.0
PRODID:https://www.kufer.de/kuferweb / DE
METHOD:PUBLISH
CALSCALE:GREGORIAN
X-WR-TIMEZONE:Europe/Berlin
BEGIN:VTIMEZONE
TZID:Europe/Berlin
X-LIC-LOCATION:Europe/Berlin
BEGIN:DAYLIGHT
TZOFFSETFROM:+0100
TZOFFSETTO:+0200
TZNAME:CEST
DTSTART:19700329T020000
RRULE:FREQ=YEARLY;INTERVAL=1;BYDAY=-1SU;BYMONTH=3
END:DAYLIGHT
BEGIN:STANDARD
TZOFFSETFROM:+0200
TZOFFSETTO:+0100
TZNAME:CET
DTSTART:19701025T030000
RRULE:FREQ=YEARLY;INTERVAL=1;BYDAY=-1SU;BYMONTH=10
END:STANDARD
END:VTIMEZONE
BEGIN:VEVENT
DTSTAMP:20260421T182823
DTSTART;TZID=Europe/Berlin:20250818T090000
DTEND;TZID=Europe/Berlin:20250818T103000
UID:T14020-20250818T090000@EFBOLDENBURG
SUMMARY:DELFI ®  Mai 2025 geborene Kinder 1.Teil (T14020) 
LOCATION:Ev. Familien-Bildungsstätte, Saal, Gorch-Fock-Str. 5 a, 26135 Oldenburg
END:VEVENT
BEGIN:VEVENT
DTSTAMP:20260421T182823
DTSTART;TZID=Europe/Berlin:20250825T090000
DTEND;TZID=Europe/Berlin:20250825T103000
UID:T14020-20250825T090000@EFBOLDENBURG
SUMMARY:DELFI ®  Mai 2025 geborene Kinder 1.Teil (T14020) 
LOCATION:Ev. Familien-Bildungsstätte, Saal, Gorch-Fock-Str. 5 a, 26135 Oldenburg
END:VEVENT
BEGIN:VEVENT
DTSTAMP:20260421T182823
DTSTART;TZID=Europe/Berlin:20250908T090000
DTEND;TZID=Europe/Berlin:20250908T103000
UID:T14020-20250908T090000@EFBOLDENBURG
SUMMARY:DELFI ®  Mai 2025 geborene Kinder 1.Teil (T14020) 
LOCATION:Ev. Familien-Bildungsstätte, Saal, Gorch-Fock-Str. 5 a, 26135 Oldenburg
END:VEVENT
BEGIN:VEVENT
DTSTAMP:20260421T182823
DTSTART;TZID=Europe/Berlin:20250915T090000
DTEND;TZID=Europe/Berlin:20250915T103000
UID:T14020-20250915T090000@EFBOLDENBURG
SUMMARY:DELFI ®  Mai 2025 geborene Kinder 1.Teil (T14020) 
LOCATION:Ev. Familien-Bildungsstätte, Saal, Gorch-Fock-Str. 5 a, 26135 Oldenburg
END:VEVENT
BEGIN:VEVENT
DTSTAMP:20260421T182823
DTSTART;TZID=Europe/Berlin:20250922T090000
DTEND;TZID=Europe/Berlin:20250922T103000
UID:T14020-20250922T090000@EFBOLDENBURG
SUMMARY:DELFI ®  Mai 2025 geborene Kinder 1.Teil (T14020) 
LOCATION:Ev. Familien-Bildungsstätte, Saal, Gorch-Fock-Str. 5 a, 26135 Oldenburg
END:VEVENT
BEGIN:VEVENT
DTSTAMP:20260421T182823
DTSTART;TZID=Europe/Berlin:20250929T090000
DTEND;TZID=Europe/Berlin:20250929T103000
UID:T14020-20250929T090000@EFBOLDENBURG
SUMMARY:DELFI ®  Mai 2025 geborene Kinder 1.Teil (T14020) 
LOCATION:Ev. Familien-Bildungsstätte, Saal, Gorch-Fock-Str. 5 a, 26135 Oldenburg
END:VEVENT
BEGIN:VEVENT
DTSTAMP:20260421T182823
DTSTART;TZID=Europe/Berlin:20251006T090000
DTEND;TZID=Europe/Berlin:20251006T103000
UID:T14020-20251006T090000@EFBOLDENBURG
SUMMARY:DELFI ®  Mai 2025 geborene Kinder 1.Teil (T14020) 
LOCATION:Ev. Familien-Bildungsstätte, Saal, Gorch-Fock-Str. 5 a, 26135 Oldenburg
END:VEVENT
BEGIN:VEVENT
DTSTAMP:20260421T182823
DTSTART;TZID=Europe/Berlin:20251027T090000
DTEND;TZID=Europe/Berlin:20251027T103000
UID:T14020-20251027T090000@EFBOLDENBURG
SUMMARY:DELFI ®  Mai 2025 geborene Kinder 1.Teil (T14020) 
LOCATION:Ev. Familien-Bildungsstätte, Saal, Gorch-Fock-Str. 5 a, 26135 Oldenburg
END:VEVENT
BEGIN:VEVENT
DTSTAMP:20260421T182823
DTSTART;TZID=Europe/Berlin:20251103T090000
DTEND;TZID=Europe/Berlin:20251103T103000
UID:T14020-20251103T090000@EFBOLDENBURG
SUMMARY:DELFI ®  Mai 2025 geborene Kinder 1.Teil (T14020) 
LOCATION:Ev. Familien-Bildungsstätte, Saal, Gorch-Fock-Str. 5 a, 26135 Oldenburg
END:VEVENT
BEGIN:VEVENT
DTSTAMP:20260421T182823
DTSTART;TZID=Europe/Berlin:20251117T090000
DTEND;TZID=Europe/Berlin:20251117T103000
UID:T14020-20251117T090000@EFBOLDENBURG
SUMMARY:DELFI ®  Mai 2025 geborene Kinder 1.Teil (T14020) 
LOCATION:Ev. Familien-Bildungsstätte, Saal, Gorch-Fock-Str. 5 a, 26135 Oldenburg
END:VEVENT
BEGIN:VEVENT
DTSTAMP:20260421T182823
DTSTART;TZID=Europe/Berlin:20251124T090000
DTEND;TZID=Europe/Berlin:20251124T103000
UID:T14020-20251124T090000@EFBOLDENBURG
DESCRIPTION:Ersatz für Ausfall am 01.09.2025
SUMMARY:DELFI ®  Mai 2025 geborene Kinder 1.Teil (T14020) 
LOCATION:Ev. Familien-Bildungsstätte, Saal, Gorch-Fock-Str. 5 a, 26135 Oldenburg
END:VEVENT
BEGIN:VEVENT
DTSTAMP:20260421T182823
DTSTART;TZID=Europe/Berlin:20251201T090000
DTEND;TZID=Europe/Berlin:20251201T103000
UID:T14020-20251201T090000@EFBOLDENBURG
DESCRIPTION:Ersatz für Ausfall am 10.11.2025
SUMMARY:DELFI ®  Mai 2025 geborene Kinder 1.Teil (T14020) 
LOCATION:Ev. Familien-Bildungsstätte, Saal, Gorch-Fock-Str. 5 a, 26135 Oldenburg
END:VEVENT
END:VCALENDAR