BEGIN:VCALENDAR
VERSION:2.0
PRODID:https://www.kufer.de/kuferweb / DE
METHOD:PUBLISH
CALSCALE:GREGORIAN
X-WR-TIMEZONE:Europe/Berlin
BEGIN:VTIMEZONE
TZID:Europe/Berlin
X-LIC-LOCATION:Europe/Berlin
BEGIN:DAYLIGHT
TZOFFSETFROM:+0100
TZOFFSETTO:+0200
TZNAME:CEST
DTSTART:19700329T020000
RRULE:FREQ=YEARLY;INTERVAL=1;BYDAY=-1SU;BYMONTH=3
END:DAYLIGHT
BEGIN:STANDARD
TZOFFSETFROM:+0200
TZOFFSETTO:+0100
TZNAME:CET
DTSTART:19701025T030000
RRULE:FREQ=YEARLY;INTERVAL=1;BYDAY=-1SU;BYMONTH=10
END:STANDARD
END:VTIMEZONE
BEGIN:VEVENT
DTSTAMP:20260421T202039
DTSTART;TZID=Europe/Berlin:20251208T090000
DTEND;TZID=Europe/Berlin:20251208T103000
UID:T14022-20251208T090000@EFBOLDENBURG
SUMMARY:DELFI ®  Mai 2025 geborene Kinder 2.Teil (T14022) 
LOCATION:Ev. Familien-Bildungsstätte, Saal, Gorch-Fock-Str. 5 a, 26135 Oldenburg
END:VEVENT
BEGIN:VEVENT
DTSTAMP:20260421T202039
DTSTART;TZID=Europe/Berlin:20251215T090000
DTEND;TZID=Europe/Berlin:20251215T103000
UID:T14022-20251215T090000@EFBOLDENBURG
SUMMARY:DELFI ®  Mai 2025 geborene Kinder 2.Teil (T14022) 
LOCATION:Ev. Familien-Bildungsstätte, Saal, Gorch-Fock-Str. 5 a, 26135 Oldenburg
END:VEVENT
BEGIN:VEVENT
DTSTAMP:20260421T202039
DTSTART;TZID=Europe/Berlin:20260126T090000
DTEND;TZID=Europe/Berlin:20260126T103000
UID:T14022-20260126T090000@EFBOLDENBURG
SUMMARY:DELFI ®  Mai 2025 geborene Kinder 2.Teil (T14022) 
LOCATION:Ev. Familien-Bildungsstätte, Saal, Gorch-Fock-Str. 5 a, 26135 Oldenburg
END:VEVENT
BEGIN:VEVENT
DTSTAMP:20260421T202039
DTSTART;TZID=Europe/Berlin:20260202T090000
DTEND;TZID=Europe/Berlin:20260202T103000
UID:T14022-20260202T090000@EFBOLDENBURG
DESCRIPTION:Ersatz für Ausfall am 19.01.2026 Ersatz für Ausfall am 27.04.2026
SUMMARY:DELFI ®  Mai 2025 geborene Kinder 2.Teil (T14022) 
LOCATION:Ev. Familien-Bildungsstätte, Saal, Gorch-Fock-Str. 5 a, 26135 Oldenburg
END:VEVENT
BEGIN:VEVENT
DTSTAMP:20260421T202039
DTSTART;TZID=Europe/Berlin:20260209T090000
DTEND;TZID=Europe/Berlin:20260209T103000
UID:T14022-20260209T090000@EFBOLDENBURG
SUMMARY:DELFI ®  Mai 2025 geborene Kinder 2.Teil (T14022) 
LOCATION:Ev. Familien-Bildungsstätte, Saal, Gorch-Fock-Str. 5 a, 26135 Oldenburg
END:VEVENT
BEGIN:VEVENT
DTSTAMP:20260421T202039
DTSTART;TZID=Europe/Berlin:20260216T090000
DTEND;TZID=Europe/Berlin:20260216T103000
UID:T14022-20260216T090000@EFBOLDENBURG
SUMMARY:DELFI ®  Mai 2025 geborene Kinder 2.Teil (T14022) 
LOCATION:Ev. Familien-Bildungsstätte, Saal, Gorch-Fock-Str. 5 a, 26135 Oldenburg
END:VEVENT
BEGIN:VEVENT
DTSTAMP:20260421T202039
DTSTART;TZID=Europe/Berlin:20260223T090000
DTEND;TZID=Europe/Berlin:20260223T103000
UID:T14022-20260223T090000@EFBOLDENBURG
SUMMARY:DELFI ®  Mai 2025 geborene Kinder 2.Teil (T14022) 
LOCATION:Ev. Familien-Bildungsstätte, Saal, Gorch-Fock-Str. 5 a, 26135 Oldenburg
END:VEVENT
BEGIN:VEVENT
DTSTAMP:20260421T202039
DTSTART;TZID=Europe/Berlin:20260302T090000
DTEND;TZID=Europe/Berlin:20260302T103000
UID:T14022-20260302T090000@EFBOLDENBURG
SUMMARY:DELFI ®  Mai 2025 geborene Kinder 2.Teil (T14022) 
LOCATION:Ev. Familien-Bildungsstätte, Saal, Gorch-Fock-Str. 5 a, 26135 Oldenburg
END:VEVENT
BEGIN:VEVENT
DTSTAMP:20260421T202039
DTSTART;TZID=Europe/Berlin:20260309T090000
DTEND;TZID=Europe/Berlin:20260309T103000
UID:T14022-20260309T090000@EFBOLDENBURG
SUMMARY:DELFI ®  Mai 2025 geborene Kinder 2.Teil (T14022) 
LOCATION:Ev. Familien-Bildungsstätte, Saal, Gorch-Fock-Str. 5 a, 26135 Oldenburg
END:VEVENT
BEGIN:VEVENT
DTSTAMP:20260421T202039
DTSTART;TZID=Europe/Berlin:20260316T090000
DTEND;TZID=Europe/Berlin:20260316T103000
UID:T14022-20260316T090000@EFBOLDENBURG
SUMMARY:DELFI ®  Mai 2025 geborene Kinder 2.Teil (T14022) 
LOCATION:Ev. Familien-Bildungsstätte, Saal, Gorch-Fock-Str. 5 a, 26135 Oldenburg
END:VEVENT
BEGIN:VEVENT
DTSTAMP:20260421T202039
DTSTART;TZID=Europe/Berlin:20260413T090000
DTEND;TZID=Europe/Berlin:20260413T103000
UID:T14022-20260413T090000@EFBOLDENBURG
SUMMARY:DELFI ®  Mai 2025 geborene Kinder 2.Teil (T14022) 
LOCATION:Ev. Familien-Bildungsstätte, Saal, Gorch-Fock-Str. 5 a, 26135 Oldenburg
END:VEVENT
BEGIN:VEVENT
DTSTAMP:20260421T202039
DTSTART;TZID=Europe/Berlin:20260420T090000
DTEND;TZID=Europe/Berlin:20260420T103000
UID:T14022-20260420T090000@EFBOLDENBURG
DESCRIPTION:Ersatz für Ausfall am 12.01.2026
SUMMARY:DELFI ®  Mai 2025 geborene Kinder 2.Teil (T14022) 
LOCATION:Ev. Familien-Bildungsstätte, Saal, Gorch-Fock-Str. 5 a, 26135 Oldenburg
END:VEVENT
END:VCALENDAR