BEGIN:VCALENDAR
VERSION:2.0
PRODID:https://www.kufer.de/kuferweb / DE
METHOD:PUBLISH
CALSCALE:GREGORIAN
X-WR-TIMEZONE:Europe/Berlin
BEGIN:VTIMEZONE
TZID:Europe/Berlin
X-LIC-LOCATION:Europe/Berlin
BEGIN:DAYLIGHT
TZOFFSETFROM:+0100
TZOFFSETTO:+0200
TZNAME:CEST
DTSTART:19700329T020000
RRULE:FREQ=YEARLY;INTERVAL=1;BYDAY=-1SU;BYMONTH=3
END:DAYLIGHT
BEGIN:STANDARD
TZOFFSETFROM:+0200
TZOFFSETTO:+0100
TZNAME:CET
DTSTART:19701025T030000
RRULE:FREQ=YEARLY;INTERVAL=1;BYDAY=-1SU;BYMONTH=10
END:STANDARD
END:VTIMEZONE
BEGIN:VEVENT
DTSTAMP:20260422T031832
DTSTART;TZID=Europe/Berlin:20250827T090000
DTEND;TZID=Europe/Berlin:20250827T103000
UID:T14030-20250827T090000@EFBOLDENBURG
SUMMARY:DELFI ®  Juni 2025 geborene Kinder 1.Teil (T14030) 
LOCATION:Ev. Familien-Bildungsstätte, Saal, Gorch-Fock-Str. 5 a, 26135 Oldenburg
END:VEVENT
BEGIN:VEVENT
DTSTAMP:20260422T031832
DTSTART;TZID=Europe/Berlin:20250903T090000
DTEND;TZID=Europe/Berlin:20250903T103000
UID:T14030-20250903T090000@EFBOLDENBURG
SUMMARY:DELFI ®  Juni 2025 geborene Kinder 1.Teil (T14030) 
LOCATION:Ev. Familien-Bildungsstätte, Saal, Gorch-Fock-Str. 5 a, 26135 Oldenburg
END:VEVENT
BEGIN:VEVENT
DTSTAMP:20260422T031832
DTSTART;TZID=Europe/Berlin:20250910T090000
DTEND;TZID=Europe/Berlin:20250910T103000
UID:T14030-20250910T090000@EFBOLDENBURG
SUMMARY:DELFI ®  Juni 2025 geborene Kinder 1.Teil (T14030) 
LOCATION:Ev. Familien-Bildungsstätte, Saal, Gorch-Fock-Str. 5 a, 26135 Oldenburg
END:VEVENT
BEGIN:VEVENT
DTSTAMP:20260422T031832
DTSTART;TZID=Europe/Berlin:20250924T090000
DTEND;TZID=Europe/Berlin:20250924T103000
UID:T14030-20250924T090000@EFBOLDENBURG
SUMMARY:DELFI ®  Juni 2025 geborene Kinder 1.Teil (T14030) 
LOCATION:Ev. Familien-Bildungsstätte, Saal, Gorch-Fock-Str. 5 a, 26135 Oldenburg
END:VEVENT
BEGIN:VEVENT
DTSTAMP:20260422T031832
DTSTART;TZID=Europe/Berlin:20251001T090000
DTEND;TZID=Europe/Berlin:20251001T103000
UID:T14030-20251001T090000@EFBOLDENBURG
SUMMARY:DELFI ®  Juni 2025 geborene Kinder 1.Teil (T14030) 
LOCATION:Ev. Familien-Bildungsstätte, Saal, Gorch-Fock-Str. 5 a, 26135 Oldenburg
END:VEVENT
BEGIN:VEVENT
DTSTAMP:20260422T031832
DTSTART;TZID=Europe/Berlin:20251008T090000
DTEND;TZID=Europe/Berlin:20251008T103000
UID:T14030-20251008T090000@EFBOLDENBURG
SUMMARY:DELFI ®  Juni 2025 geborene Kinder 1.Teil (T14030) 
LOCATION:Ev. Familien-Bildungsstätte, Saal, Gorch-Fock-Str. 5 a, 26135 Oldenburg
END:VEVENT
BEGIN:VEVENT
DTSTAMP:20260422T031832
DTSTART;TZID=Europe/Berlin:20251029T090000
DTEND;TZID=Europe/Berlin:20251029T103000
UID:T14030-20251029T090000@EFBOLDENBURG
SUMMARY:DELFI ®  Juni 2025 geborene Kinder 1.Teil (T14030) 
LOCATION:Ev. Familien-Bildungsstätte, Saal, Gorch-Fock-Str. 5 a, 26135 Oldenburg
END:VEVENT
BEGIN:VEVENT
DTSTAMP:20260422T031832
DTSTART;TZID=Europe/Berlin:20251105T090000
DTEND;TZID=Europe/Berlin:20251105T103000
UID:T14030-20251105T090000@EFBOLDENBURG
SUMMARY:DELFI ®  Juni 2025 geborene Kinder 1.Teil (T14030) 
LOCATION:Ev. Familien-Bildungsstätte, Saal, Gorch-Fock-Str. 5 a, 26135 Oldenburg
END:VEVENT
BEGIN:VEVENT
DTSTAMP:20260422T031832
DTSTART;TZID=Europe/Berlin:20251112T090000
DTEND;TZID=Europe/Berlin:20251112T103000
UID:T14030-20251112T090000@EFBOLDENBURG
SUMMARY:DELFI ®  Juni 2025 geborene Kinder 1.Teil (T14030) 
LOCATION:Ev. Familien-Bildungsstätte, Saal, Gorch-Fock-Str. 5 a, 26135 Oldenburg
END:VEVENT
BEGIN:VEVENT
DTSTAMP:20260422T031832
DTSTART;TZID=Europe/Berlin:20251119T090000
DTEND;TZID=Europe/Berlin:20251119T103000
UID:T14030-20251119T090000@EFBOLDENBURG
SUMMARY:DELFI ®  Juni 2025 geborene Kinder 1.Teil (T14030) 
LOCATION:Ev. Familien-Bildungsstätte, Saal, Gorch-Fock-Str. 5 a, 26135 Oldenburg
END:VEVENT
BEGIN:VEVENT
DTSTAMP:20260422T031832
DTSTART;TZID=Europe/Berlin:20251126T090000
DTEND;TZID=Europe/Berlin:20251126T103000
UID:T14030-20251126T090000@EFBOLDENBURG
SUMMARY:DELFI ®  Juni 2025 geborene Kinder 1.Teil (T14030) 
LOCATION:Ev. Familien-Bildungsstätte, Saal, Gorch-Fock-Str. 5 a, 26135 Oldenburg
END:VEVENT
BEGIN:VEVENT
DTSTAMP:20260422T031832
DTSTART;TZID=Europe/Berlin:20251203T090000
DTEND;TZID=Europe/Berlin:20251203T103000
UID:T14030-20251203T090000@EFBOLDENBURG
SUMMARY:DELFI ®  Juni 2025 geborene Kinder 1.Teil (T14030) 
LOCATION:Ev. Familien-Bildungsstätte, Saal, Gorch-Fock-Str. 5 a, 26135 Oldenburg
END:VEVENT
BEGIN:VEVENT
DTSTAMP:20260422T031832
DTSTART;TZID=Europe/Berlin:20251210T090000
DTEND;TZID=Europe/Berlin:20251210T103000
UID:T14030-20251210T090000@EFBOLDENBURG
SUMMARY:DELFI ®  Juni 2025 geborene Kinder 1.Teil (T14030) 
LOCATION:Ev. Familien-Bildungsstätte, Saal, Gorch-Fock-Str. 5 a, 26135 Oldenburg
END:VEVENT
BEGIN:VEVENT
DTSTAMP:20260422T031832
DTSTART;TZID=Europe/Berlin:20251217T090000
DTEND;TZID=Europe/Berlin:20251217T103000
UID:T14030-20251217T090000@EFBOLDENBURG
SUMMARY:DELFI ®  Juni 2025 geborene Kinder 1.Teil (T14030) 
LOCATION:Ev. Familien-Bildungsstätte, Saal, Gorch-Fock-Str. 5 a, 26135 Oldenburg
END:VEVENT
BEGIN:VEVENT
DTSTAMP:20260422T031832
DTSTART;TZID=Europe/Berlin:20260107T090000
DTEND;TZID=Europe/Berlin:20260107T103000
UID:T14030-20260107T090000@EFBOLDENBURG
DESCRIPTION:Ersatz für Ausfall am 17.09.2025
SUMMARY:DELFI ®  Juni 2025 geborene Kinder 1.Teil (T14030) 
LOCATION:Ev. Familien-Bildungsstätte, Saal, Gorch-Fock-Str. 5 a, 26135 Oldenburg
END:VEVENT
END:VCALENDAR