BEGIN:VCALENDAR
VERSION:2.0
PRODID:https://www.kufer.de/kuferweb / DE
METHOD:PUBLISH
CALSCALE:GREGORIAN
X-WR-TIMEZONE:Europe/Berlin
BEGIN:VTIMEZONE
TZID:Europe/Berlin
X-LIC-LOCATION:Europe/Berlin
BEGIN:DAYLIGHT
TZOFFSETFROM:+0100
TZOFFSETTO:+0200
TZNAME:CEST
DTSTART:19700329T020000
RRULE:FREQ=YEARLY;INTERVAL=1;BYDAY=-1SU;BYMONTH=3
END:DAYLIGHT
BEGIN:STANDARD
TZOFFSETFROM:+0200
TZOFFSETTO:+0100
TZNAME:CET
DTSTART:19701025T030000
RRULE:FREQ=YEARLY;INTERVAL=1;BYDAY=-1SU;BYMONTH=10
END:STANDARD
END:VTIMEZONE
BEGIN:VEVENT
DTSTAMP:20260422T011926
DTSTART;TZID=Europe/Berlin:20250924T104500
DTEND;TZID=Europe/Berlin:20250924T121500
UID:T14031-20250924T104500@EFBOLDENBURG
SUMMARY:DELFI ®  Juni 2025 geborene Kinder 1.Teil (T14031) 
LOCATION:Ev. Familien-Bildungsstätte, Saal, Gorch-Fock-Str. 5 a, 26135 Oldenburg
END:VEVENT
BEGIN:VEVENT
DTSTAMP:20260422T011926
DTSTART;TZID=Europe/Berlin:20251001T104500
DTEND;TZID=Europe/Berlin:20251001T121500
UID:T14031-20251001T104500@EFBOLDENBURG
SUMMARY:DELFI ®  Juni 2025 geborene Kinder 1.Teil (T14031) 
LOCATION:Ev. Familien-Bildungsstätte, Saal, Gorch-Fock-Str. 5 a, 26135 Oldenburg
END:VEVENT
BEGIN:VEVENT
DTSTAMP:20260422T011926
DTSTART;TZID=Europe/Berlin:20251008T104500
DTEND;TZID=Europe/Berlin:20251008T121500
UID:T14031-20251008T104500@EFBOLDENBURG
SUMMARY:DELFI ®  Juni 2025 geborene Kinder 1.Teil (T14031) 
LOCATION:Ev. Familien-Bildungsstätte, Saal, Gorch-Fock-Str. 5 a, 26135 Oldenburg
END:VEVENT
BEGIN:VEVENT
DTSTAMP:20260422T011926
DTSTART;TZID=Europe/Berlin:20251029T104500
DTEND;TZID=Europe/Berlin:20251029T121500
UID:T14031-20251029T104500@EFBOLDENBURG
SUMMARY:DELFI ®  Juni 2025 geborene Kinder 1.Teil (T14031) 
LOCATION:Ev. Familien-Bildungsstätte, Saal, Gorch-Fock-Str. 5 a, 26135 Oldenburg
END:VEVENT
BEGIN:VEVENT
DTSTAMP:20260422T011926
DTSTART;TZID=Europe/Berlin:20251105T104500
DTEND;TZID=Europe/Berlin:20251105T121500
UID:T14031-20251105T104500@EFBOLDENBURG
SUMMARY:DELFI ®  Juni 2025 geborene Kinder 1.Teil (T14031) 
LOCATION:Ev. Familien-Bildungsstätte, Saal, Gorch-Fock-Str. 5 a, 26135 Oldenburg
END:VEVENT
BEGIN:VEVENT
DTSTAMP:20260422T011926
DTSTART;TZID=Europe/Berlin:20251112T104500
DTEND;TZID=Europe/Berlin:20251112T121500
UID:T14031-20251112T104500@EFBOLDENBURG
SUMMARY:DELFI ®  Juni 2025 geborene Kinder 1.Teil (T14031) 
LOCATION:Ev. Familien-Bildungsstätte, Saal, Gorch-Fock-Str. 5 a, 26135 Oldenburg
END:VEVENT
BEGIN:VEVENT
DTSTAMP:20260422T011926
DTSTART;TZID=Europe/Berlin:20251119T104500
DTEND;TZID=Europe/Berlin:20251119T121500
UID:T14031-20251119T104500@EFBOLDENBURG
SUMMARY:DELFI ®  Juni 2025 geborene Kinder 1.Teil (T14031) 
LOCATION:Ev. Familien-Bildungsstätte, Saal, Gorch-Fock-Str. 5 a, 26135 Oldenburg
END:VEVENT
BEGIN:VEVENT
DTSTAMP:20260422T011926
DTSTART;TZID=Europe/Berlin:20251126T104500
DTEND;TZID=Europe/Berlin:20251126T121500
UID:T14031-20251126T104500@EFBOLDENBURG
SUMMARY:DELFI ®  Juni 2025 geborene Kinder 1.Teil (T14031) 
LOCATION:Ev. Familien-Bildungsstätte, Saal, Gorch-Fock-Str. 5 a, 26135 Oldenburg
END:VEVENT
BEGIN:VEVENT
DTSTAMP:20260422T011926
DTSTART;TZID=Europe/Berlin:20251203T104500
DTEND;TZID=Europe/Berlin:20251203T121500
UID:T14031-20251203T104500@EFBOLDENBURG
SUMMARY:DELFI ®  Juni 2025 geborene Kinder 1.Teil (T14031) 
LOCATION:Ev. Familien-Bildungsstätte, Saal, Gorch-Fock-Str. 5 a, 26135 Oldenburg
END:VEVENT
BEGIN:VEVENT
DTSTAMP:20260422T011926
DTSTART;TZID=Europe/Berlin:20251210T104500
DTEND;TZID=Europe/Berlin:20251210T121500
UID:T14031-20251210T104500@EFBOLDENBURG
SUMMARY:DELFI ®  Juni 2025 geborene Kinder 1.Teil (T14031) 
LOCATION:Ev. Familien-Bildungsstätte, Saal, Gorch-Fock-Str. 5 a, 26135 Oldenburg
END:VEVENT
BEGIN:VEVENT
DTSTAMP:20260422T011926
DTSTART;TZID=Europe/Berlin:20251217T104500
DTEND;TZID=Europe/Berlin:20251217T121500
UID:T14031-20251217T104500@EFBOLDENBURG
SUMMARY:DELFI ®  Juni 2025 geborene Kinder 1.Teil (T14031) 
LOCATION:Ev. Familien-Bildungsstätte, Saal, Gorch-Fock-Str. 5 a, 26135 Oldenburg
END:VEVENT
BEGIN:VEVENT
DTSTAMP:20260422T011926
DTSTART;TZID=Europe/Berlin:20260107T104500
DTEND;TZID=Europe/Berlin:20260107T121500
UID:T14031-20260107T104500@EFBOLDENBURG
SUMMARY:DELFI ®  Juni 2025 geborene Kinder 1.Teil (T14031) 
LOCATION:Ev. Familien-Bildungsstätte, Saal, Gorch-Fock-Str. 5 a, 26135 Oldenburg
END:VEVENT
BEGIN:VEVENT
DTSTAMP:20260422T011926
DTSTART;TZID=Europe/Berlin:20260114T104500
DTEND;TZID=Europe/Berlin:20260114T121500
UID:T14031-20260114T104500@EFBOLDENBURG
SUMMARY:DELFI ®  Juni 2025 geborene Kinder 1.Teil (T14031) 
LOCATION:Ev. Familien-Bildungsstätte, Saal, Gorch-Fock-Str. 5 a, 26135 Oldenburg
END:VEVENT
BEGIN:VEVENT
DTSTAMP:20260422T011926
DTSTART;TZID=Europe/Berlin:20260121T104500
DTEND;TZID=Europe/Berlin:20260121T121500
UID:T14031-20260121T104500@EFBOLDENBURG
SUMMARY:DELFI ®  Juni 2025 geborene Kinder 1.Teil (T14031) 
LOCATION:Ev. Familien-Bildungsstätte, Saal, Gorch-Fock-Str. 5 a, 26135 Oldenburg
END:VEVENT
BEGIN:VEVENT
DTSTAMP:20260422T011926
DTSTART;TZID=Europe/Berlin:20260128T104500
DTEND;TZID=Europe/Berlin:20260128T121500
UID:T14031-20260128T104500@EFBOLDENBURG
SUMMARY:DELFI ®  Juni 2025 geborene Kinder 1.Teil (T14031) 
LOCATION:Ev. Familien-Bildungsstätte, Saal, Gorch-Fock-Str. 5 a, 26135 Oldenburg
END:VEVENT
END:VCALENDAR