BEGIN:VCALENDAR
VERSION:2.0
PRODID:https://www.kufer.de/kuferweb / DE
METHOD:PUBLISH
CALSCALE:GREGORIAN
X-WR-TIMEZONE:Europe/Berlin
BEGIN:VTIMEZONE
TZID:Europe/Berlin
X-LIC-LOCATION:Europe/Berlin
BEGIN:DAYLIGHT
TZOFFSETFROM:+0100
TZOFFSETTO:+0200
TZNAME:CEST
DTSTART:19700329T020000
RRULE:FREQ=YEARLY;INTERVAL=1;BYDAY=-1SU;BYMONTH=3
END:DAYLIGHT
BEGIN:STANDARD
TZOFFSETFROM:+0200
TZOFFSETTO:+0100
TZNAME:CET
DTSTART:19701025T030000
RRULE:FREQ=YEARLY;INTERVAL=1;BYDAY=-1SU;BYMONTH=10
END:STANDARD
END:VTIMEZONE
BEGIN:VEVENT
DTSTAMP:20260421T152440
DTSTART;TZID=Europe/Berlin:20250929T090000
DTEND;TZID=Europe/Berlin:20250929T103000
UID:T14034-20250929T090000@EFBOLDENBURG
SUMMARY:DELFI ®  Juli 2025 geborene Kinder 1.Teil (T14034) 
LOCATION:Ev. Familien-Bildungsstätte, Kinderraum, Gorch-Fock-Str. 5 a, 26135 Oldenburg
END:VEVENT
BEGIN:VEVENT
DTSTAMP:20260421T152440
DTSTART;TZID=Europe/Berlin:20251006T090000
DTEND;TZID=Europe/Berlin:20251006T103000
UID:T14034-20251006T090000@EFBOLDENBURG
SUMMARY:DELFI ®  Juli 2025 geborene Kinder 1.Teil (T14034) 
LOCATION:Ev. Familien-Bildungsstätte, Kinderraum, Gorch-Fock-Str. 5 a, 26135 Oldenburg
END:VEVENT
BEGIN:VEVENT
DTSTAMP:20260421T152440
DTSTART;TZID=Europe/Berlin:20251027T090000
DTEND;TZID=Europe/Berlin:20251027T103000
UID:T14034-20251027T090000@EFBOLDENBURG
SUMMARY:DELFI ®  Juli 2025 geborene Kinder 1.Teil (T14034) 
LOCATION:Ev. Familien-Bildungsstätte, Kinderraum, Gorch-Fock-Str. 5 a, 26135 Oldenburg
END:VEVENT
BEGIN:VEVENT
DTSTAMP:20260421T152440
DTSTART;TZID=Europe/Berlin:20251103T090000
DTEND;TZID=Europe/Berlin:20251103T103000
UID:T14034-20251103T090000@EFBOLDENBURG
SUMMARY:DELFI ®  Juli 2025 geborene Kinder 1.Teil (T14034) 
LOCATION:Ev. Familien-Bildungsstätte, Kinderraum, Gorch-Fock-Str. 5 a, 26135 Oldenburg
END:VEVENT
BEGIN:VEVENT
DTSTAMP:20260421T152440
DTSTART;TZID=Europe/Berlin:20251110T090000
DTEND;TZID=Europe/Berlin:20251110T103000
UID:T14034-20251110T090000@EFBOLDENBURG
SUMMARY:DELFI ®  Juli 2025 geborene Kinder 1.Teil (T14034) 
LOCATION:Ev. Familien-Bildungsstätte, Kinderraum, Gorch-Fock-Str. 5 a, 26135 Oldenburg
END:VEVENT
BEGIN:VEVENT
DTSTAMP:20260421T152440
DTSTART;TZID=Europe/Berlin:20251117T090000
DTEND;TZID=Europe/Berlin:20251117T103000
UID:T14034-20251117T090000@EFBOLDENBURG
SUMMARY:DELFI ®  Juli 2025 geborene Kinder 1.Teil (T14034) 
LOCATION:Ev. Familien-Bildungsstätte, Kinderraum, Gorch-Fock-Str. 5 a, 26135 Oldenburg
END:VEVENT
BEGIN:VEVENT
DTSTAMP:20260421T152440
DTSTART;TZID=Europe/Berlin:20251124T090000
DTEND;TZID=Europe/Berlin:20251124T103000
UID:T14034-20251124T090000@EFBOLDENBURG
SUMMARY:DELFI ®  Juli 2025 geborene Kinder 1.Teil (T14034) 
LOCATION:Ev. Familien-Bildungsstätte, Kinderraum, Gorch-Fock-Str. 5 a, 26135 Oldenburg
END:VEVENT
BEGIN:VEVENT
DTSTAMP:20260421T152440
DTSTART;TZID=Europe/Berlin:20251201T090000
DTEND;TZID=Europe/Berlin:20251201T103000
UID:T14034-20251201T090000@EFBOLDENBURG
SUMMARY:DELFI ®  Juli 2025 geborene Kinder 1.Teil (T14034) 
LOCATION:Ev. Familien-Bildungsstätte, Kinderraum, Gorch-Fock-Str. 5 a, 26135 Oldenburg
END:VEVENT
BEGIN:VEVENT
DTSTAMP:20260421T152440
DTSTART;TZID=Europe/Berlin:20251208T090000
DTEND;TZID=Europe/Berlin:20251208T103000
UID:T14034-20251208T090000@EFBOLDENBURG
SUMMARY:DELFI ®  Juli 2025 geborene Kinder 1.Teil (T14034) 
LOCATION:Ev. Familien-Bildungsstätte, Kinderraum, Gorch-Fock-Str. 5 a, 26135 Oldenburg
END:VEVENT
BEGIN:VEVENT
DTSTAMP:20260421T152440
DTSTART;TZID=Europe/Berlin:20251215T090000
DTEND;TZID=Europe/Berlin:20251215T103000
UID:T14034-20251215T090000@EFBOLDENBURG
SUMMARY:DELFI ®  Juli 2025 geborene Kinder 1.Teil (T14034) 
LOCATION:Ev. Familien-Bildungsstätte, Kinderraum, Gorch-Fock-Str. 5 a, 26135 Oldenburg
END:VEVENT
BEGIN:VEVENT
DTSTAMP:20260421T152440
DTSTART;TZID=Europe/Berlin:20260119T090000
DTEND;TZID=Europe/Berlin:20260119T103000
UID:T14034-20260119T090000@EFBOLDENBURG
SUMMARY:DELFI ®  Juli 2025 geborene Kinder 1.Teil (T14034) 
LOCATION:Ev. Familien-Bildungsstätte, Kinderraum, Gorch-Fock-Str. 5 a, 26135 Oldenburg
END:VEVENT
BEGIN:VEVENT
DTSTAMP:20260421T152440
DTSTART;TZID=Europe/Berlin:20260126T090000
DTEND;TZID=Europe/Berlin:20260126T103000
UID:T14034-20260126T090000@EFBOLDENBURG
SUMMARY:DELFI ®  Juli 2025 geborene Kinder 1.Teil (T14034) 
LOCATION:Ev. Familien-Bildungsstätte, Kinderraum, Gorch-Fock-Str. 5 a, 26135 Oldenburg
END:VEVENT
BEGIN:VEVENT
DTSTAMP:20260421T152440
DTSTART;TZID=Europe/Berlin:20260202T104500
DTEND;TZID=Europe/Berlin:20260202T121500
UID:T14034-20260202T104500@EFBOLDENBURG
DESCRIPTION:Ersatz für Ausfall am 12.01.2026
SUMMARY:DELFI ®  Juli 2025 geborene Kinder 1.Teil (T14034) 
LOCATION:Ev. Familien-Bildungsstätte, Kinderraum, Gorch-Fock-Str. 5 a, 26135 Oldenburg
END:VEVENT
BEGIN:VEVENT
DTSTAMP:20260421T152440
DTSTART;TZID=Europe/Berlin:20260209T090000
DTEND;TZID=Europe/Berlin:20260209T103000
UID:T14034-20260209T090000@EFBOLDENBURG
SUMMARY:DELFI ®  Juli 2025 geborene Kinder 1.Teil (T14034) 
LOCATION:Ev. Familien-Bildungsstätte, Kinderraum, Gorch-Fock-Str. 5 a, 26135 Oldenburg
END:VEVENT
BEGIN:VEVENT
DTSTAMP:20260421T152440
DTSTART;TZID=Europe/Berlin:20260216T090000
DTEND;TZID=Europe/Berlin:20260216T103000
UID:T14034-20260216T090000@EFBOLDENBURG
SUMMARY:DELFI ®  Juli 2025 geborene Kinder 1.Teil (T14034) 
LOCATION:Ev. Familien-Bildungsstätte, Kinderraum, Gorch-Fock-Str. 5 a, 26135 Oldenburg
END:VEVENT
END:VCALENDAR