BEGIN:VCALENDAR
VERSION:2.0
PRODID:https://www.kufer.de/kuferweb / DE
METHOD:PUBLISH
CALSCALE:GREGORIAN
X-WR-TIMEZONE:Europe/Berlin
BEGIN:VTIMEZONE
TZID:Europe/Berlin
X-LIC-LOCATION:Europe/Berlin
BEGIN:DAYLIGHT
TZOFFSETFROM:+0100
TZOFFSETTO:+0200
TZNAME:CEST
DTSTART:19700329T020000
RRULE:FREQ=YEARLY;INTERVAL=1;BYDAY=-1SU;BYMONTH=3
END:DAYLIGHT
BEGIN:STANDARD
TZOFFSETFROM:+0200
TZOFFSETTO:+0100
TZNAME:CET
DTSTART:19701025T030000
RRULE:FREQ=YEARLY;INTERVAL=1;BYDAY=-1SU;BYMONTH=10
END:STANDARD
END:VTIMEZONE
BEGIN:VEVENT
DTSTAMP:20260421T220258
DTSTART;TZID=Europe/Berlin:20250930T090000
DTEND;TZID=Europe/Berlin:20250930T103000
UID:T14035-20250930T090000@EFBOLDENBURG
SUMMARY:DELFI ®  Juli 2025 geborene Kinder 1.Teil (T14035) 
LOCATION:Ev. Familien-Bildungsstätte, Kinderraum, Gorch-Fock-Str. 5 a, 26135 Oldenburg
END:VEVENT
BEGIN:VEVENT
DTSTAMP:20260421T220258
DTSTART;TZID=Europe/Berlin:20251007T090000
DTEND;TZID=Europe/Berlin:20251007T103000
UID:T14035-20251007T090000@EFBOLDENBURG
SUMMARY:DELFI ®  Juli 2025 geborene Kinder 1.Teil (T14035) 
LOCATION:Ev. Familien-Bildungsstätte, Kinderraum, Gorch-Fock-Str. 5 a, 26135 Oldenburg
END:VEVENT
BEGIN:VEVENT
DTSTAMP:20260421T220258
DTSTART;TZID=Europe/Berlin:20251028T090000
DTEND;TZID=Europe/Berlin:20251028T103000
UID:T14035-20251028T090000@EFBOLDENBURG
SUMMARY:DELFI ®  Juli 2025 geborene Kinder 1.Teil (T14035) 
LOCATION:Ev. Familien-Bildungsstätte, Kinderraum, Gorch-Fock-Str. 5 a, 26135 Oldenburg
END:VEVENT
BEGIN:VEVENT
DTSTAMP:20260421T220258
DTSTART;TZID=Europe/Berlin:20251104T090000
DTEND;TZID=Europe/Berlin:20251104T103000
UID:T14035-20251104T090000@EFBOLDENBURG
SUMMARY:DELFI ®  Juli 2025 geborene Kinder 1.Teil (T14035) 
LOCATION:Ev. Familien-Bildungsstätte, Kinderraum, Gorch-Fock-Str. 5 a, 26135 Oldenburg
END:VEVENT
BEGIN:VEVENT
DTSTAMP:20260421T220258
DTSTART;TZID=Europe/Berlin:20251111T090000
DTEND;TZID=Europe/Berlin:20251111T103000
UID:T14035-20251111T090000@EFBOLDENBURG
SUMMARY:DELFI ®  Juli 2025 geborene Kinder 1.Teil (T14035) 
LOCATION:Ev. Familien-Bildungsstätte, Kinderraum, Gorch-Fock-Str. 5 a, 26135 Oldenburg
END:VEVENT
BEGIN:VEVENT
DTSTAMP:20260421T220258
DTSTART;TZID=Europe/Berlin:20251118T090000
DTEND;TZID=Europe/Berlin:20251118T103000
UID:T14035-20251118T090000@EFBOLDENBURG
SUMMARY:DELFI ®  Juli 2025 geborene Kinder 1.Teil (T14035) 
LOCATION:Ev. Familien-Bildungsstätte, Kinderraum, Gorch-Fock-Str. 5 a, 26135 Oldenburg
END:VEVENT
BEGIN:VEVENT
DTSTAMP:20260421T220258
DTSTART;TZID=Europe/Berlin:20251125T090000
DTEND;TZID=Europe/Berlin:20251125T103000
UID:T14035-20251125T090000@EFBOLDENBURG
SUMMARY:DELFI ®  Juli 2025 geborene Kinder 1.Teil (T14035) 
LOCATION:Ev. Familien-Bildungsstätte, Kinderraum, Gorch-Fock-Str. 5 a, 26135 Oldenburg
END:VEVENT
BEGIN:VEVENT
DTSTAMP:20260421T220258
DTSTART;TZID=Europe/Berlin:20251202T090000
DTEND;TZID=Europe/Berlin:20251202T103000
UID:T14035-20251202T090000@EFBOLDENBURG
SUMMARY:DELFI ®  Juli 2025 geborene Kinder 1.Teil (T14035) 
LOCATION:Ev. Familien-Bildungsstätte, Kinderraum, Gorch-Fock-Str. 5 a, 26135 Oldenburg
END:VEVENT
BEGIN:VEVENT
DTSTAMP:20260421T220258
DTSTART;TZID=Europe/Berlin:20251209T090000
DTEND;TZID=Europe/Berlin:20251209T103000
UID:T14035-20251209T090000@EFBOLDENBURG
SUMMARY:DELFI ®  Juli 2025 geborene Kinder 1.Teil (T14035) 
LOCATION:Ev. Familien-Bildungsstätte, Kinderraum, Gorch-Fock-Str. 5 a, 26135 Oldenburg
END:VEVENT
BEGIN:VEVENT
DTSTAMP:20260421T220258
DTSTART;TZID=Europe/Berlin:20251216T090000
DTEND;TZID=Europe/Berlin:20251216T103000
UID:T14035-20251216T090000@EFBOLDENBURG
SUMMARY:DELFI ®  Juli 2025 geborene Kinder 1.Teil (T14035) 
LOCATION:Ev. Familien-Bildungsstätte, Kinderraum, Gorch-Fock-Str. 5 a, 26135 Oldenburg
END:VEVENT
BEGIN:VEVENT
DTSTAMP:20260421T220258
DTSTART;TZID=Europe/Berlin:20260106T090000
DTEND;TZID=Europe/Berlin:20260106T103000
UID:T14035-20260106T090000@EFBOLDENBURG
SUMMARY:DELFI ®  Juli 2025 geborene Kinder 1.Teil (T14035) 
LOCATION:Ev. Familien-Bildungsstätte, Kinderraum, Gorch-Fock-Str. 5 a, 26135 Oldenburg
END:VEVENT
BEGIN:VEVENT
DTSTAMP:20260421T220258
DTSTART;TZID=Europe/Berlin:20260113T090000
DTEND;TZID=Europe/Berlin:20260113T103000
UID:T14035-20260113T090000@EFBOLDENBURG
SUMMARY:DELFI ®  Juli 2025 geborene Kinder 1.Teil (T14035) 
LOCATION:Ev. Familien-Bildungsstätte, Kinderraum, Gorch-Fock-Str. 5 a, 26135 Oldenburg
END:VEVENT
BEGIN:VEVENT
DTSTAMP:20260421T220258
DTSTART;TZID=Europe/Berlin:20260120T090000
DTEND;TZID=Europe/Berlin:20260120T103000
UID:T14035-20260120T090000@EFBOLDENBURG
SUMMARY:DELFI ®  Juli 2025 geborene Kinder 1.Teil (T14035) 
LOCATION:Ev. Familien-Bildungsstätte, Kinderraum, Gorch-Fock-Str. 5 a, 26135 Oldenburg
END:VEVENT
BEGIN:VEVENT
DTSTAMP:20260421T220258
DTSTART;TZID=Europe/Berlin:20260127T090000
DTEND;TZID=Europe/Berlin:20260127T103000
UID:T14035-20260127T090000@EFBOLDENBURG
SUMMARY:DELFI ®  Juli 2025 geborene Kinder 1.Teil (T14035) 
LOCATION:Ev. Familien-Bildungsstätte, Kinderraum, Gorch-Fock-Str. 5 a, 26135 Oldenburg
END:VEVENT
BEGIN:VEVENT
DTSTAMP:20260421T220258
DTSTART;TZID=Europe/Berlin:20260210T090000
DTEND;TZID=Europe/Berlin:20260210T103000
UID:T14035-20260210T090000@EFBOLDENBURG
SUMMARY:DELFI ®  Juli 2025 geborene Kinder 1.Teil (T14035) 
LOCATION:Ev. Familien-Bildungsstätte, Kinderraum, Gorch-Fock-Str. 5 a, 26135 Oldenburg
END:VEVENT
END:VCALENDAR