BEGIN:VCALENDAR
VERSION:2.0
PRODID:https://www.kufer.de/kuferweb / DE
METHOD:PUBLISH
CALSCALE:GREGORIAN
X-WR-TIMEZONE:Europe/Berlin
BEGIN:VTIMEZONE
TZID:Europe/Berlin
X-LIC-LOCATION:Europe/Berlin
BEGIN:DAYLIGHT
TZOFFSETFROM:+0100
TZOFFSETTO:+0200
TZNAME:CEST
DTSTART:19700329T020000
RRULE:FREQ=YEARLY;INTERVAL=1;BYDAY=-1SU;BYMONTH=3
END:DAYLIGHT
BEGIN:STANDARD
TZOFFSETFROM:+0200
TZOFFSETTO:+0100
TZNAME:CET
DTSTART:19701025T030000
RRULE:FREQ=YEARLY;INTERVAL=1;BYDAY=-1SU;BYMONTH=10
END:STANDARD
END:VTIMEZONE
BEGIN:VEVENT
DTSTAMP:20260421T204146
DTSTART;TZID=Europe/Berlin:20250930T104500
DTEND;TZID=Europe/Berlin:20250930T121500
UID:T14036-20250930T104500@EFBOLDENBURG
SUMMARY:DELFI ®  Juli 2025 geborene Kinder 1.Teil (T14036) 
LOCATION:Ev. Familien-Bildungsstätte, Kinderraum, Gorch-Fock-Str. 5 a, 26135 Oldenburg
END:VEVENT
BEGIN:VEVENT
DTSTAMP:20260421T204146
DTSTART;TZID=Europe/Berlin:20251007T104500
DTEND;TZID=Europe/Berlin:20251007T121500
UID:T14036-20251007T104500@EFBOLDENBURG
SUMMARY:DELFI ®  Juli 2025 geborene Kinder 1.Teil (T14036) 
LOCATION:Ev. Familien-Bildungsstätte, Kinderraum, Gorch-Fock-Str. 5 a, 26135 Oldenburg
END:VEVENT
BEGIN:VEVENT
DTSTAMP:20260421T204146
DTSTART;TZID=Europe/Berlin:20251028T104500
DTEND;TZID=Europe/Berlin:20251028T121500
UID:T14036-20251028T104500@EFBOLDENBURG
SUMMARY:DELFI ®  Juli 2025 geborene Kinder 1.Teil (T14036) 
LOCATION:Ev. Familien-Bildungsstätte, Kinderraum, Gorch-Fock-Str. 5 a, 26135 Oldenburg
END:VEVENT
BEGIN:VEVENT
DTSTAMP:20260421T204146
DTSTART;TZID=Europe/Berlin:20251104T104500
DTEND;TZID=Europe/Berlin:20251104T121500
UID:T14036-20251104T104500@EFBOLDENBURG
SUMMARY:DELFI ®  Juli 2025 geborene Kinder 1.Teil (T14036) 
LOCATION:Ev. Familien-Bildungsstätte, Kinderraum, Gorch-Fock-Str. 5 a, 26135 Oldenburg
END:VEVENT
BEGIN:VEVENT
DTSTAMP:20260421T204146
DTSTART;TZID=Europe/Berlin:20251111T104500
DTEND;TZID=Europe/Berlin:20251111T121500
UID:T14036-20251111T104500@EFBOLDENBURG
SUMMARY:DELFI ®  Juli 2025 geborene Kinder 1.Teil (T14036) 
LOCATION:Ev. Familien-Bildungsstätte, Kinderraum, Gorch-Fock-Str. 5 a, 26135 Oldenburg
END:VEVENT
BEGIN:VEVENT
DTSTAMP:20260421T204146
DTSTART;TZID=Europe/Berlin:20251118T104500
DTEND;TZID=Europe/Berlin:20251118T121500
UID:T14036-20251118T104500@EFBOLDENBURG
SUMMARY:DELFI ®  Juli 2025 geborene Kinder 1.Teil (T14036) 
LOCATION:Ev. Familien-Bildungsstätte, Kinderraum, Gorch-Fock-Str. 5 a, 26135 Oldenburg
END:VEVENT
BEGIN:VEVENT
DTSTAMP:20260421T204146
DTSTART;TZID=Europe/Berlin:20251125T104500
DTEND;TZID=Europe/Berlin:20251125T121500
UID:T14036-20251125T104500@EFBOLDENBURG
SUMMARY:DELFI ®  Juli 2025 geborene Kinder 1.Teil (T14036) 
LOCATION:Ev. Familien-Bildungsstätte, Kinderraum, Gorch-Fock-Str. 5 a, 26135 Oldenburg
END:VEVENT
BEGIN:VEVENT
DTSTAMP:20260421T204146
DTSTART;TZID=Europe/Berlin:20251202T104500
DTEND;TZID=Europe/Berlin:20251202T121500
UID:T14036-20251202T104500@EFBOLDENBURG
SUMMARY:DELFI ®  Juli 2025 geborene Kinder 1.Teil (T14036) 
LOCATION:Ev. Familien-Bildungsstätte, Kinderraum, Gorch-Fock-Str. 5 a, 26135 Oldenburg
END:VEVENT
BEGIN:VEVENT
DTSTAMP:20260421T204146
DTSTART;TZID=Europe/Berlin:20251209T104500
DTEND;TZID=Europe/Berlin:20251209T121500
UID:T14036-20251209T104500@EFBOLDENBURG
SUMMARY:DELFI ®  Juli 2025 geborene Kinder 1.Teil (T14036) 
LOCATION:Ev. Familien-Bildungsstätte, Kinderraum, Gorch-Fock-Str. 5 a, 26135 Oldenburg
END:VEVENT
BEGIN:VEVENT
DTSTAMP:20260421T204146
DTSTART;TZID=Europe/Berlin:20251216T104500
DTEND;TZID=Europe/Berlin:20251216T121500
UID:T14036-20251216T104500@EFBOLDENBURG
SUMMARY:DELFI ®  Juli 2025 geborene Kinder 1.Teil (T14036) 
LOCATION:Ev. Familien-Bildungsstätte, Kinderraum, Gorch-Fock-Str. 5 a, 26135 Oldenburg
END:VEVENT
BEGIN:VEVENT
DTSTAMP:20260421T204146
DTSTART;TZID=Europe/Berlin:20260106T104500
DTEND;TZID=Europe/Berlin:20260106T121500
UID:T14036-20260106T104500@EFBOLDENBURG
SUMMARY:DELFI ®  Juli 2025 geborene Kinder 1.Teil (T14036) 
LOCATION:Ev. Familien-Bildungsstätte, Kinderraum, Gorch-Fock-Str. 5 a, 26135 Oldenburg
END:VEVENT
BEGIN:VEVENT
DTSTAMP:20260421T204146
DTSTART;TZID=Europe/Berlin:20260113T104500
DTEND;TZID=Europe/Berlin:20260113T121500
UID:T14036-20260113T104500@EFBOLDENBURG
SUMMARY:DELFI ®  Juli 2025 geborene Kinder 1.Teil (T14036) 
LOCATION:Ev. Familien-Bildungsstätte, Kinderraum, Gorch-Fock-Str. 5 a, 26135 Oldenburg
END:VEVENT
BEGIN:VEVENT
DTSTAMP:20260421T204146
DTSTART;TZID=Europe/Berlin:20260120T104500
DTEND;TZID=Europe/Berlin:20260120T121500
UID:T14036-20260120T104500@EFBOLDENBURG
SUMMARY:DELFI ®  Juli 2025 geborene Kinder 1.Teil (T14036) 
LOCATION:Ev. Familien-Bildungsstätte, Kinderraum, Gorch-Fock-Str. 5 a, 26135 Oldenburg
END:VEVENT
BEGIN:VEVENT
DTSTAMP:20260421T204146
DTSTART;TZID=Europe/Berlin:20260127T104500
DTEND;TZID=Europe/Berlin:20260127T121500
UID:T14036-20260127T104500@EFBOLDENBURG
SUMMARY:DELFI ®  Juli 2025 geborene Kinder 1.Teil (T14036) 
LOCATION:Ev. Familien-Bildungsstätte, Kinderraum, Gorch-Fock-Str. 5 a, 26135 Oldenburg
END:VEVENT
BEGIN:VEVENT
DTSTAMP:20260421T204146
DTSTART;TZID=Europe/Berlin:20260210T104500
DTEND;TZID=Europe/Berlin:20260210T121500
UID:T14036-20260210T104500@EFBOLDENBURG
SUMMARY:DELFI ®  Juli 2025 geborene Kinder 1.Teil (T14036) 
LOCATION:Ev. Familien-Bildungsstätte, Kinderraum, Gorch-Fock-Str. 5 a, 26135 Oldenburg
END:VEVENT
END:VCALENDAR