BEGIN:VCALENDAR
VERSION:2.0
PRODID:https://www.kufer.de/kuferweb / DE
METHOD:PUBLISH
CALSCALE:GREGORIAN
X-WR-TIMEZONE:Europe/Berlin
BEGIN:VTIMEZONE
TZID:Europe/Berlin
X-LIC-LOCATION:Europe/Berlin
BEGIN:DAYLIGHT
TZOFFSETFROM:+0100
TZOFFSETTO:+0200
TZNAME:CEST
DTSTART:19700329T020000
RRULE:FREQ=YEARLY;INTERVAL=1;BYDAY=-1SU;BYMONTH=3
END:DAYLIGHT
BEGIN:STANDARD
TZOFFSETFROM:+0200
TZOFFSETTO:+0100
TZNAME:CET
DTSTART:19701025T030000
RRULE:FREQ=YEARLY;INTERVAL=1;BYDAY=-1SU;BYMONTH=10
END:STANDARD
END:VTIMEZONE
BEGIN:VEVENT
DTSTAMP:20260421T220243
DTSTART;TZID=Europe/Berlin:20251029T090000
DTEND;TZID=Europe/Berlin:20251029T103000
UID:T14039-20251029T090000@EFBOLDENBURG
SUMMARY:DELFI ®  August 2025 geborene Kinder 1.Teil (T14039) 
LOCATION:Christophorus-Haus, Brookweg 32, Brookweg 32, 26127 Oldenburg
END:VEVENT
BEGIN:VEVENT
DTSTAMP:20260421T220243
DTSTART;TZID=Europe/Berlin:20251105T090000
DTEND;TZID=Europe/Berlin:20251105T103000
UID:T14039-20251105T090000@EFBOLDENBURG
SUMMARY:DELFI ®  August 2025 geborene Kinder 1.Teil (T14039) 
LOCATION:Christophorus-Haus, Brookweg 32, Brookweg 32, 26127 Oldenburg
END:VEVENT
BEGIN:VEVENT
DTSTAMP:20260421T220243
DTSTART;TZID=Europe/Berlin:20251112T090000
DTEND;TZID=Europe/Berlin:20251112T103000
UID:T14039-20251112T090000@EFBOLDENBURG
SUMMARY:DELFI ®  August 2025 geborene Kinder 1.Teil (T14039) 
LOCATION:Christophorus-Haus, Brookweg 32, Brookweg 32, 26127 Oldenburg
END:VEVENT
BEGIN:VEVENT
DTSTAMP:20260421T220243
DTSTART;TZID=Europe/Berlin:20251119T090000
DTEND;TZID=Europe/Berlin:20251119T103000
UID:T14039-20251119T090000@EFBOLDENBURG
SUMMARY:DELFI ®  August 2025 geborene Kinder 1.Teil (T14039) 
LOCATION:Christophorus-Haus, Brookweg 32, Brookweg 32, 26127 Oldenburg
END:VEVENT
BEGIN:VEVENT
DTSTAMP:20260421T220243
DTSTART;TZID=Europe/Berlin:20251126T090000
DTEND;TZID=Europe/Berlin:20251126T103000
UID:T14039-20251126T090000@EFBOLDENBURG
SUMMARY:DELFI ®  August 2025 geborene Kinder 1.Teil (T14039) 
LOCATION:Christophorus-Haus, Brookweg 32, Brookweg 32, 26127 Oldenburg
END:VEVENT
BEGIN:VEVENT
DTSTAMP:20260421T220243
DTSTART;TZID=Europe/Berlin:20251203T090000
DTEND;TZID=Europe/Berlin:20251203T103000
UID:T14039-20251203T090000@EFBOLDENBURG
SUMMARY:DELFI ®  August 2025 geborene Kinder 1.Teil (T14039) 
LOCATION:Christophorus-Haus, Brookweg 32, Brookweg 32, 26127 Oldenburg
END:VEVENT
BEGIN:VEVENT
DTSTAMP:20260421T220243
DTSTART;TZID=Europe/Berlin:20251210T090000
DTEND;TZID=Europe/Berlin:20251210T103000
UID:T14039-20251210T090000@EFBOLDENBURG
SUMMARY:DELFI ®  August 2025 geborene Kinder 1.Teil (T14039) 
LOCATION:Christophorus-Haus, Brookweg 32, Brookweg 32, 26127 Oldenburg
END:VEVENT
BEGIN:VEVENT
DTSTAMP:20260421T220243
DTSTART;TZID=Europe/Berlin:20251217T090000
DTEND;TZID=Europe/Berlin:20251217T103000
UID:T14039-20251217T090000@EFBOLDENBURG
SUMMARY:DELFI ®  August 2025 geborene Kinder 1.Teil (T14039) 
LOCATION:Christophorus-Haus, Brookweg 32, Brookweg 32, 26127 Oldenburg
END:VEVENT
BEGIN:VEVENT
DTSTAMP:20260421T220243
DTSTART;TZID=Europe/Berlin:20260107T090000
DTEND;TZID=Europe/Berlin:20260107T103000
UID:T14039-20260107T090000@EFBOLDENBURG
SUMMARY:DELFI ®  August 2025 geborene Kinder 1.Teil (T14039) 
LOCATION:Christophorus-Haus, Brookweg 32, Brookweg 32, 26127 Oldenburg
END:VEVENT
BEGIN:VEVENT
DTSTAMP:20260421T220243
DTSTART;TZID=Europe/Berlin:20260114T090000
DTEND;TZID=Europe/Berlin:20260114T103000
UID:T14039-20260114T090000@EFBOLDENBURG
SUMMARY:DELFI ®  August 2025 geborene Kinder 1.Teil (T14039) 
LOCATION:Christophorus-Haus, Brookweg 32, Brookweg 32, 26127 Oldenburg
END:VEVENT
BEGIN:VEVENT
DTSTAMP:20260421T220243
DTSTART;TZID=Europe/Berlin:20260121T090000
DTEND;TZID=Europe/Berlin:20260121T103000
UID:T14039-20260121T090000@EFBOLDENBURG
SUMMARY:DELFI ®  August 2025 geborene Kinder 1.Teil (T14039) 
LOCATION:Christophorus-Haus, Brookweg 32, Brookweg 32, 26127 Oldenburg
END:VEVENT
BEGIN:VEVENT
DTSTAMP:20260421T220243
DTSTART;TZID=Europe/Berlin:20260128T090000
DTEND;TZID=Europe/Berlin:20260128T103000
UID:T14039-20260128T090000@EFBOLDENBURG
SUMMARY:DELFI ®  August 2025 geborene Kinder 1.Teil (T14039) 
LOCATION:Christophorus-Haus, Brookweg 32, Brookweg 32, 26127 Oldenburg
END:VEVENT
BEGIN:VEVENT
DTSTAMP:20260421T220243
DTSTART;TZID=Europe/Berlin:20260204T090000
DTEND;TZID=Europe/Berlin:20260204T103000
UID:T14039-20260204T090000@EFBOLDENBURG
SUMMARY:DELFI ®  August 2025 geborene Kinder 1.Teil (T14039) 
LOCATION:Christophorus-Haus, Brookweg 32, Brookweg 32, 26127 Oldenburg
END:VEVENT
BEGIN:VEVENT
DTSTAMP:20260421T220243
DTSTART;TZID=Europe/Berlin:20260211T090000
DTEND;TZID=Europe/Berlin:20260211T103000
UID:T14039-20260211T090000@EFBOLDENBURG
SUMMARY:DELFI ®  August 2025 geborene Kinder 1.Teil (T14039) 
LOCATION:Christophorus-Haus, Brookweg 32, Brookweg 32, 26127 Oldenburg
END:VEVENT
BEGIN:VEVENT
DTSTAMP:20260421T220243
DTSTART;TZID=Europe/Berlin:20260218T090000
DTEND;TZID=Europe/Berlin:20260218T103000
UID:T14039-20260218T090000@EFBOLDENBURG
SUMMARY:DELFI ®  August 2025 geborene Kinder 1.Teil (T14039) 
LOCATION:Christophorus-Haus, Brookweg 32, Brookweg 32, 26127 Oldenburg
END:VEVENT
END:VCALENDAR