BEGIN:VCALENDAR
VERSION:2.0
PRODID:https://www.kufer.de/kuferweb / DE
METHOD:PUBLISH
CALSCALE:GREGORIAN
X-WR-TIMEZONE:Europe/Berlin
BEGIN:VTIMEZONE
TZID:Europe/Berlin
X-LIC-LOCATION:Europe/Berlin
BEGIN:DAYLIGHT
TZOFFSETFROM:+0100
TZOFFSETTO:+0200
TZNAME:CEST
DTSTART:19700329T020000
RRULE:FREQ=YEARLY;INTERVAL=1;BYDAY=-1SU;BYMONTH=3
END:DAYLIGHT
BEGIN:STANDARD
TZOFFSETFROM:+0200
TZOFFSETTO:+0100
TZNAME:CET
DTSTART:19701025T030000
RRULE:FREQ=YEARLY;INTERVAL=1;BYDAY=-1SU;BYMONTH=10
END:STANDARD
END:VTIMEZONE
BEGIN:VEVENT
DTSTAMP:20260421T185731
DTSTART;TZID=Europe/Berlin:20251125T090000
DTEND;TZID=Europe/Berlin:20251125T103000
UID:T14050-20251125T090000@EFBOLDENBURG
SUMMARY:DELFI ®  September 2025 geborene Kinder 1.Teil (T14050) 
LOCATION:Christophorus-Haus, Brookweg 32, Brookweg 32, 26127 Oldenburg
END:VEVENT
BEGIN:VEVENT
DTSTAMP:20260421T185731
DTSTART;TZID=Europe/Berlin:20251202T090000
DTEND;TZID=Europe/Berlin:20251202T103000
UID:T14050-20251202T090000@EFBOLDENBURG
SUMMARY:DELFI ®  September 2025 geborene Kinder 1.Teil (T14050) 
LOCATION:Christophorus-Haus, Brookweg 32, Brookweg 32, 26127 Oldenburg
END:VEVENT
BEGIN:VEVENT
DTSTAMP:20260421T185731
DTSTART;TZID=Europe/Berlin:20251209T090000
DTEND;TZID=Europe/Berlin:20251209T103000
UID:T14050-20251209T090000@EFBOLDENBURG
SUMMARY:DELFI ®  September 2025 geborene Kinder 1.Teil (T14050) 
LOCATION:Christophorus-Haus, Brookweg 32, Brookweg 32, 26127 Oldenburg
END:VEVENT
BEGIN:VEVENT
DTSTAMP:20260421T185731
DTSTART;TZID=Europe/Berlin:20251216T090000
DTEND;TZID=Europe/Berlin:20251216T103000
UID:T14050-20251216T090000@EFBOLDENBURG
SUMMARY:DELFI ®  September 2025 geborene Kinder 1.Teil (T14050) 
LOCATION:Christophorus-Haus, Brookweg 32, Brookweg 32, 26127 Oldenburg
END:VEVENT
BEGIN:VEVENT
DTSTAMP:20260421T185731
DTSTART;TZID=Europe/Berlin:20260120T090000
DTEND;TZID=Europe/Berlin:20260120T103000
UID:T14050-20260120T090000@EFBOLDENBURG
SUMMARY:DELFI ®  September 2025 geborene Kinder 1.Teil (T14050) 
LOCATION:Christophorus-Haus, Brookweg 32, Brookweg 32, 26127 Oldenburg
END:VEVENT
BEGIN:VEVENT
DTSTAMP:20260421T185731
DTSTART;TZID=Europe/Berlin:20260127T090000
DTEND;TZID=Europe/Berlin:20260127T103000
UID:T14050-20260127T090000@EFBOLDENBURG
SUMMARY:DELFI ®  September 2025 geborene Kinder 1.Teil (T14050) 
LOCATION:Christophorus-Haus, Brookweg 32, Brookweg 32, 26127 Oldenburg
END:VEVENT
BEGIN:VEVENT
DTSTAMP:20260421T185731
DTSTART;TZID=Europe/Berlin:20260210T090000
DTEND;TZID=Europe/Berlin:20260210T103000
UID:T14050-20260210T090000@EFBOLDENBURG
SUMMARY:DELFI ®  September 2025 geborene Kinder 1.Teil (T14050) 
LOCATION:Christophorus-Haus, Brookweg 32, Brookweg 32, 26127 Oldenburg
END:VEVENT
BEGIN:VEVENT
DTSTAMP:20260421T185731
DTSTART;TZID=Europe/Berlin:20260217T090000
DTEND;TZID=Europe/Berlin:20260217T103000
UID:T14050-20260217T090000@EFBOLDENBURG
SUMMARY:DELFI ®  September 2025 geborene Kinder 1.Teil (T14050) 
LOCATION:Christophorus-Haus, Brookweg 32, Brookweg 32, 26127 Oldenburg
END:VEVENT
BEGIN:VEVENT
DTSTAMP:20260421T185731
DTSTART;TZID=Europe/Berlin:20260224T090000
DTEND;TZID=Europe/Berlin:20260224T103000
UID:T14050-20260224T090000@EFBOLDENBURG
SUMMARY:DELFI ®  September 2025 geborene Kinder 1.Teil (T14050) 
LOCATION:Christophorus-Haus, Brookweg 32, Brookweg 32, 26127 Oldenburg
END:VEVENT
BEGIN:VEVENT
DTSTAMP:20260421T185731
DTSTART;TZID=Europe/Berlin:20260303T090000
DTEND;TZID=Europe/Berlin:20260303T103000
UID:T14050-20260303T090000@EFBOLDENBURG
SUMMARY:DELFI ®  September 2025 geborene Kinder 1.Teil (T14050) 
LOCATION:Christophorus-Haus, Brookweg 32, Brookweg 32, 26127 Oldenburg
END:VEVENT
BEGIN:VEVENT
DTSTAMP:20260421T185731
DTSTART;TZID=Europe/Berlin:20260310T090000
DTEND;TZID=Europe/Berlin:20260310T103000
UID:T14050-20260310T090000@EFBOLDENBURG
SUMMARY:DELFI ®  September 2025 geborene Kinder 1.Teil (T14050) 
LOCATION:Christophorus-Haus, Brookweg 32, Brookweg 32, 26127 Oldenburg
END:VEVENT
BEGIN:VEVENT
DTSTAMP:20260421T185731
DTSTART;TZID=Europe/Berlin:20260317T090000
DTEND;TZID=Europe/Berlin:20260317T103000
UID:T14050-20260317T090000@EFBOLDENBURG
SUMMARY:DELFI ®  September 2025 geborene Kinder 1.Teil (T14050) 
LOCATION:Christophorus-Haus, Brookweg 32, Brookweg 32, 26127 Oldenburg
END:VEVENT
BEGIN:VEVENT
DTSTAMP:20260421T185731
DTSTART;TZID=Europe/Berlin:20260414T090000
DTEND;TZID=Europe/Berlin:20260414T103000
UID:T14050-20260414T090000@EFBOLDENBURG
SUMMARY:DELFI ®  September 2025 geborene Kinder 1.Teil (T14050) 
LOCATION:Christophorus-Haus, Brookweg 32, Brookweg 32, 26127 Oldenburg
END:VEVENT
BEGIN:VEVENT
DTSTAMP:20260421T185731
DTSTART;TZID=Europe/Berlin:20260421T090000
DTEND;TZID=Europe/Berlin:20260421T103000
UID:T14050-20260421T090000@EFBOLDENBURG
SUMMARY:DELFI ®  September 2025 geborene Kinder 1.Teil (T14050) 
LOCATION:Christophorus-Haus, Brookweg 32, Brookweg 32, 26127 Oldenburg
END:VEVENT
BEGIN:VEVENT
DTSTAMP:20260421T185731
DTSTART;TZID=Europe/Berlin:20260428T090000
DTEND;TZID=Europe/Berlin:20260428T103000
UID:T14050-20260428T090000@EFBOLDENBURG
SUMMARY:DELFI ®  September 2025 geborene Kinder 1.Teil (T14050) 
LOCATION:Christophorus-Haus, Brookweg 32, Brookweg 32, 26127 Oldenburg
END:VEVENT
END:VCALENDAR