BEGIN:VCALENDAR
VERSION:2.0
PRODID:https://www.kufer.de/kuferweb / DE
METHOD:PUBLISH
CALSCALE:GREGORIAN
X-WR-TIMEZONE:Europe/Berlin
BEGIN:VTIMEZONE
TZID:Europe/Berlin
X-LIC-LOCATION:Europe/Berlin
BEGIN:DAYLIGHT
TZOFFSETFROM:+0100
TZOFFSETTO:+0200
TZNAME:CEST
DTSTART:19700329T020000
RRULE:FREQ=YEARLY;INTERVAL=1;BYDAY=-1SU;BYMONTH=3
END:DAYLIGHT
BEGIN:STANDARD
TZOFFSETFROM:+0200
TZOFFSETTO:+0100
TZNAME:CET
DTSTART:19701025T030000
RRULE:FREQ=YEARLY;INTERVAL=1;BYDAY=-1SU;BYMONTH=10
END:STANDARD
END:VTIMEZONE
BEGIN:VEVENT
DTSTAMP:20260421T185717
DTSTART;TZID=Europe/Berlin:20251120T104500
DTEND;TZID=Europe/Berlin:20251120T121500
UID:T14900-20251120T104500@EFBOLDENBURG
SUMMARY:DELFI ®  September 2025 geborene Kinder 1.Teil (T14900) 
LOCATION:Ev. Familien-Bildungsstätte, Kinderraum, Gorch-Fock-Str. 5 a, 26135 Oldenburg
END:VEVENT
BEGIN:VEVENT
DTSTAMP:20260421T185717
DTSTART;TZID=Europe/Berlin:20251127T104500
DTEND;TZID=Europe/Berlin:20251127T121500
UID:T14900-20251127T104500@EFBOLDENBURG
SUMMARY:DELFI ®  September 2025 geborene Kinder 1.Teil (T14900) 
LOCATION:Ev. Familien-Bildungsstätte, Kinderraum, Gorch-Fock-Str. 5 a, 26135 Oldenburg
END:VEVENT
BEGIN:VEVENT
DTSTAMP:20260421T185717
DTSTART;TZID=Europe/Berlin:20251204T104500
DTEND;TZID=Europe/Berlin:20251204T121500
UID:T14900-20251204T104500@EFBOLDENBURG
SUMMARY:DELFI ®  September 2025 geborene Kinder 1.Teil (T14900) 
LOCATION:Ev. Familien-Bildungsstätte, Kinderraum, Gorch-Fock-Str. 5 a, 26135 Oldenburg
END:VEVENT
BEGIN:VEVENT
DTSTAMP:20260421T185717
DTSTART;TZID=Europe/Berlin:20251211T104500
DTEND;TZID=Europe/Berlin:20251211T121500
UID:T14900-20251211T104500@EFBOLDENBURG
SUMMARY:DELFI ®  September 2025 geborene Kinder 1.Teil (T14900) 
LOCATION:Ev. Familien-Bildungsstätte, Kinderraum, Gorch-Fock-Str. 5 a, 26135 Oldenburg
END:VEVENT
BEGIN:VEVENT
DTSTAMP:20260421T185717
DTSTART;TZID=Europe/Berlin:20251218T104500
DTEND;TZID=Europe/Berlin:20251218T121500
UID:T14900-20251218T104500@EFBOLDENBURG
SUMMARY:DELFI ®  September 2025 geborene Kinder 1.Teil (T14900) 
LOCATION:Ev. Familien-Bildungsstätte, Kinderraum, Gorch-Fock-Str. 5 a, 26135 Oldenburg
END:VEVENT
BEGIN:VEVENT
DTSTAMP:20260421T185717
DTSTART;TZID=Europe/Berlin:20260108T104500
DTEND;TZID=Europe/Berlin:20260108T121500
UID:T14900-20260108T104500@EFBOLDENBURG
SUMMARY:DELFI ®  September 2025 geborene Kinder 1.Teil (T14900) 
LOCATION:Ev. Familien-Bildungsstätte, Kinderraum, Gorch-Fock-Str. 5 a, 26135 Oldenburg
END:VEVENT
BEGIN:VEVENT
DTSTAMP:20260421T185717
DTSTART;TZID=Europe/Berlin:20260115T104500
DTEND;TZID=Europe/Berlin:20260115T121500
UID:T14900-20260115T104500@EFBOLDENBURG
SUMMARY:DELFI ®  September 2025 geborene Kinder 1.Teil (T14900) 
LOCATION:Ev. Familien-Bildungsstätte, Kinderraum, Gorch-Fock-Str. 5 a, 26135 Oldenburg
END:VEVENT
BEGIN:VEVENT
DTSTAMP:20260421T185717
DTSTART;TZID=Europe/Berlin:20260122T104500
DTEND;TZID=Europe/Berlin:20260122T121500
UID:T14900-20260122T104500@EFBOLDENBURG
SUMMARY:DELFI ®  September 2025 geborene Kinder 1.Teil (T14900) 
LOCATION:Ev. Familien-Bildungsstätte, Kinderraum, Gorch-Fock-Str. 5 a, 26135 Oldenburg
END:VEVENT
BEGIN:VEVENT
DTSTAMP:20260421T185717
DTSTART;TZID=Europe/Berlin:20260129T104500
DTEND;TZID=Europe/Berlin:20260129T121500
UID:T14900-20260129T104500@EFBOLDENBURG
SUMMARY:DELFI ®  September 2025 geborene Kinder 1.Teil (T14900) 
LOCATION:Ev. Familien-Bildungsstätte, Kinderraum, Gorch-Fock-Str. 5 a, 26135 Oldenburg
END:VEVENT
BEGIN:VEVENT
DTSTAMP:20260421T185717
DTSTART;TZID=Europe/Berlin:20260212T104500
DTEND;TZID=Europe/Berlin:20260212T121500
UID:T14900-20260212T104500@EFBOLDENBURG
SUMMARY:DELFI ®  September 2025 geborene Kinder 1.Teil (T14900) 
LOCATION:Ev. Familien-Bildungsstätte, Kinderraum, Gorch-Fock-Str. 5 a, 26135 Oldenburg
END:VEVENT
BEGIN:VEVENT
DTSTAMP:20260421T185717
DTSTART;TZID=Europe/Berlin:20260219T104500
DTEND;TZID=Europe/Berlin:20260219T121500
UID:T14900-20260219T104500@EFBOLDENBURG
SUMMARY:DELFI ®  September 2025 geborene Kinder 1.Teil (T14900) 
LOCATION:Ev. Familien-Bildungsstätte, Kinderraum, Gorch-Fock-Str. 5 a, 26135 Oldenburg
END:VEVENT
BEGIN:VEVENT
DTSTAMP:20260421T185717
DTSTART;TZID=Europe/Berlin:20260226T104500
DTEND;TZID=Europe/Berlin:20260226T121500
UID:T14900-20260226T104500@EFBOLDENBURG
SUMMARY:DELFI ®  September 2025 geborene Kinder 1.Teil (T14900) 
LOCATION:Ev. Familien-Bildungsstätte, Kinderraum, Gorch-Fock-Str. 5 a, 26135 Oldenburg
END:VEVENT
BEGIN:VEVENT
DTSTAMP:20260421T185717
DTSTART;TZID=Europe/Berlin:20260305T104500
DTEND;TZID=Europe/Berlin:20260305T121500
UID:T14900-20260305T104500@EFBOLDENBURG
SUMMARY:DELFI ®  September 2025 geborene Kinder 1.Teil (T14900) 
LOCATION:Ev. Familien-Bildungsstätte, Kinderraum, Gorch-Fock-Str. 5 a, 26135 Oldenburg
END:VEVENT
BEGIN:VEVENT
DTSTAMP:20260421T185717
DTSTART;TZID=Europe/Berlin:20260319T104500
DTEND;TZID=Europe/Berlin:20260319T121500
UID:T14900-20260319T104500@EFBOLDENBURG
DESCRIPTION:Ersatz für Ausfall am 05.02.2026
SUMMARY:DELFI ®  September 2025 geborene Kinder 1.Teil (T14900) 
LOCATION:Ev. Familien-Bildungsstätte, Kinderraum, Gorch-Fock-Str. 5 a, 26135 Oldenburg
END:VEVENT
BEGIN:VEVENT
DTSTAMP:20260421T185717
DTSTART;TZID=Europe/Berlin:20260409T104500
DTEND;TZID=Europe/Berlin:20260409T121500
UID:T14900-20260409T104500@EFBOLDENBURG
SUMMARY:DELFI ®  September 2025 geborene Kinder 1.Teil (T14900) 
LOCATION:Ev. Familien-Bildungsstätte, Kinderraum, Gorch-Fock-Str. 5 a, 26135 Oldenburg
END:VEVENT
END:VCALENDAR