BEGIN:VCALENDAR
VERSION:2.0
PRODID:https://www.kufer.de/kuferweb / DE
METHOD:PUBLISH
CALSCALE:GREGORIAN
X-WR-TIMEZONE:Europe/Berlin
BEGIN:VTIMEZONE
TZID:Europe/Berlin
X-LIC-LOCATION:Europe/Berlin
BEGIN:DAYLIGHT
TZOFFSETFROM:+0100
TZOFFSETTO:+0200
TZNAME:CEST
DTSTART:19700329T020000
RRULE:FREQ=YEARLY;INTERVAL=1;BYDAY=-1SU;BYMONTH=3
END:DAYLIGHT
BEGIN:STANDARD
TZOFFSETFROM:+0200
TZOFFSETTO:+0100
TZNAME:CET
DTSTART:19701025T030000
RRULE:FREQ=YEARLY;INTERVAL=1;BYDAY=-1SU;BYMONTH=10
END:STANDARD
END:VTIMEZONE
BEGIN:VEVENT
DTSTAMP:20260422T043219
DTSTART;TZID=Europe/Berlin:20250828T160000
DTEND;TZID=Europe/Berlin:20250828T170000
UID:T16001-20250828T160000@EFBOLDENBURG
SUMMARY:Kinderchor im Gemeindehaus Jona für Kinder von 6 - 10 Jahren (T16001) 
LOCATION:Gemeindehaus Jona, Heimeck 23 a, Heimeck 23 a, 26135 Oldenburg
END:VEVENT
BEGIN:VEVENT
DTSTAMP:20260422T043219
DTSTART;TZID=Europe/Berlin:20250904T160000
DTEND;TZID=Europe/Berlin:20250904T170000
UID:T16001-20250904T160000@EFBOLDENBURG
SUMMARY:Kinderchor im Gemeindehaus Jona für Kinder von 6 - 10 Jahren (T16001) 
LOCATION:Gemeindehaus Jona, Heimeck 23 a, Heimeck 23 a, 26135 Oldenburg
END:VEVENT
BEGIN:VEVENT
DTSTAMP:20260422T043219
DTSTART;TZID=Europe/Berlin:20250911T160000
DTEND;TZID=Europe/Berlin:20250911T170000
UID:T16001-20250911T160000@EFBOLDENBURG
SUMMARY:Kinderchor im Gemeindehaus Jona für Kinder von 6 - 10 Jahren (T16001) 
LOCATION:Gemeindehaus Jona, Heimeck 23 a, Heimeck 23 a, 26135 Oldenburg
END:VEVENT
BEGIN:VEVENT
DTSTAMP:20260422T043219
DTSTART;TZID=Europe/Berlin:20250918T160000
DTEND;TZID=Europe/Berlin:20250918T170000
UID:T16001-20250918T160000@EFBOLDENBURG
SUMMARY:Kinderchor im Gemeindehaus Jona für Kinder von 6 - 10 Jahren (T16001) 
LOCATION:Gemeindehaus Jona, Heimeck 23 a, Heimeck 23 a, 26135 Oldenburg
END:VEVENT
BEGIN:VEVENT
DTSTAMP:20260422T043219
DTSTART;TZID=Europe/Berlin:20250925T160000
DTEND;TZID=Europe/Berlin:20250925T170000
UID:T16001-20250925T160000@EFBOLDENBURG
SUMMARY:Kinderchor im Gemeindehaus Jona für Kinder von 6 - 10 Jahren (T16001) 
LOCATION:Gemeindehaus Jona, Heimeck 23 a, Heimeck 23 a, 26135 Oldenburg
END:VEVENT
BEGIN:VEVENT
DTSTAMP:20260422T043219
DTSTART;TZID=Europe/Berlin:20251002T160000
DTEND;TZID=Europe/Berlin:20251002T170000
UID:T16001-20251002T160000@EFBOLDENBURG
SUMMARY:Kinderchor im Gemeindehaus Jona für Kinder von 6 - 10 Jahren (T16001) 
LOCATION:Gemeindehaus Jona, Heimeck 23 a, Heimeck 23 a, 26135 Oldenburg
END:VEVENT
BEGIN:VEVENT
DTSTAMP:20260422T043219
DTSTART;TZID=Europe/Berlin:20251009T160000
DTEND;TZID=Europe/Berlin:20251009T170000
UID:T16001-20251009T160000@EFBOLDENBURG
SUMMARY:Kinderchor im Gemeindehaus Jona für Kinder von 6 - 10 Jahren (T16001) 
LOCATION:Gemeindehaus Jona, Heimeck 23 a, Heimeck 23 a, 26135 Oldenburg
END:VEVENT
BEGIN:VEVENT
DTSTAMP:20260422T043219
DTSTART;TZID=Europe/Berlin:20251030T160000
DTEND;TZID=Europe/Berlin:20251030T170000
UID:T16001-20251030T160000@EFBOLDENBURG
SUMMARY:Kinderchor im Gemeindehaus Jona für Kinder von 6 - 10 Jahren (T16001) 
LOCATION:Gemeindehaus Jona, Heimeck 23 a, Heimeck 23 a, 26135 Oldenburg
END:VEVENT
BEGIN:VEVENT
DTSTAMP:20260422T043219
DTSTART;TZID=Europe/Berlin:20251106T160000
DTEND;TZID=Europe/Berlin:20251106T170000
UID:T16001-20251106T160000@EFBOLDENBURG
SUMMARY:Kinderchor im Gemeindehaus Jona für Kinder von 6 - 10 Jahren (T16001) 
LOCATION:Gemeindehaus Jona, Heimeck 23 a, Heimeck 23 a, 26135 Oldenburg
END:VEVENT
BEGIN:VEVENT
DTSTAMP:20260422T043219
DTSTART;TZID=Europe/Berlin:20251113T160000
DTEND;TZID=Europe/Berlin:20251113T170000
UID:T16001-20251113T160000@EFBOLDENBURG
SUMMARY:Kinderchor im Gemeindehaus Jona für Kinder von 6 - 10 Jahren (T16001) 
LOCATION:Gemeindehaus Jona, Heimeck 23 a, Heimeck 23 a, 26135 Oldenburg
END:VEVENT
BEGIN:VEVENT
DTSTAMP:20260422T043219
DTSTART;TZID=Europe/Berlin:20251120T160000
DTEND;TZID=Europe/Berlin:20251120T170000
UID:T16001-20251120T160000@EFBOLDENBURG
SUMMARY:Kinderchor im Gemeindehaus Jona für Kinder von 6 - 10 Jahren (T16001) 
LOCATION:Gemeindehaus Jona, Heimeck 23 a, Heimeck 23 a, 26135 Oldenburg
END:VEVENT
BEGIN:VEVENT
DTSTAMP:20260422T043219
DTSTART;TZID=Europe/Berlin:20251127T160000
DTEND;TZID=Europe/Berlin:20251127T170000
UID:T16001-20251127T160000@EFBOLDENBURG
SUMMARY:Kinderchor im Gemeindehaus Jona für Kinder von 6 - 10 Jahren (T16001) 
LOCATION:Gemeindehaus Jona, Heimeck 23 a, Heimeck 23 a, 26135 Oldenburg
END:VEVENT
BEGIN:VEVENT
DTSTAMP:20260422T043219
DTSTART;TZID=Europe/Berlin:20251204T160000
DTEND;TZID=Europe/Berlin:20251204T170000
UID:T16001-20251204T160000@EFBOLDENBURG
SUMMARY:Kinderchor im Gemeindehaus Jona für Kinder von 6 - 10 Jahren (T16001) 
LOCATION:Gemeindehaus Jona, Heimeck 23 a, Heimeck 23 a, 26135 Oldenburg
END:VEVENT
BEGIN:VEVENT
DTSTAMP:20260422T043219
DTSTART;TZID=Europe/Berlin:20251211T160000
DTEND;TZID=Europe/Berlin:20251211T170000
UID:T16001-20251211T160000@EFBOLDENBURG
SUMMARY:Kinderchor im Gemeindehaus Jona für Kinder von 6 - 10 Jahren (T16001) 
LOCATION:Gemeindehaus Jona, Heimeck 23 a, Heimeck 23 a, 26135 Oldenburg
END:VEVENT
END:VCALENDAR