BEGIN:VCALENDAR
VERSION:2.0
PRODID:https://www.kufer.de/kuferweb / DE
METHOD:PUBLISH
CALSCALE:GREGORIAN
X-WR-TIMEZONE:Europe/Berlin
BEGIN:VTIMEZONE
TZID:Europe/Berlin
X-LIC-LOCATION:Europe/Berlin
BEGIN:DAYLIGHT
TZOFFSETFROM:+0100
TZOFFSETTO:+0200
TZNAME:CEST
DTSTART:19700329T020000
RRULE:FREQ=YEARLY;INTERVAL=1;BYDAY=-1SU;BYMONTH=3
END:DAYLIGHT
BEGIN:STANDARD
TZOFFSETFROM:+0200
TZOFFSETTO:+0100
TZNAME:CET
DTSTART:19701025T030000
RRULE:FREQ=YEARLY;INTERVAL=1;BYDAY=-1SU;BYMONTH=10
END:STANDARD
END:VTIMEZONE
BEGIN:VEVENT
DTSTAMP:20260421T201221
DTSTART;TZID=Europe/Berlin:20250705T100000
DTEND;TZID=Europe/Berlin:20250705T140000
UID:T18002-20250705T100000@EFBOLDENBURG
SUMMARY:Väter-Kinder-Treff -  Frühstücken, Spielen und Klönen (T18002) 
LOCATION:Abenteuer- und Bauspielplatz Eversten, Brandsweg 60, Brandsweg 60, 26131 Oldenburg
END:VEVENT
BEGIN:VEVENT
DTSTAMP:20260421T201221
DTSTART;TZID=Europe/Berlin:20250719T100000
DTEND;TZID=Europe/Berlin:20250719T140000
UID:T18002-20250719T100000@EFBOLDENBURG
SUMMARY:Väter-Kinder-Treff -  Frühstücken, Spielen und Klönen (T18002) 
LOCATION:Abenteuer- und Bauspielplatz Eversten, Brandsweg 60, Brandsweg 60, 26131 Oldenburg
END:VEVENT
BEGIN:VEVENT
DTSTAMP:20260421T201221
DTSTART;TZID=Europe/Berlin:20250802T100000
DTEND;TZID=Europe/Berlin:20250802T140000
UID:T18002-20250802T100000@EFBOLDENBURG
SUMMARY:Väter-Kinder-Treff -  Frühstücken, Spielen und Klönen (T18002) 
LOCATION:Abenteuer- und Bauspielplatz Eversten, Brandsweg 60, Brandsweg 60, 26131 Oldenburg
END:VEVENT
BEGIN:VEVENT
DTSTAMP:20260421T201221
DTSTART;TZID=Europe/Berlin:20250816T100000
DTEND;TZID=Europe/Berlin:20250816T140000
UID:T18002-20250816T100000@EFBOLDENBURG
SUMMARY:Väter-Kinder-Treff -  Frühstücken, Spielen und Klönen (T18002) 
LOCATION:Abenteuer- und Bauspielplatz Eversten, Brandsweg 60, Brandsweg 60, 26131 Oldenburg
END:VEVENT
BEGIN:VEVENT
DTSTAMP:20260421T201221
DTSTART;TZID=Europe/Berlin:20250830T100000
DTEND;TZID=Europe/Berlin:20250830T140000
UID:T18002-20250830T100000@EFBOLDENBURG
SUMMARY:Väter-Kinder-Treff -  Frühstücken, Spielen und Klönen (T18002) 
LOCATION:Abenteuer- und Bauspielplatz Eversten, Brandsweg 60, Brandsweg 60, 26131 Oldenburg
END:VEVENT
BEGIN:VEVENT
DTSTAMP:20260421T201221
DTSTART;TZID=Europe/Berlin:20250913T100000
DTEND;TZID=Europe/Berlin:20250913T140000
UID:T18002-20250913T100000@EFBOLDENBURG
SUMMARY:Väter-Kinder-Treff -  Frühstücken, Spielen und Klönen (T18002) 
LOCATION:Abenteuer- und Bauspielplatz Eversten, Brandsweg 60, Brandsweg 60, 26131 Oldenburg
END:VEVENT
BEGIN:VEVENT
DTSTAMP:20260421T201221
DTSTART;TZID=Europe/Berlin:20250927T100000
DTEND;TZID=Europe/Berlin:20250927T140000
UID:T18002-20250927T100000@EFBOLDENBURG
SUMMARY:Väter-Kinder-Treff -  Frühstücken, Spielen und Klönen (T18002) 
LOCATION:Abenteuer- und Bauspielplatz Eversten, Brandsweg 60, Brandsweg 60, 26131 Oldenburg
END:VEVENT
BEGIN:VEVENT
DTSTAMP:20260421T201221
DTSTART;TZID=Europe/Berlin:20251011T100000
DTEND;TZID=Europe/Berlin:20251011T140000
UID:T18002-20251011T100000@EFBOLDENBURG
SUMMARY:Väter-Kinder-Treff -  Frühstücken, Spielen und Klönen (T18002) 
LOCATION:Abenteuer- und Bauspielplatz Eversten, Brandsweg 60, Brandsweg 60, 26131 Oldenburg
END:VEVENT
BEGIN:VEVENT
DTSTAMP:20260421T201221
DTSTART;TZID=Europe/Berlin:20251025T100000
DTEND;TZID=Europe/Berlin:20251025T140000
UID:T18002-20251025T100000@EFBOLDENBURG
SUMMARY:Väter-Kinder-Treff -  Frühstücken, Spielen und Klönen (T18002) 
LOCATION:Abenteuer- und Bauspielplatz Eversten, Brandsweg 60, Brandsweg 60, 26131 Oldenburg
END:VEVENT
BEGIN:VEVENT
DTSTAMP:20260421T201221
DTSTART;TZID=Europe/Berlin:20251108T100000
DTEND;TZID=Europe/Berlin:20251108T140000
UID:T18002-20251108T100000@EFBOLDENBURG
SUMMARY:Väter-Kinder-Treff -  Frühstücken, Spielen und Klönen (T18002) 
LOCATION:Abenteuer- und Bauspielplatz Eversten, Brandsweg 60, Brandsweg 60, 26131 Oldenburg
END:VEVENT
BEGIN:VEVENT
DTSTAMP:20260421T201221
DTSTART;TZID=Europe/Berlin:20251122T100000
DTEND;TZID=Europe/Berlin:20251122T140000
UID:T18002-20251122T100000@EFBOLDENBURG
SUMMARY:Väter-Kinder-Treff -  Frühstücken, Spielen und Klönen (T18002) 
LOCATION:Abenteuer- und Bauspielplatz Eversten, Brandsweg 60, Brandsweg 60, 26131 Oldenburg
END:VEVENT
BEGIN:VEVENT
DTSTAMP:20260421T201221
DTSTART;TZID=Europe/Berlin:20251206T100000
DTEND;TZID=Europe/Berlin:20251206T140000
UID:T18002-20251206T100000@EFBOLDENBURG
SUMMARY:Väter-Kinder-Treff -  Frühstücken, Spielen und Klönen (T18002) 
LOCATION:Abenteuer- und Bauspielplatz Eversten, Brandsweg 60, Brandsweg 60, 26131 Oldenburg
END:VEVENT
BEGIN:VEVENT
DTSTAMP:20260421T201221
DTSTART;TZID=Europe/Berlin:20251220T100000
DTEND;TZID=Europe/Berlin:20251220T140000
UID:T18002-20251220T100000@EFBOLDENBURG
SUMMARY:Väter-Kinder-Treff -  Frühstücken, Spielen und Klönen (T18002) 
LOCATION:Abenteuer- und Bauspielplatz Eversten, Brandsweg 60, Brandsweg 60, 26131 Oldenburg
END:VEVENT
END:VCALENDAR