BEGIN:VCALENDAR
VERSION:2.0
PRODID:https://www.kufer.de/kuferweb / DE
METHOD:PUBLISH
CALSCALE:GREGORIAN
X-WR-TIMEZONE:Europe/Berlin
BEGIN:VTIMEZONE
TZID:Europe/Berlin
X-LIC-LOCATION:Europe/Berlin
BEGIN:DAYLIGHT
TZOFFSETFROM:+0100
TZOFFSETTO:+0200
TZNAME:CEST
DTSTART:19700329T020000
RRULE:FREQ=YEARLY;INTERVAL=1;BYDAY=-1SU;BYMONTH=3
END:DAYLIGHT
BEGIN:STANDARD
TZOFFSETFROM:+0200
TZOFFSETTO:+0100
TZNAME:CET
DTSTART:19701025T030000
RRULE:FREQ=YEARLY;INTERVAL=1;BYDAY=-1SU;BYMONTH=10
END:STANDARD
END:VTIMEZONE
BEGIN:VEVENT
DTSTAMP:20260422T110354
DTSTART;TZID=Europe/Berlin:20250830T090000
DTEND;TZID=Europe/Berlin:20250830T120000
UID:T21010-EEB-20250830T090000@EFBOLDENBURG
SUMMARY:KTP - Qualifizierungskurs - Stufe I - Tätigkeitsvorbereitender Teil Voraussetzung für die Tätigkeit als Tagesmutter oder Tagesvater (T21010-EEB) 
LOCATION:Ev. Familien-Bildungsstätte, Nähraum,  Gorch-Fock-Str. 5 a, 26135 Oldenburg
END:VEVENT
BEGIN:VEVENT
DTSTAMP:20260422T110354
DTSTART;TZID=Europe/Berlin:20250830T090000
DTEND;TZID=Europe/Berlin:20250830T120000
UID:T21010-EEB-20250830T090000@EFBOLDENBURG
DESCRIPTION:24.02.25 (*KÜ): Modul 1 - Kennenlernen/ Organisatorisches
SUMMARY:KTP - Qualifizierungskurs - Stufe I - Tätigkeitsvorbereitender Teil Voraussetzung für die Tätigkeit als Tagesmutter oder Tagesvater (T21010-EEB) 
LOCATION:Ev. Familien-Bildungsstätte, Nähraum,  Gorch-Fock-Str. 5 a, 26135 Oldenburg
END:VEVENT
BEGIN:VEVENT
DTSTAMP:20260422T110354
DTSTART;TZID=Europe/Berlin:20250901T180000
DTEND;TZID=Europe/Berlin:20250901T201500
UID:T21010-EEB-20250901T180000@EFBOLDENBURG
DESCRIPTION:24.02.25 (*KÜ): Modul 2 - Recht / SGB - NKiTaG
SUMMARY:KTP - Qualifizierungskurs - Stufe I - Tätigkeitsvorbereitender Teil Voraussetzung für die Tätigkeit als Tagesmutter oder Tagesvater (T21010-EEB) 
LOCATION:Ev. Familien-Bildungsstätte, Gesprächsraum, Gorch-Fock-Str. 5 a, 26135 Oldenburg
END:VEVENT
BEGIN:VEVENT
DTSTAMP:20260422T110354
DTSTART;TZID=Europe/Berlin:20250903T180000
DTEND;TZID=Europe/Berlin:20250903T210000
UID:T21010-EEB-20250903T180000@EFBOLDENBURG
DESCRIPTION:24.02.25 (*KÜ): Modul 3 - Aufgaben Fachberatung, Richtlinien, Praktikum-Orga
SUMMARY:KTP - Qualifizierungskurs - Stufe I - Tätigkeitsvorbereitender Teil Voraussetzung für die Tätigkeit als Tagesmutter oder Tagesvater (T21010-EEB) 
LOCATION:Ev. Familien-Bildungsstätte, Nähraum,  Gorch-Fock-Str. 5 a, 26135 Oldenburg
END:VEVENT
BEGIN:VEVENT
DTSTAMP:20260422T110354
DTSTART;TZID=Europe/Berlin:20250904T180000
DTEND;TZID=Europe/Berlin:20250904T210000
UID:T21010-EEB-20250904T180000@EFBOLDENBURG
DESCRIPTION:24.02.25 (*KÜ): Modul 4 - Kompetenzen
SUMMARY:KTP - Qualifizierungskurs - Stufe I - Tätigkeitsvorbereitender Teil Voraussetzung für die Tätigkeit als Tagesmutter oder Tagesvater (T21010-EEB) 
LOCATION:Ev. Familien-Bildungsstätte, Nähraum,  Gorch-Fock-Str. 5 a, 26135 Oldenburg
END:VEVENT
BEGIN:VEVENT
DTSTAMP:20260422T110354
DTSTART;TZID=Europe/Berlin:20250905T180000
DTEND;TZID=Europe/Berlin:20250905T201500
UID:T21010-EEB-20250905T180000@EFBOLDENBURG
DESCRIPTION:24.02.25 (*KÜ): Modul 4 - Kompetenzen
SUMMARY:KTP - Qualifizierungskurs - Stufe I - Tätigkeitsvorbereitender Teil Voraussetzung für die Tätigkeit als Tagesmutter oder Tagesvater (T21010-EEB) 
LOCATION:Ev. Familien-Bildungsstätte, Nähraum,  Gorch-Fock-Str. 5 a, 26135 Oldenburg
END:VEVENT
BEGIN:VEVENT
DTSTAMP:20260422T110354
DTSTART;TZID=Europe/Berlin:20250906T090000
DTEND;TZID=Europe/Berlin:20250906T150000
UID:T21010-EEB-20250906T090000@EFBOLDENBURG
DESCRIPTION:24.02.25 (*KÜ): Modul 5 - Aufbau KTP - Businessplan
SUMMARY:KTP - Qualifizierungskurs - Stufe I - Tätigkeitsvorbereitender Teil Voraussetzung für die Tätigkeit als Tagesmutter oder Tagesvater (T21010-EEB) 
LOCATION:Ev. Familien-Bildungsstätte, Nähraum,  Gorch-Fock-Str. 5 a, 26135 Oldenburg
END:VEVENT
BEGIN:VEVENT
DTSTAMP:20260422T110354
DTSTART;TZID=Europe/Berlin:20250908T180000
DTEND;TZID=Europe/Berlin:20250908T193000
UID:T21010-EEB-20250908T180000@EFBOLDENBURG
DESCRIPTION:24.02.25 (*KÜ): Modul 6 - Konzept
SUMMARY:KTP - Qualifizierungskurs - Stufe I - Tätigkeitsvorbereitender Teil Voraussetzung für die Tätigkeit als Tagesmutter oder Tagesvater (T21010-EEB) 
LOCATION:Ev. Familien-Bildungsstätte, Nähraum,  Gorch-Fock-Str. 5 a, 26135 Oldenburg
END:VEVENT
BEGIN:VEVENT
DTSTAMP:20260422T110354
DTSTART;TZID=Europe/Berlin:20250910T180000
DTEND;TZID=Europe/Berlin:20250910T210000
UID:T21010-EEB-20250910T180000@EFBOLDENBURG
DESCRIPTION:24.02.25 (*KÜ): Modul 7/8 - Abschluss Orientierungsphase, kollegiale Vernetzung und Kooperation
SUMMARY:KTP - Qualifizierungskurs - Stufe I - Tätigkeitsvorbereitender Teil Voraussetzung für die Tätigkeit als Tagesmutter oder Tagesvater (T21010-EEB) 
LOCATION:Ev. Familien-Bildungsstätte, Nähraum,  Gorch-Fock-Str. 5 a, 26135 Oldenburg
END:VEVENT
BEGIN:VEVENT
DTSTAMP:20260422T110354
DTSTART;TZID=Europe/Berlin:20250910T180000
DTEND;TZID=Europe/Berlin:20250910T193000
UID:T21010-EEB-20250910T180000@EFBOLDENBURG
SUMMARY:KTP - Qualifizierungskurs - Stufe I - Tätigkeitsvorbereitender Teil Voraussetzung für die Tätigkeit als Tagesmutter oder Tagesvater (T21010-EEB) 
LOCATION:Ev. Familien-Bildungsstätte, Café/Küche, EFB, Gorch-Fock-Str. 5 a, 26135 Oldenburg
END:VEVENT
BEGIN:VEVENT
DTSTAMP:20260422T110354
DTSTART;TZID=Europe/Berlin:20250915T180000
DTEND;TZID=Europe/Berlin:20250915T210000
UID:T21010-EEB-20250915T180000@EFBOLDENBURG
DESCRIPTION:24.02.25 (*KÜ): Modul 10 - Planung Praktikum / Checklisten, Ziele
SUMMARY:KTP - Qualifizierungskurs - Stufe I - Tätigkeitsvorbereitender Teil Voraussetzung für die Tätigkeit als Tagesmutter oder Tagesvater (T21010-EEB) 
LOCATION:Ev. Familien-Bildungsstätte, Kinderraum, Gorch-Fock-Str. 5 a, 26135 Oldenburg
END:VEVENT
BEGIN:VEVENT
DTSTAMP:20260422T110354
DTSTART;TZID=Europe/Berlin:20250916T180000
DTEND;TZID=Europe/Berlin:20250916T210000
UID:T21010-EEB-20250916T180000@EFBOLDENBURG
DESCRIPTION:24.02.25 (*KÜ): Modul 9 - Kommunikationim Kurs und in der KTP
SUMMARY:KTP - Qualifizierungskurs - Stufe I - Tätigkeitsvorbereitender Teil Voraussetzung für die Tätigkeit als Tagesmutter oder Tagesvater (T21010-EEB) 
LOCATION:Ev. Familien-Bildungsstätte, Gesprächsraum, Gorch-Fock-Str. 5 a, 26135 Oldenburg
END:VEVENT
BEGIN:VEVENT
DTSTAMP:20260422T110354
DTSTART;TZID=Europe/Berlin:20250920T150000
DTEND;TZID=Europe/Berlin:20250920T200000
UID:T21010-EEB-20250920T150000@EFBOLDENBURG
DESCRIPTION:24.02.25 (*KÜ): Modul 11 - Beziehung gestalten zu Kindern und Eltern
SUMMARY:KTP - Qualifizierungskurs - Stufe I - Tätigkeitsvorbereitender Teil Voraussetzung für die Tätigkeit als Tagesmutter oder Tagesvater (T21010-EEB) 
LOCATION:Ev. Familien-Bildungsstätte, Kinderraum, Gorch-Fock-Str. 5 a, 26135 Oldenburg
END:VEVENT
BEGIN:VEVENT
DTSTAMP:20260422T110354
DTSTART;TZID=Europe/Berlin:20250923T180000
DTEND;TZID=Europe/Berlin:20250923T210000
UID:T21010-EEB-20250923T180000@EFBOLDENBURG
DESCRIPTION:24.02.25 (*KÜ): Modul 11 - Beziehung gestalten zu Kindern und Eltern
SUMMARY:KTP - Qualifizierungskurs - Stufe I - Tätigkeitsvorbereitender Teil Voraussetzung für die Tätigkeit als Tagesmutter oder Tagesvater (T21010-EEB) 
LOCATION:Ev. Familien-Bildungsstätte, Gesprächsraum, Gorch-Fock-Str. 5 a, 26135 Oldenburg
END:VEVENT
BEGIN:VEVENT
DTSTAMP:20260422T110354
DTSTART;TZID=Europe/Berlin:20250924T180000
DTEND;TZID=Europe/Berlin:20250924T210000
UID:T21010-EEB-20250924T180000@EFBOLDENBURG
DESCRIPTION:24.02.25 (*KÜ): Modul 11 - Beziehung gestalten zu Kindern und Eltern
SUMMARY:KTP - Qualifizierungskurs - Stufe I - Tätigkeitsvorbereitender Teil Voraussetzung für die Tätigkeit als Tagesmutter oder Tagesvater (T21010-EEB) 
LOCATION:Ev. Familien-Bildungsstätte, Nähraum,  Gorch-Fock-Str. 5 a, 26135 Oldenburg
END:VEVENT
BEGIN:VEVENT
DTSTAMP:20260422T110354
DTSTART;TZID=Europe/Berlin:20251002T180000
DTEND;TZID=Europe/Berlin:20251002T210000
UID:T21010-EEB-20251002T180000@EFBOLDENBURG
DESCRIPTION:24.02.25 (*KÜ): Modul 11 - Beziehung gestalten zu Kindern und Eltern
SUMMARY:KTP - Qualifizierungskurs - Stufe I - Tätigkeitsvorbereitender Teil Voraussetzung für die Tätigkeit als Tagesmutter oder Tagesvater (T21010-EEB) 
LOCATION:Ev. Familien-Bildungsstätte, Nähraum,  Gorch-Fock-Str. 5 a, 26135 Oldenburg
END:VEVENT
BEGIN:VEVENT
DTSTAMP:20260422T110354
DTSTART;TZID=Europe/Berlin:20251007T171500
DTEND;TZID=Europe/Berlin:20251007T180000
UID:T21010-EEB-20251007T171500@EFBOLDENBURG
DESCRIPTION:09.10.25 (*KÜ): 3 Reflexionsgespräche a 15 min, Shoueikh, Eriel, Karaish
SUMMARY:KTP - Qualifizierungskurs - Stufe I - Tätigkeitsvorbereitender Teil Voraussetzung für die Tätigkeit als Tagesmutter oder Tagesvater (T21010-EEB) 
LOCATION:Ev. Familien-Bildungsstätte, Nähraum,  Gorch-Fock-Str. 5 a, 26135 Oldenburg
END:VEVENT
BEGIN:VEVENT
DTSTAMP:20260422T110354
DTSTART;TZID=Europe/Berlin:20251007T180000
DTEND;TZID=Europe/Berlin:20251007T201500
UID:T21010-EEB-20251007T180000@EFBOLDENBURG
DESCRIPTION:24.02.25 (*KÜ): Modul 12 - Hygiene, Gesundheit,
SUMMARY:KTP - Qualifizierungskurs - Stufe I - Tätigkeitsvorbereitender Teil Voraussetzung für die Tätigkeit als Tagesmutter oder Tagesvater (T21010-EEB) 
LOCATION:Ev. Familien-Bildungsstätte, Nähraum,  Gorch-Fock-Str. 5 a, 26135 Oldenburg
END:VEVENT
BEGIN:VEVENT
DTSTAMP:20260422T110354
DTSTART;TZID=Europe/Berlin:20251007T180000
DTEND;TZID=Europe/Berlin:20251007T201500
UID:T21010-EEB-20251007T180000@EFBOLDENBURG
SUMMARY:KTP - Qualifizierungskurs - Stufe I - Tätigkeitsvorbereitender Teil Voraussetzung für die Tätigkeit als Tagesmutter oder Tagesvater (T21010-EEB) 
LOCATION:Ev. Familien-Bildungsstätte, Nähraum,  Gorch-Fock-Str. 5 a, 26135 Oldenburg
END:VEVENT
BEGIN:VEVENT
DTSTAMP:20260422T110354
DTSTART;TZID=Europe/Berlin:20251009T171500
DTEND;TZID=Europe/Berlin:20251009T180000
UID:T21010-EEB-20251009T171500@EFBOLDENBURG
DESCRIPTION:09.10.25 (*KÜ): Reflexionsgespräche 3 TN a 15 min, Krasniqi, Will, Abou Elgadel
SUMMARY:KTP - Qualifizierungskurs - Stufe I - Tätigkeitsvorbereitender Teil Voraussetzung für die Tätigkeit als Tagesmutter oder Tagesvater (T21010-EEB) 
LOCATION:Ev. Familien-Bildungsstätte, Gesprächsraum, Gorch-Fock-Str. 5 a, 26135 Oldenburg
END:VEVENT
BEGIN:VEVENT
DTSTAMP:20260422T110354
DTSTART;TZID=Europe/Berlin:20251009T180000
DTEND;TZID=Europe/Berlin:20251009T201500
UID:T21010-EEB-20251009T180000@EFBOLDENBURG
SUMMARY:KTP - Qualifizierungskurs - Stufe I - Tätigkeitsvorbereitender Teil Voraussetzung für die Tätigkeit als Tagesmutter oder Tagesvater (T21010-EEB) 
LOCATION:Ev. Familien-Bildungsstätte, Gesprächsraum, Gorch-Fock-Str. 5 a, 26135 Oldenburg
END:VEVENT
BEGIN:VEVENT
DTSTAMP:20260422T110354
DTSTART;TZID=Europe/Berlin:20251009T180000
DTEND;TZID=Europe/Berlin:20251009T201500
UID:T21010-EEB-20251009T180000@EFBOLDENBURG
DESCRIPTION:24.02.25 (*KÜ): Modul 12 - Hygiene, Gesundheit,
SUMMARY:KTP - Qualifizierungskurs - Stufe I - Tätigkeitsvorbereitender Teil Voraussetzung für die Tätigkeit als Tagesmutter oder Tagesvater (T21010-EEB) 
LOCATION:Ev. Familien-Bildungsstätte, Gesprächsraum, Gorch-Fock-Str. 5 a, 26135 Oldenburg
END:VEVENT
BEGIN:VEVENT
DTSTAMP:20260422T110354
DTSTART;TZID=Europe/Berlin:20251028T180000
DTEND;TZID=Europe/Berlin:20251028T210000
UID:T21010-EEB-20251028T180000@EFBOLDENBURG
DESCRIPTION:24.02.25 (*KÜ): Modul 13 - Businessplan weiterentwickeln - Konzeptentwicklung
SUMMARY:KTP - Qualifizierungskurs - Stufe I - Tätigkeitsvorbereitender Teil Voraussetzung für die Tätigkeit als Tagesmutter oder Tagesvater (T21010-EEB) 
LOCATION:Ev. Familien-Bildungsstätte, Nähraum,  Gorch-Fock-Str. 5 a, 26135 Oldenburg
END:VEVENT
BEGIN:VEVENT
DTSTAMP:20260422T110354
DTSTART;TZID=Europe/Berlin:20251104T180000
DTEND;TZID=Europe/Berlin:20251104T193000
UID:T21010-EEB-20251104T180000@EFBOLDENBURG
DESCRIPTION:24.02.25 (*KÜ): Modul 14 - Sicherheit und Unfallschutz
SUMMARY:KTP - Qualifizierungskurs - Stufe I - Tätigkeitsvorbereitender Teil Voraussetzung für die Tätigkeit als Tagesmutter oder Tagesvater (T21010-EEB) 
LOCATION:Ev. Familien-Bildungsstätte, Nähraum,  Gorch-Fock-Str. 5 a, 26135 Oldenburg
END:VEVENT
BEGIN:VEVENT
DTSTAMP:20260422T110354
DTSTART;TZID=Europe/Berlin:20251106T180000
DTEND;TZID=Europe/Berlin:20251106T204500
UID:T21010-EEB-20251106T180000@EFBOLDENBURG
DESCRIPTION:24.02.25 (*KÜ): Modul 15 - Bildung begleiten
SUMMARY:KTP - Qualifizierungskurs - Stufe I - Tätigkeitsvorbereitender Teil Voraussetzung für die Tätigkeit als Tagesmutter oder Tagesvater (T21010-EEB) 
LOCATION:Ev. Familien-Bildungsstätte, Nähraum,  Gorch-Fock-Str. 5 a, 26135 Oldenburg
END:VEVENT
BEGIN:VEVENT
DTSTAMP:20260422T110354
DTSTART;TZID=Europe/Berlin:20251108T090000
DTEND;TZID=Europe/Berlin:20251108T160000
UID:T21010-EEB-20251108T090000@EFBOLDENBURG
DESCRIPTION:24.02.25 (*KÜ): Modul 15 - Bildung begleiten
SUMMARY:KTP - Qualifizierungskurs - Stufe I - Tätigkeitsvorbereitender Teil Voraussetzung für die Tätigkeit als Tagesmutter oder Tagesvater (T21010-EEB) 
LOCATION:Ev. Familien-Bildungsstätte, Nähraum,  Gorch-Fock-Str. 5 a, 26135 Oldenburg
END:VEVENT
BEGIN:VEVENT
DTSTAMP:20260422T110354
DTSTART;TZID=Europe/Berlin:20251111T180000
DTEND;TZID=Europe/Berlin:20251111T210000
UID:T21010-EEB-20251111T180000@EFBOLDENBURG
DESCRIPTION:24.02.25 (*KÜ): Modul 15 - Bildung begleiten
SUMMARY:KTP - Qualifizierungskurs - Stufe I - Tätigkeitsvorbereitender Teil Voraussetzung für die Tätigkeit als Tagesmutter oder Tagesvater (T21010-EEB) 
LOCATION:Ev. Familien-Bildungsstätte, Nähraum,  Gorch-Fock-Str. 5 a, 26135 Oldenburg
END:VEVENT
BEGIN:VEVENT
DTSTAMP:20260422T110354
DTSTART;TZID=Europe/Berlin:20251113T180000
DTEND;TZID=Europe/Berlin:20251113T210000
UID:T21010-EEB-20251113T180000@EFBOLDENBURG
DESCRIPTION:24.02.25 (*KÜ): Modul 15 - Bildung begleiten
SUMMARY:KTP - Qualifizierungskurs - Stufe I - Tätigkeitsvorbereitender Teil Voraussetzung für die Tätigkeit als Tagesmutter oder Tagesvater (T21010-EEB) 
LOCATION:Ev. Familien-Bildungsstätte, Nähraum,  Gorch-Fock-Str. 5 a, 26135 Oldenburg
END:VEVENT
BEGIN:VEVENT
DTSTAMP:20260422T110354
DTSTART;TZID=Europe/Berlin:20251118T163000
DTEND;TZID=Europe/Berlin:20251118T180000
UID:T21010-EEB-20251118T163000@EFBOLDENBURG
DESCRIPTION:21.11.25 (*KÜ): Vorbereitung Ziel-und Bilanzgespräche mit KKB Antje Fischer und Nicole Eilers
SUMMARY:KTP - Qualifizierungskurs - Stufe I - Tätigkeitsvorbereitender Teil Voraussetzung für die Tätigkeit als Tagesmutter oder Tagesvater (T21010-EEB) 
LOCATION:Ev. Familien-Bildungsstätte, Werkraum,  Gorch-Fock-Str. 5 a, 26135 Oldenburg
END:VEVENT
BEGIN:VEVENT
DTSTAMP:20260422T110354
DTSTART;TZID=Europe/Berlin:20251118T163000
DTEND;TZID=Europe/Berlin:20251118T180000
UID:T21010-EEB-20251118T163000@EFBOLDENBURG
DESCRIPTION:21.11.25 (*KÜ): Vorbereitung der Ziel-und Bilanzgespräche mit KKB Nicole Eilers und Antje Fischer
SUMMARY:KTP - Qualifizierungskurs - Stufe I - Tätigkeitsvorbereitender Teil Voraussetzung für die Tätigkeit als Tagesmutter oder Tagesvater (T21010-EEB) 
LOCATION:Ev. Familien-Bildungsstätte, Werkraum,  Gorch-Fock-Str. 5 a, 26135 Oldenburg
END:VEVENT
BEGIN:VEVENT
DTSTAMP:20260422T110354
DTSTART;TZID=Europe/Berlin:20251118T180000
DTEND;TZID=Europe/Berlin:20251118T210000
UID:T21010-EEB-20251118T180000@EFBOLDENBURG
DESCRIPTION:24.02.25 (*KÜ): Modul 16 - Zwischenreflexion
SUMMARY:KTP - Qualifizierungskurs - Stufe I - Tätigkeitsvorbereitender Teil Voraussetzung für die Tätigkeit als Tagesmutter oder Tagesvater (T21010-EEB) 
LOCATION:Ev. Familien-Bildungsstätte, Nähraum,  Gorch-Fock-Str. 5 a, 26135 Oldenburg
END:VEVENT
BEGIN:VEVENT
DTSTAMP:20260422T110354
DTSTART;TZID=Europe/Berlin:20251120T180000
DTEND;TZID=Europe/Berlin:20251120T210000
UID:T21010-EEB-20251120T180000@EFBOLDENBURG
DESCRIPTION:24.02.25 (*KÜ): Ziel- und Bilanzgespräche
SUMMARY:KTP - Qualifizierungskurs - Stufe I - Tätigkeitsvorbereitender Teil Voraussetzung für die Tätigkeit als Tagesmutter oder Tagesvater (T21010-EEB) 
LOCATION:Ev. Familien-Bildungsstätte, Nähraum,  Gorch-Fock-Str. 5 a, 26135 Oldenburg
END:VEVENT
BEGIN:VEVENT
DTSTAMP:20260422T110354
DTSTART;TZID=Europe/Berlin:20251120T183000
DTEND;TZID=Europe/Berlin:20251120T193000
UID:T21010-EEB-20251120T183000@EFBOLDENBURG
DESCRIPTION:21.11.25 (*KÜ): Ziel-und Bilanzgespräche für zwei TN parallel zu Gesprächen im anderen Raum
SUMMARY:KTP - Qualifizierungskurs - Stufe I - Tätigkeitsvorbereitender Teil Voraussetzung für die Tätigkeit als Tagesmutter oder Tagesvater (T21010-EEB) 
LOCATION:Ev. Familien-Bildungsstätte, Beratungsraum, Gorch-Fock-Str. 5 a, 26135 Oldenburg
END:VEVENT
BEGIN:VEVENT
DTSTAMP:20260422T110354
DTSTART;TZID=Europe/Berlin:20251125T180000
DTEND;TZID=Europe/Berlin:20251125T210000
UID:T21010-EEB-20251125T180000@EFBOLDENBURG
DESCRIPTION:24.02.25 (*KÜ): Modul 17 - Aufbau einer Kindertagespflegestelle + Modul 22
SUMMARY:KTP - Qualifizierungskurs - Stufe I - Tätigkeitsvorbereitender Teil Voraussetzung für die Tätigkeit als Tagesmutter oder Tagesvater (T21010-EEB) 
LOCATION:Ev. Familien-Bildungsstätte, Nähraum,  Gorch-Fock-Str. 5 a, 26135 Oldenburg
END:VEVENT
BEGIN:VEVENT
DTSTAMP:20260422T110354
DTSTART;TZID=Europe/Berlin:20251125T180000
DTEND;TZID=Europe/Berlin:20251125T210000
UID:T21010-EEB-20251125T180000@EFBOLDENBURG
SUMMARY:KTP - Qualifizierungskurs - Stufe I - Tätigkeitsvorbereitender Teil Voraussetzung für die Tätigkeit als Tagesmutter oder Tagesvater (T21010-EEB) 
LOCATION:Ev. Familien-Bildungsstätte, Nähraum,  Gorch-Fock-Str. 5 a, 26135 Oldenburg
END:VEVENT
BEGIN:VEVENT
DTSTAMP:20260422T110354
DTSTART;TZID=Europe/Berlin:20251127T180000
DTEND;TZID=Europe/Berlin:20251127T201500
UID:T21010-EEB-20251127T180000@EFBOLDENBURG
DESCRIPTION:24.02.25 (*KÜ): Modul 17 - Aufbau einer Kindertagespflegestelle
SUMMARY:KTP - Qualifizierungskurs - Stufe I - Tätigkeitsvorbereitender Teil Voraussetzung für die Tätigkeit als Tagesmutter oder Tagesvater (T21010-EEB) 
LOCATION:Ev. Familien-Bildungsstätte, Gesprächsraum, Gorch-Fock-Str. 5 a, 26135 Oldenburg
END:VEVENT
BEGIN:VEVENT
DTSTAMP:20260422T110354
DTSTART;TZID=Europe/Berlin:20251202T180000
DTEND;TZID=Europe/Berlin:20251202T210000
UID:T21010-EEB-20251202T180000@EFBOLDENBURG
SUMMARY:KTP - Qualifizierungskurs - Stufe I - Tätigkeitsvorbereitender Teil Voraussetzung für die Tätigkeit als Tagesmutter oder Tagesvater (T21010-EEB) 
LOCATION:Ev. Familien-Bildungsstätte, Nähraum,  Gorch-Fock-Str. 5 a, 26135 Oldenburg
END:VEVENT
BEGIN:VEVENT
DTSTAMP:20260422T110354
DTSTART;TZID=Europe/Berlin:20251202T180000
DTEND;TZID=Europe/Berlin:20251202T210000
UID:T21010-EEB-20251202T180000@EFBOLDENBURG
DESCRIPTION:24.02.25 (*KÜ): Modul 17 - Aufbau einer Kindertagespflegestelle - Betreuungsvertrag
SUMMARY:KTP - Qualifizierungskurs - Stufe I - Tätigkeitsvorbereitender Teil Voraussetzung für die Tätigkeit als Tagesmutter oder Tagesvater (T21010-EEB) 
LOCATION:Ev. Familien-Bildungsstätte, Nähraum,  Gorch-Fock-Str. 5 a, 26135 Oldenburg
END:VEVENT
BEGIN:VEVENT
DTSTAMP:20260422T110354
DTSTART;TZID=Europe/Berlin:20251206T090000
DTEND;TZID=Europe/Berlin:20251206T154500
UID:T21010-EEB-20251206T090000@EFBOLDENBURG
DESCRIPTION:24.02.25 (*KÜ): Modul 18, Kinderschutzzentrum
SUMMARY:KTP - Qualifizierungskurs - Stufe I - Tätigkeitsvorbereitender Teil Voraussetzung für die Tätigkeit als Tagesmutter oder Tagesvater (T21010-EEB) 
LOCATION:Ev. Familien-Bildungsstätte, Nähraum,  Gorch-Fock-Str. 5 a, 26135 Oldenburg
END:VEVENT
BEGIN:VEVENT
DTSTAMP:20260422T110354
DTSTART;TZID=Europe/Berlin:20251209T180000
DTEND;TZID=Europe/Berlin:20251209T203000
UID:T21010-EEB-20251209T180000@EFBOLDENBURG
DESCRIPTION:24.02.25 (*KÜ): Modul 19 - Kindliches Spiel begleiten
SUMMARY:KTP - Qualifizierungskurs - Stufe I - Tätigkeitsvorbereitender Teil Voraussetzung für die Tätigkeit als Tagesmutter oder Tagesvater (T21010-EEB) 
LOCATION:Ev. Familien-Bildungsstätte, Nähraum,  Gorch-Fock-Str. 5 a, 26135 Oldenburg
END:VEVENT
BEGIN:VEVENT
DTSTAMP:20260422T110354
DTSTART;TZID=Europe/Berlin:20251211T180000
DTEND;TZID=Europe/Berlin:20251211T203000
UID:T21010-EEB-20251211T180000@EFBOLDENBURG
DESCRIPTION:24.02.25 (*KÜ): Modul 19 - Kindliches Spiel begleiten
SUMMARY:KTP - Qualifizierungskurs - Stufe I - Tätigkeitsvorbereitender Teil Voraussetzung für die Tätigkeit als Tagesmutter oder Tagesvater (T21010-EEB) 
LOCATION:Ev. Familien-Bildungsstätte, Nähraum,  Gorch-Fock-Str. 5 a, 26135 Oldenburg
END:VEVENT
BEGIN:VEVENT
DTSTAMP:20260422T110354
DTSTART;TZID=Europe/Berlin:20251213T090000
DTEND;TZID=Europe/Berlin:20251213T120000
UID:T21010-EEB-20251213T090000@EFBOLDENBURG
DESCRIPTION:24.02.25 (*KÜ): Modul 19 - Kindliches Spiel begleiten
SUMMARY:KTP - Qualifizierungskurs - Stufe I - Tätigkeitsvorbereitender Teil Voraussetzung für die Tätigkeit als Tagesmutter oder Tagesvater (T21010-EEB) 
LOCATION:Ev. Familien-Bildungsstätte, Nähraum,  Gorch-Fock-Str. 5 a, 26135 Oldenburg
END:VEVENT
BEGIN:VEVENT
DTSTAMP:20260422T110354
DTSTART;TZID=Europe/Berlin:20251213T130000
DTEND;TZID=Europe/Berlin:20251213T160000
UID:T21010-EEB-20251213T130000@EFBOLDENBURG
SUMMARY:KTP - Qualifizierungskurs - Stufe I - Tätigkeitsvorbereitender Teil Voraussetzung für die Tätigkeit als Tagesmutter oder Tagesvater (T21010-EEB) 
LOCATION:Ev. Familien-Bildungsstätte, Nähraum,  Gorch-Fock-Str. 5 a, 26135 Oldenburg
END:VEVENT
BEGIN:VEVENT
DTSTAMP:20260422T110354
DTSTART;TZID=Europe/Berlin:20251216T180000
DTEND;TZID=Europe/Berlin:20251216T210000
UID:T21010-EEB-20251216T180000@EFBOLDENBURG
DESCRIPTION:24.02.25 (*KÜ): Modul 19 - Kindliches Spiel begleiten
SUMMARY:KTP - Qualifizierungskurs - Stufe I - Tätigkeitsvorbereitender Teil Voraussetzung für die Tätigkeit als Tagesmutter oder Tagesvater (T21010-EEB) 
LOCATION:Ev. Familien-Bildungsstätte, Nähraum,  Gorch-Fock-Str. 5 a, 26135 Oldenburg
END:VEVENT
BEGIN:VEVENT
DTSTAMP:20260422T110354
DTSTART;TZID=Europe/Berlin:20260113T180000
DTEND;TZID=Europe/Berlin:20260113T210000
UID:T21010-EEB-20260113T180000@EFBOLDENBURG
DESCRIPTION:24.02.25 (*KÜ): Modul 20 - Eingewöhnung
SUMMARY:KTP - Qualifizierungskurs - Stufe I - Tätigkeitsvorbereitender Teil Voraussetzung für die Tätigkeit als Tagesmutter oder Tagesvater (T21010-EEB) 
LOCATION:Ev. Familien-Bildungsstätte, Nähraum,  Gorch-Fock-Str. 5 a, 26135 Oldenburg
END:VEVENT
BEGIN:VEVENT
DTSTAMP:20260422T110354
DTSTART;TZID=Europe/Berlin:20260120T180000
DTEND;TZID=Europe/Berlin:20260120T210000
UID:T21010-EEB-20260120T180000@EFBOLDENBURG
DESCRIPTION:24.02.25 (*KÜ): Modul 23 - Konzeption: Weiterentwicklung
SUMMARY:KTP - Qualifizierungskurs - Stufe I - Tätigkeitsvorbereitender Teil Voraussetzung für die Tätigkeit als Tagesmutter oder Tagesvater (T21010-EEB) 
LOCATION:Ev. Familien-Bildungsstätte, Nähraum,  Gorch-Fock-Str. 5 a, 26135 Oldenburg
END:VEVENT
BEGIN:VEVENT
DTSTAMP:20260422T110354
DTSTART;TZID=Europe/Berlin:20260207T090000
DTEND;TZID=Europe/Berlin:20260207T160000
UID:T21010-EEB-20260207T090000@EFBOLDENBURG
DESCRIPTION:12.05.25 (*KÜ): Ernährung in der Kindertagespflege
SUMMARY:KTP - Qualifizierungskurs - Stufe I - Tätigkeitsvorbereitender Teil Voraussetzung für die Tätigkeit als Tagesmutter oder Tagesvater (T21010-EEB) 
LOCATION:Ev. Familien-Bildungsstätte, Café/Küche, EFB, Gorch-Fock-Str. 5 a, 26135 Oldenburg
END:VEVENT
BEGIN:VEVENT
DTSTAMP:20260422T110354
DTSTART;TZID=Europe/Berlin:20260207T090000
DTEND;TZID=Europe/Berlin:20260207T160000
UID:T21010-EEB-20260207T090000@EFBOLDENBURG
DESCRIPTION:12.05.25 (*KÜ): Ernährung  24.02.25 (*KÜ): Modul 12+
SUMMARY:KTP - Qualifizierungskurs - Stufe I - Tätigkeitsvorbereitender Teil Voraussetzung für die Tätigkeit als Tagesmutter oder Tagesvater (T21010-EEB) 
LOCATION:Ev. Familien-Bildungsstätte, Nähraum,  Gorch-Fock-Str. 5 a, 26135 Oldenburg
END:VEVENT
BEGIN:VEVENT
DTSTAMP:20260422T110354
DTSTART;TZID=Europe/Berlin:20260210T180000
DTEND;TZID=Europe/Berlin:20260210T201500
UID:T21010-EEB-20260210T180000@EFBOLDENBURG
DESCRIPTION:24.02.25 (*KÜ): Modul 21 - Nachbereitung Praktikum
SUMMARY:KTP - Qualifizierungskurs - Stufe I - Tätigkeitsvorbereitender Teil Voraussetzung für die Tätigkeit als Tagesmutter oder Tagesvater (T21010-EEB) 
LOCATION:Ev. Familien-Bildungsstätte, Nähraum,  Gorch-Fock-Str. 5 a, 26135 Oldenburg
END:VEVENT
BEGIN:VEVENT
DTSTAMP:20260422T110354
DTSTART;TZID=Europe/Berlin:20260212T180000
DTEND;TZID=Europe/Berlin:20260212T201500
UID:T21010-EEB-20260212T180000@EFBOLDENBURG
DESCRIPTION:24.02.25 (*KÜ): Modul 21 - Nachbereitung Praktikum
SUMMARY:KTP - Qualifizierungskurs - Stufe I - Tätigkeitsvorbereitender Teil Voraussetzung für die Tätigkeit als Tagesmutter oder Tagesvater (T21010-EEB) 
LOCATION:Ev. Familien-Bildungsstätte, Nähraum,  Gorch-Fock-Str. 5 a, 26135 Oldenburg
END:VEVENT
BEGIN:VEVENT
DTSTAMP:20260422T110354
DTSTART;TZID=Europe/Berlin:20260224T180000
DTEND;TZID=Europe/Berlin:20260224T214500
UID:T21010-EEB-20260224T180000@EFBOLDENBURG
DESCRIPTION:24.02.25 (*KÜ): Modul 24 - Kursreflexion
SUMMARY:KTP - Qualifizierungskurs - Stufe I - Tätigkeitsvorbereitender Teil Voraussetzung für die Tätigkeit als Tagesmutter oder Tagesvater (T21010-EEB) 
LOCATION:Ev. Familien-Bildungsstätte, Nähraum,  Gorch-Fock-Str. 5 a, 26135 Oldenburg
END:VEVENT
BEGIN:VEVENT
DTSTAMP:20260422T110354
DTSTART;TZID=Europe/Berlin:20260225T153000
DTEND;TZID=Europe/Berlin:20260225T183000
UID:T21010-EEB-20260225T153000@EFBOLDENBURG
DESCRIPTION:26.02.25 (*KÜ): Aufenthaltsraum für Prüfungsteilnehmer*innen
SUMMARY:KTP - Qualifizierungskurs - Stufe I - Tätigkeitsvorbereitender Teil Voraussetzung für die Tätigkeit als Tagesmutter oder Tagesvater (T21010-EEB) 
LOCATION:Ev. Familien-Bildungsstätte, Café/Küche, EFB, Gorch-Fock-Str. 5 a, 26135 Oldenburg
END:VEVENT
END:VCALENDAR