BEGIN:VCALENDAR
VERSION:2.0
PRODID:https://www.kufer.de/kuferweb / DE
METHOD:PUBLISH
CALSCALE:GREGORIAN
X-WR-TIMEZONE:Europe/Berlin
BEGIN:VTIMEZONE
TZID:Europe/Berlin
X-LIC-LOCATION:Europe/Berlin
BEGIN:DAYLIGHT
TZOFFSETFROM:+0100
TZOFFSETTO:+0200
TZNAME:CEST
DTSTART:19700329T020000
RRULE:FREQ=YEARLY;INTERVAL=1;BYDAY=-1SU;BYMONTH=3
END:DAYLIGHT
BEGIN:STANDARD
TZOFFSETFROM:+0200
TZOFFSETTO:+0100
TZNAME:CET
DTSTART:19701025T030000
RRULE:FREQ=YEARLY;INTERVAL=1;BYDAY=-1SU;BYMONTH=10
END:STANDARD
END:VTIMEZONE
BEGIN:VEVENT
DTSTAMP:20260421T171738
DTSTART;TZID=Europe/Berlin:20250916T180000
DTEND;TZID=Europe/Berlin:20250916T201500
UID:T21020-EEB-20250916T180000@EFBOLDENBURG
SUMMARY:KTP - Kollegialer Austausch in der Kindertagespflege I (T21020-EEB) 
LOCATION:Gemeindezentrum Ohmstede, Butjadinger Str. 59, Butjadinger Straße 59
END:VEVENT
BEGIN:VEVENT
DTSTAMP:20260421T171738
DTSTART;TZID=Europe/Berlin:20251007T093000
DTEND;TZID=Europe/Berlin:20251007T110000
UID:T21020-EEB-20251007T093000@EFBOLDENBURG
DESCRIPTION:16.12.25 (*KÜ): Besprechung im Jugendamt über "Kollegialen Austausch"
SUMMARY:KTP - Kollegialer Austausch in der Kindertagespflege I (T21020-EEB) 
LOCATION:Gemeindezentrum Ohmstede, Butjadinger Str. 59, Butjadinger Straße 59
END:VEVENT
BEGIN:VEVENT
DTSTAMP:20260421T171738
DTSTART;TZID=Europe/Berlin:20251007T180000
DTEND;TZID=Europe/Berlin:20251007T201500
UID:T21020-EEB-20251007T180000@EFBOLDENBURG
SUMMARY:KTP - Kollegialer Austausch in der Kindertagespflege I (T21020-EEB) 
LOCATION:Gemeindezentrum Ohmstede, Butjadinger Str. 59, Butjadinger Straße 59
END:VEVENT
BEGIN:VEVENT
DTSTAMP:20260421T171738
DTSTART;TZID=Europe/Berlin:20251111T180000
DTEND;TZID=Europe/Berlin:20251111T201500
UID:T21020-EEB-20251111T180000@EFBOLDENBURG
SUMMARY:KTP - Kollegialer Austausch in der Kindertagespflege I (T21020-EEB) 
LOCATION:Gemeindezentrum Ohmstede, Butjadinger Str. 59, Butjadinger Straße 59
END:VEVENT
BEGIN:VEVENT
DTSTAMP:20260421T171738
DTSTART;TZID=Europe/Berlin:20251209T180000
DTEND;TZID=Europe/Berlin:20251209T201500
UID:T21020-EEB-20251209T180000@EFBOLDENBURG
SUMMARY:KTP - Kollegialer Austausch in der Kindertagespflege I (T21020-EEB) 
LOCATION:Gemeindezentrum Ohmstede, Butjadinger Str. 59, Butjadinger Straße 59
END:VEVENT
BEGIN:VEVENT
DTSTAMP:20260421T171738
DTSTART;TZID=Europe/Berlin:20260106T180000
DTEND;TZID=Europe/Berlin:20260106T201500
UID:T21020-EEB-20260106T180000@EFBOLDENBURG
SUMMARY:KTP - Kollegialer Austausch in der Kindertagespflege I (T21020-EEB) 
LOCATION:Gemeindezentrum Ohmstede, Butjadinger Str. 59, Butjadinger Straße 59
END:VEVENT
BEGIN:VEVENT
DTSTAMP:20260421T171738
DTSTART;TZID=Europe/Berlin:20260210T180000
DTEND;TZID=Europe/Berlin:20260210T201500
UID:T21020-EEB-20260210T180000@EFBOLDENBURG
SUMMARY:KTP - Kollegialer Austausch in der Kindertagespflege I (T21020-EEB) 
LOCATION:Gemeindezentrum Ohmstede, Butjadinger Str. 59, Butjadinger Straße 59
END:VEVENT
BEGIN:VEVENT
DTSTAMP:20260421T171738
DTSTART;TZID=Europe/Berlin:20260310T180000
DTEND;TZID=Europe/Berlin:20260310T201500
UID:T21020-EEB-20260310T180000@EFBOLDENBURG
SUMMARY:KTP - Kollegialer Austausch in der Kindertagespflege I (T21020-EEB) 
LOCATION:Gemeindezentrum Ohmstede, Butjadinger Str. 59, Butjadinger Straße 59
END:VEVENT
BEGIN:VEVENT
DTSTAMP:20260421T171738
DTSTART;TZID=Europe/Berlin:20260414T180000
DTEND;TZID=Europe/Berlin:20260414T201500
UID:T21020-EEB-20260414T180000@EFBOLDENBURG
SUMMARY:KTP - Kollegialer Austausch in der Kindertagespflege I (T21020-EEB) 
LOCATION:Gemeindezentrum Ohmstede, Butjadinger Str. 59, Butjadinger Straße 59
END:VEVENT
BEGIN:VEVENT
DTSTAMP:20260421T171738
DTSTART;TZID=Europe/Berlin:20260511T180000
DTEND;TZID=Europe/Berlin:20260511T201500
UID:T21020-EEB-20260511T180000@EFBOLDENBURG
SUMMARY:KTP - Kollegialer Austausch in der Kindertagespflege I (T21020-EEB) 
LOCATION:Gemeindezentrum Ohmstede, Butjadinger Str. 59, Butjadinger Straße 59
END:VEVENT
BEGIN:VEVENT
DTSTAMP:20260421T171738
DTSTART;TZID=Europe/Berlin:20260609T180000
DTEND;TZID=Europe/Berlin:20260609T201500
UID:T21020-EEB-20260609T180000@EFBOLDENBURG
SUMMARY:KTP - Kollegialer Austausch in der Kindertagespflege I (T21020-EEB) 
LOCATION:Gemeindezentrum Ohmstede, Butjadinger Str. 59, Butjadinger Straße 59
END:VEVENT
END:VCALENDAR