BEGIN:VCALENDAR
VERSION:2.0
PRODID:https://www.kufer.de/kuferweb / DE
METHOD:PUBLISH
CALSCALE:GREGORIAN
X-WR-TIMEZONE:Europe/Berlin
BEGIN:VTIMEZONE
TZID:Europe/Berlin
X-LIC-LOCATION:Europe/Berlin
BEGIN:DAYLIGHT
TZOFFSETFROM:+0100
TZOFFSETTO:+0200
TZNAME:CEST
DTSTART:19700329T020000
RRULE:FREQ=YEARLY;INTERVAL=1;BYDAY=-1SU;BYMONTH=3
END:DAYLIGHT
BEGIN:STANDARD
TZOFFSETFROM:+0200
TZOFFSETTO:+0100
TZNAME:CET
DTSTART:19701025T030000
RRULE:FREQ=YEARLY;INTERVAL=1;BYDAY=-1SU;BYMONTH=10
END:STANDARD
END:VTIMEZONE
BEGIN:VEVENT
DTSTAMP:20260421T191726
DTSTART;TZID=Europe/Berlin:20250909T183000
DTEND;TZID=Europe/Berlin:20250909T204500
UID:T21021-EEB-20250909T183000@EFBOLDENBURG
SUMMARY:KTP - Kollegialer Austausch in der Kindertagespflege II (T21021-EEB) 
LOCATION:Gemeindezentrum Ohmstede, Butjadinger Str. 59, Butjadinger Straße 59
END:VEVENT
BEGIN:VEVENT
DTSTAMP:20260421T191726
DTSTART;TZID=Europe/Berlin:20251027T183000
DTEND;TZID=Europe/Berlin:20251027T204500
UID:T21021-EEB-20251027T183000@EFBOLDENBURG
DESCRIPTION:15.07.25 (*KÜ): wegen Raumbelegung abweichender Termin
SUMMARY:KTP - Kollegialer Austausch in der Kindertagespflege II (T21021-EEB) 
LOCATION:Gemeindezentrum Ohmstede, Butjadinger Str. 59, Butjadinger Straße 59
END:VEVENT
BEGIN:VEVENT
DTSTAMP:20260421T191726
DTSTART;TZID=Europe/Berlin:20251118T183000
DTEND;TZID=Europe/Berlin:20251118T204500
UID:T21021-EEB-20251118T183000@EFBOLDENBURG
SUMMARY:KTP - Kollegialer Austausch in der Kindertagespflege II (T21021-EEB) 
LOCATION:Gemeindezentrum Ohmstede, Butjadinger Str. 59, Butjadinger Straße 59
END:VEVENT
BEGIN:VEVENT
DTSTAMP:20260421T191726
DTSTART;TZID=Europe/Berlin:20251216T183000
DTEND;TZID=Europe/Berlin:20251216T204500
UID:T21021-EEB-20251216T183000@EFBOLDENBURG
SUMMARY:KTP - Kollegialer Austausch in der Kindertagespflege II (T21021-EEB) 
LOCATION:Gemeindezentrum Ohmstede, Butjadinger Str. 59, Butjadinger Straße 59
END:VEVENT
BEGIN:VEVENT
DTSTAMP:20260421T191726
DTSTART;TZID=Europe/Berlin:20260113T183000
DTEND;TZID=Europe/Berlin:20260113T204500
UID:T21021-EEB-20260113T183000@EFBOLDENBURG
SUMMARY:KTP - Kollegialer Austausch in der Kindertagespflege II (T21021-EEB) 
LOCATION:Gemeindezentrum Ohmstede, Butjadinger Str. 59, Butjadinger Straße 59
END:VEVENT
BEGIN:VEVENT
DTSTAMP:20260421T191726
DTSTART;TZID=Europe/Berlin:20260217T183000
DTEND;TZID=Europe/Berlin:20260217T204500
UID:T21021-EEB-20260217T183000@EFBOLDENBURG
SUMMARY:KTP - Kollegialer Austausch in der Kindertagespflege II (T21021-EEB) 
LOCATION:Gemeindezentrum Ohmstede, Butjadinger Str. 59, Butjadinger Straße 59
END:VEVENT
BEGIN:VEVENT
DTSTAMP:20260421T191726
DTSTART;TZID=Europe/Berlin:20260303T183000
DTEND;TZID=Europe/Berlin:20260303T204500
UID:T21021-EEB-20260303T183000@EFBOLDENBURG
DESCRIPTION:15.09.25 (*KÜ): Ersatztermin für 24.03.26
SUMMARY:KTP - Kollegialer Austausch in der Kindertagespflege II (T21021-EEB) 
LOCATION:Gemeindezentrum Ohmstede, Butjadinger Str. 59, Butjadinger Straße 59
END:VEVENT
BEGIN:VEVENT
DTSTAMP:20260421T191726
DTSTART;TZID=Europe/Berlin:20260421T183000
DTEND;TZID=Europe/Berlin:20260421T204500
UID:T21021-EEB-20260421T183000@EFBOLDENBURG
SUMMARY:KTP - Kollegialer Austausch in der Kindertagespflege II (T21021-EEB) 
LOCATION:Gemeindezentrum Ohmstede, Butjadinger Str. 59, Butjadinger Straße 59
END:VEVENT
BEGIN:VEVENT
DTSTAMP:20260421T191726
DTSTART;TZID=Europe/Berlin:20260519T183000
DTEND;TZID=Europe/Berlin:20260519T204500
UID:T21021-EEB-20260519T183000@EFBOLDENBURG
SUMMARY:KTP - Kollegialer Austausch in der Kindertagespflege II (T21021-EEB) 
LOCATION:Gemeindezentrum Ohmstede, Butjadinger Str. 59, Butjadinger Straße 59
END:VEVENT
BEGIN:VEVENT
DTSTAMP:20260421T191726
DTSTART;TZID=Europe/Berlin:20260616T183000
DTEND;TZID=Europe/Berlin:20260616T204500
UID:T21021-EEB-20260616T183000@EFBOLDENBURG
SUMMARY:KTP - Kollegialer Austausch in der Kindertagespflege II (T21021-EEB) 
LOCATION:Gemeindezentrum Ohmstede, Butjadinger Str. 59, Butjadinger Straße 59
END:VEVENT
END:VCALENDAR