BEGIN:VCALENDAR
VERSION:2.0
PRODID:https://www.kufer.de/kuferweb / DE
METHOD:PUBLISH
CALSCALE:GREGORIAN
X-WR-TIMEZONE:Europe/Berlin
BEGIN:VTIMEZONE
TZID:Europe/Berlin
X-LIC-LOCATION:Europe/Berlin
BEGIN:DAYLIGHT
TZOFFSETFROM:+0100
TZOFFSETTO:+0200
TZNAME:CEST
DTSTART:19700329T020000
RRULE:FREQ=YEARLY;INTERVAL=1;BYDAY=-1SU;BYMONTH=3
END:DAYLIGHT
BEGIN:STANDARD
TZOFFSETFROM:+0200
TZOFFSETTO:+0100
TZNAME:CET
DTSTART:19701025T030000
RRULE:FREQ=YEARLY;INTERVAL=1;BYDAY=-1SU;BYMONTH=10
END:STANDARD
END:VTIMEZONE
BEGIN:VEVENT
DTSTAMP:20260421T153738
DTSTART;TZID=Europe/Berlin:20250930T180000
DTEND;TZID=Europe/Berlin:20250930T201500
UID:T21022-EEB-20250930T180000@EFBOLDENBURG
SUMMARY:KTP - Kollegialer Austausch in der Kindertagespflege - 4 x rund ums Jahr (T21022-EEB) 
LOCATION:Gemeindezentrum Ohmstede, Butjadinger Str. 59, Butjadinger Straße 59
END:VEVENT
BEGIN:VEVENT
DTSTAMP:20260421T153738
DTSTART;TZID=Europe/Berlin:20251202T180000
DTEND;TZID=Europe/Berlin:20251202T201500
UID:T21022-EEB-20251202T180000@EFBOLDENBURG
SUMMARY:KTP - Kollegialer Austausch in der Kindertagespflege - 4 x rund ums Jahr (T21022-EEB) 
LOCATION:Gemeindezentrum Ohmstede, Butjadinger Str. 59, Butjadinger Straße 59
END:VEVENT
BEGIN:VEVENT
DTSTAMP:20260421T153738
DTSTART;TZID=Europe/Berlin:20260127T180000
DTEND;TZID=Europe/Berlin:20260127T201500
UID:T21022-EEB-20260127T180000@EFBOLDENBURG
SUMMARY:KTP - Kollegialer Austausch in der Kindertagespflege - 4 x rund ums Jahr (T21022-EEB) 
LOCATION:Gemeindezentrum Ohmstede, Butjadinger Str. 59, Butjadinger Straße 59
END:VEVENT
BEGIN:VEVENT
DTSTAMP:20260421T153738
DTSTART;TZID=Europe/Berlin:20260505T180000
DTEND;TZID=Europe/Berlin:20260505T201500
UID:T21022-EEB-20260505T180000@EFBOLDENBURG
SUMMARY:KTP - Kollegialer Austausch in der Kindertagespflege - 4 x rund ums Jahr (T21022-EEB) 
LOCATION:Gemeindezentrum Ohmstede, Butjadinger Str. 59, Butjadinger Straße 59
END:VEVENT
END:VCALENDAR