BEGIN:VCALENDAR
VERSION:2.0
PRODID:https://www.kufer.de/kuferweb / DE
METHOD:PUBLISH
CALSCALE:GREGORIAN
X-WR-TIMEZONE:Europe/Berlin
BEGIN:VTIMEZONE
TZID:Europe/Berlin
X-LIC-LOCATION:Europe/Berlin
BEGIN:DAYLIGHT
TZOFFSETFROM:+0100
TZOFFSETTO:+0200
TZNAME:CEST
DTSTART:19700329T020000
RRULE:FREQ=YEARLY;INTERVAL=1;BYDAY=-1SU;BYMONTH=3
END:DAYLIGHT
BEGIN:STANDARD
TZOFFSETFROM:+0200
TZOFFSETTO:+0100
TZNAME:CET
DTSTART:19701025T030000
RRULE:FREQ=YEARLY;INTERVAL=1;BYDAY=-1SU;BYMONTH=10
END:STANDARD
END:VTIMEZONE
BEGIN:VEVENT
DTSTAMP:20260421T215350
DTSTART;TZID=Europe/Berlin:20250820T090000
DTEND;TZID=Europe/Berlin:20250820T113000
UID:T23027-20250820T090000@EFBOLDENBURG
SUMMARY:Spiele-Frühstück -  Ein zwangloses Treffen für Seniorinnen und Senioren (T23027) 
LOCATION:Haus am Langenweg, Langenweg 165, Ev. luth. Kirchengemeinde Ofenerdiek Langenweg 165, 26125 Oldenburg
END:VEVENT
BEGIN:VEVENT
DTSTAMP:20260421T215350
DTSTART;TZID=Europe/Berlin:20250917T090000
DTEND;TZID=Europe/Berlin:20250917T113000
UID:T23027-20250917T090000@EFBOLDENBURG
SUMMARY:Spiele-Frühstück -  Ein zwangloses Treffen für Seniorinnen und Senioren (T23027) 
LOCATION:Haus am Langenweg, Langenweg 165, Ev. luth. Kirchengemeinde Ofenerdiek Langenweg 165, 26125 Oldenburg
END:VEVENT
BEGIN:VEVENT
DTSTAMP:20260421T215350
DTSTART;TZID=Europe/Berlin:20251015T090000
DTEND;TZID=Europe/Berlin:20251015T113000
UID:T23027-20251015T090000@EFBOLDENBURG
SUMMARY:Spiele-Frühstück -  Ein zwangloses Treffen für Seniorinnen und Senioren (T23027) 
LOCATION:Haus am Langenweg, Langenweg 165, Ev. luth. Kirchengemeinde Ofenerdiek Langenweg 165, 26125 Oldenburg
END:VEVENT
BEGIN:VEVENT
DTSTAMP:20260421T215350
DTSTART;TZID=Europe/Berlin:20251119T090000
DTEND;TZID=Europe/Berlin:20251119T113000
UID:T23027-20251119T090000@EFBOLDENBURG
SUMMARY:Spiele-Frühstück -  Ein zwangloses Treffen für Seniorinnen und Senioren (T23027) 
LOCATION:Haus am Langenweg, Langenweg 165, Ev. luth. Kirchengemeinde Ofenerdiek Langenweg 165, 26125 Oldenburg
END:VEVENT
BEGIN:VEVENT
DTSTAMP:20260421T215350
DTSTART;TZID=Europe/Berlin:20251217T090000
DTEND;TZID=Europe/Berlin:20251217T113000
UID:T23027-20251217T090000@EFBOLDENBURG
SUMMARY:Spiele-Frühstück -  Ein zwangloses Treffen für Seniorinnen und Senioren (T23027) 
LOCATION:Haus am Langenweg, Langenweg 165, Ev. luth. Kirchengemeinde Ofenerdiek Langenweg 165, 26125 Oldenburg
END:VEVENT
END:VCALENDAR