BEGIN:VCALENDAR
VERSION:2.0
PRODID:https://www.kufer.de/kuferweb / DE
METHOD:PUBLISH
CALSCALE:GREGORIAN
X-WR-TIMEZONE:Europe/Berlin
BEGIN:VTIMEZONE
TZID:Europe/Berlin
X-LIC-LOCATION:Europe/Berlin
BEGIN:DAYLIGHT
TZOFFSETFROM:+0100
TZOFFSETTO:+0200
TZNAME:CEST
DTSTART:19700329T020000
RRULE:FREQ=YEARLY;INTERVAL=1;BYDAY=-1SU;BYMONTH=3
END:DAYLIGHT
BEGIN:STANDARD
TZOFFSETFROM:+0200
TZOFFSETTO:+0100
TZNAME:CET
DTSTART:19701025T030000
RRULE:FREQ=YEARLY;INTERVAL=1;BYDAY=-1SU;BYMONTH=10
END:STANDARD
END:VTIMEZONE
BEGIN:VEVENT
DTSTAMP:20260421T192705
DTSTART;TZID=Europe/Berlin:20251220T160000
DTEND;TZID=Europe/Berlin:20251220T190000
UID:T25005-K-20251220T160000@EFBOLDENBURG
SUMMARY:Gemütlicher Jahresausklang für Männer mit abendlicher Suppe (T25005-K) 
LOCATION:Beratungsstelle Männersache, Donnerschweer Str. 10, 26123 Oldenburg
END:VEVENT
END:VCALENDAR