BEGIN:VCALENDAR
VERSION:2.0
PRODID:https://www.kufer.de/kuferweb / DE
METHOD:PUBLISH
CALSCALE:GREGORIAN
X-WR-TIMEZONE:Europe/Berlin
BEGIN:VTIMEZONE
TZID:Europe/Berlin
X-LIC-LOCATION:Europe/Berlin
BEGIN:DAYLIGHT
TZOFFSETFROM:+0100
TZOFFSETTO:+0200
TZNAME:CEST
DTSTART:19700329T020000
RRULE:FREQ=YEARLY;INTERVAL=1;BYDAY=-1SU;BYMONTH=3
END:DAYLIGHT
BEGIN:STANDARD
TZOFFSETFROM:+0200
TZOFFSETTO:+0100
TZNAME:CET
DTSTART:19701025T030000
RRULE:FREQ=YEARLY;INTERVAL=1;BYDAY=-1SU;BYMONTH=10
END:STANDARD
END:VTIMEZONE
BEGIN:VEVENT
DTSTAMP:20260421T220321
DTSTART;TZID=Europe/Berlin:20250807T100000
DTEND;TZID=Europe/Berlin:20250807T120000
UID:T25021-EEB-20250807T100000@EFBOLDENBURG
SUMMARY:Starke Frauen (T25021-EEB) 
LOCATION:Ev. Familien-Bildungsstätte, Gesprächsraum, Gorch-Fock-Str. 5 a, 26135 Oldenburg
END:VEVENT
BEGIN:VEVENT
DTSTAMP:20260421T220321
DTSTART;TZID=Europe/Berlin:20250814T100000
DTEND;TZID=Europe/Berlin:20250814T120000
UID:T25021-EEB-20250814T100000@EFBOLDENBURG
SUMMARY:Starke Frauen (T25021-EEB) 
LOCATION:Ev. Familien-Bildungsstätte, Werkraum,  Gorch-Fock-Str. 5 a, 26135 Oldenburg
END:VEVENT
BEGIN:VEVENT
DTSTAMP:20260421T220321
DTSTART;TZID=Europe/Berlin:20250821T100000
DTEND;TZID=Europe/Berlin:20250821T120000
UID:T25021-EEB-20250821T100000@EFBOLDENBURG
SUMMARY:Starke Frauen (T25021-EEB) 
LOCATION:Ev. Familien-Bildungsstätte, Gesprächsraum, Gorch-Fock-Str. 5 a, 26135 Oldenburg
END:VEVENT
BEGIN:VEVENT
DTSTAMP:20260421T220321
DTSTART;TZID=Europe/Berlin:20250828T100000
DTEND;TZID=Europe/Berlin:20250828T120000
UID:T25021-EEB-20250828T100000@EFBOLDENBURG
SUMMARY:Starke Frauen (T25021-EEB) 
LOCATION:Ev. Familien-Bildungsstätte, Gesprächsraum, Gorch-Fock-Str. 5 a, 26135 Oldenburg
END:VEVENT
BEGIN:VEVENT
DTSTAMP:20260421T220321
DTSTART;TZID=Europe/Berlin:20250904T100000
DTEND;TZID=Europe/Berlin:20250904T120000
UID:T25021-EEB-20250904T100000@EFBOLDENBURG
SUMMARY:Starke Frauen (T25021-EEB) 
LOCATION:Ev. Familien-Bildungsstätte, Gesprächsraum, Gorch-Fock-Str. 5 a, 26135 Oldenburg
END:VEVENT
BEGIN:VEVENT
DTSTAMP:20260421T220321
DTSTART;TZID=Europe/Berlin:20251002T100000
DTEND;TZID=Europe/Berlin:20251002T120000
UID:T25021-EEB-20251002T100000@EFBOLDENBURG
SUMMARY:Starke Frauen (T25021-EEB) 
LOCATION:Ev. Familien-Bildungsstätte, Gesprächsraum, Gorch-Fock-Str. 5 a, 26135 Oldenburg
END:VEVENT
BEGIN:VEVENT
DTSTAMP:20260421T220321
DTSTART;TZID=Europe/Berlin:20251113T100000
DTEND;TZID=Europe/Berlin:20251113T120000
UID:T25021-EEB-20251113T100000@EFBOLDENBURG
SUMMARY:Starke Frauen (T25021-EEB) 
LOCATION:Ev. Familien-Bildungsstätte, Gesprächsraum, Gorch-Fock-Str. 5 a, 26135 Oldenburg
END:VEVENT
BEGIN:VEVENT
DTSTAMP:20260421T220321
DTSTART;TZID=Europe/Berlin:20251204T100000
DTEND;TZID=Europe/Berlin:20251204T120000
UID:T25021-EEB-20251204T100000@EFBOLDENBURG
SUMMARY:Starke Frauen (T25021-EEB) 
LOCATION:Ev. Familien-Bildungsstätte, Gesprächsraum, Gorch-Fock-Str. 5 a, 26135 Oldenburg
END:VEVENT
END:VCALENDAR