BEGIN:VCALENDAR
VERSION:2.0
PRODID:https://www.kufer.de/kuferweb / DE
METHOD:PUBLISH
CALSCALE:GREGORIAN
X-WR-TIMEZONE:Europe/Berlin
BEGIN:VTIMEZONE
TZID:Europe/Berlin
X-LIC-LOCATION:Europe/Berlin
BEGIN:DAYLIGHT
TZOFFSETFROM:+0100
TZOFFSETTO:+0200
TZNAME:CEST
DTSTART:19700329T020000
RRULE:FREQ=YEARLY;INTERVAL=1;BYDAY=-1SU;BYMONTH=3
END:DAYLIGHT
BEGIN:STANDARD
TZOFFSETFROM:+0200
TZOFFSETTO:+0100
TZNAME:CET
DTSTART:19701025T030000
RRULE:FREQ=YEARLY;INTERVAL=1;BYDAY=-1SU;BYMONTH=10
END:STANDARD
END:VTIMEZONE
BEGIN:VEVENT
DTSTAMP:20260421T163547
DTSTART;TZID=Europe/Berlin:20251014T173000
DTEND;TZID=Europe/Berlin:20251014T194500
UID:T27004-20251014T173000@EFBOLDENBURG
SUMMARY:Windows 11 - Einführung (T27004) 
LOCATION:Ev. Familien-Bildungsstätte, Gesprächsraum, Gorch-Fock-Str. 5 a, 26135 Oldenburg
END:VEVENT
BEGIN:VEVENT
DTSTAMP:20260421T163547
DTSTART;TZID=Europe/Berlin:20251021T173000
DTEND;TZID=Europe/Berlin:20251021T194500
UID:T27004-20251021T173000@EFBOLDENBURG
SUMMARY:Windows 11 - Einführung (T27004) 
LOCATION:Ev. Familien-Bildungsstätte, Gesprächsraum, Gorch-Fock-Str. 5 a, 26135 Oldenburg
END:VEVENT
BEGIN:VEVENT
DTSTAMP:20260421T163547
DTSTART;TZID=Europe/Berlin:20251028T173000
DTEND;TZID=Europe/Berlin:20251028T194500
UID:T27004-20251028T173000@EFBOLDENBURG
SUMMARY:Windows 11 - Einführung (T27004) 
LOCATION:Ev. Familien-Bildungsstätte, Gesprächsraum, Gorch-Fock-Str. 5 a, 26135 Oldenburg
END:VEVENT
BEGIN:VEVENT
DTSTAMP:20260421T163547
DTSTART;TZID=Europe/Berlin:20251104T173000
DTEND;TZID=Europe/Berlin:20251104T194500
UID:T27004-20251104T173000@EFBOLDENBURG
SUMMARY:Windows 11 - Einführung (T27004) 
LOCATION:Ev. Familien-Bildungsstätte, Gesprächsraum, Gorch-Fock-Str. 5 a, 26135 Oldenburg
END:VEVENT
BEGIN:VEVENT
DTSTAMP:20260421T163547
DTSTART;TZID=Europe/Berlin:20251112T173000
DTEND;TZID=Europe/Berlin:20251112T194500
UID:T27004-20251112T173000@EFBOLDENBURG
DESCRIPTION:weiterer Termin auf Wunsch der TN
SUMMARY:Windows 11 - Einführung (T27004) 
LOCATION:Ev. Familien-Bildungsstätte, Gesprächsraum, Gorch-Fock-Str. 5 a, 26135 Oldenburg
END:VEVENT
END:VCALENDAR