BEGIN:VCALENDAR
VERSION:2.0
PRODID:https://www.kufer.de/kuferweb / DE
METHOD:PUBLISH
CALSCALE:GREGORIAN
X-WR-TIMEZONE:Europe/Berlin
BEGIN:VTIMEZONE
TZID:Europe/Berlin
X-LIC-LOCATION:Europe/Berlin
BEGIN:DAYLIGHT
TZOFFSETFROM:+0100
TZOFFSETTO:+0200
TZNAME:CEST
DTSTART:19700329T020000
RRULE:FREQ=YEARLY;INTERVAL=1;BYDAY=-1SU;BYMONTH=3
END:DAYLIGHT
BEGIN:STANDARD
TZOFFSETFROM:+0200
TZOFFSETTO:+0100
TZNAME:CET
DTSTART:19701025T030000
RRULE:FREQ=YEARLY;INTERVAL=1;BYDAY=-1SU;BYMONTH=10
END:STANDARD
END:VTIMEZONE
BEGIN:VEVENT
DTSTAMP:20260421T215342
DTSTART;TZID=Europe/Berlin:20250820T094500
DTEND;TZID=Europe/Berlin:20250820T111500
UID:T32040-20250820T094500@EFBOLDENBURG
SUMMARY:Tanz mit - bleib fit Internationale Tänze 60 Plus (T32040) 
LOCATION:St. Michael, Klingenbergstr. 20, Klingenbergstr. 20, 26133 Oldenburg
END:VEVENT
BEGIN:VEVENT
DTSTAMP:20260421T215342
DTSTART;TZID=Europe/Berlin:20250827T094500
DTEND;TZID=Europe/Berlin:20250827T111500
UID:T32040-20250827T094500@EFBOLDENBURG
SUMMARY:Tanz mit - bleib fit Internationale Tänze 60 Plus (T32040) 
LOCATION:St. Michael, Klingenbergstr. 20, Klingenbergstr. 20, 26133 Oldenburg
END:VEVENT
BEGIN:VEVENT
DTSTAMP:20260421T215342
DTSTART;TZID=Europe/Berlin:20250903T094500
DTEND;TZID=Europe/Berlin:20250903T111500
UID:T32040-20250903T094500@EFBOLDENBURG
SUMMARY:Tanz mit - bleib fit Internationale Tänze 60 Plus (T32040) 
LOCATION:St. Michael, Klingenbergstr. 20, Klingenbergstr. 20, 26133 Oldenburg
END:VEVENT
BEGIN:VEVENT
DTSTAMP:20260421T215342
DTSTART;TZID=Europe/Berlin:20250924T094500
DTEND;TZID=Europe/Berlin:20250924T111500
UID:T32040-20250924T094500@EFBOLDENBURG
SUMMARY:Tanz mit - bleib fit Internationale Tänze 60 Plus (T32040) 
LOCATION:St. Michael, Klingenbergstr. 20, Klingenbergstr. 20, 26133 Oldenburg
END:VEVENT
BEGIN:VEVENT
DTSTAMP:20260421T215342
DTSTART;TZID=Europe/Berlin:20251001T094500
DTEND;TZID=Europe/Berlin:20251001T111500
UID:T32040-20251001T094500@EFBOLDENBURG
SUMMARY:Tanz mit - bleib fit Internationale Tänze 60 Plus (T32040) 
LOCATION:St. Michael, Klingenbergstr. 20, Klingenbergstr. 20, 26133 Oldenburg
END:VEVENT
BEGIN:VEVENT
DTSTAMP:20260421T215342
DTSTART;TZID=Europe/Berlin:20251008T094500
DTEND;TZID=Europe/Berlin:20251008T111500
UID:T32040-20251008T094500@EFBOLDENBURG
SUMMARY:Tanz mit - bleib fit Internationale Tänze 60 Plus (T32040) 
LOCATION:St. Michael, Klingenbergstr. 20, Klingenbergstr. 20, 26133 Oldenburg
END:VEVENT
BEGIN:VEVENT
DTSTAMP:20260421T215342
DTSTART;TZID=Europe/Berlin:20251015T094500
DTEND;TZID=Europe/Berlin:20251015T111500
UID:T32040-20251015T094500@EFBOLDENBURG
DESCRIPTION:Ersatz für Ausfall am 10.09.2025
SUMMARY:Tanz mit - bleib fit Internationale Tänze 60 Plus (T32040) 
LOCATION:St. Michael, Klingenbergstr. 20, Klingenbergstr. 20, 26133 Oldenburg
END:VEVENT
BEGIN:VEVENT
DTSTAMP:20260421T215342
DTSTART;TZID=Europe/Berlin:20251022T094500
DTEND;TZID=Europe/Berlin:20251022T111500
UID:T32040-20251022T094500@EFBOLDENBURG
DESCRIPTION:Ersatz für Ausfall am 17.09.2025
SUMMARY:Tanz mit - bleib fit Internationale Tänze 60 Plus (T32040) 
LOCATION:St. Michael, Klingenbergstr. 20, Klingenbergstr. 20, 26133 Oldenburg
END:VEVENT
BEGIN:VEVENT
DTSTAMP:20260421T215342
DTSTART;TZID=Europe/Berlin:20251029T094500
DTEND;TZID=Europe/Berlin:20251029T111500
UID:T32040-20251029T094500@EFBOLDENBURG
SUMMARY:Tanz mit - bleib fit Internationale Tänze 60 Plus (T32040) 
LOCATION:St. Michael, Klingenbergstr. 20, Klingenbergstr. 20, 26133 Oldenburg
END:VEVENT
BEGIN:VEVENT
DTSTAMP:20260421T215342
DTSTART;TZID=Europe/Berlin:20251105T094500
DTEND;TZID=Europe/Berlin:20251105T111500
UID:T32040-20251105T094500@EFBOLDENBURG
SUMMARY:Tanz mit - bleib fit Internationale Tänze 60 Plus (T32040) 
LOCATION:St. Michael, Klingenbergstr. 20, Klingenbergstr. 20, 26133 Oldenburg
END:VEVENT
END:VCALENDAR