BEGIN:VCALENDAR
VERSION:2.0
PRODID:https://www.kufer.de/kuferweb / DE
METHOD:PUBLISH
CALSCALE:GREGORIAN
X-WR-TIMEZONE:Europe/Berlin
BEGIN:VTIMEZONE
TZID:Europe/Berlin
X-LIC-LOCATION:Europe/Berlin
BEGIN:DAYLIGHT
TZOFFSETFROM:+0100
TZOFFSETTO:+0200
TZNAME:CEST
DTSTART:19700329T020000
RRULE:FREQ=YEARLY;INTERVAL=1;BYDAY=-1SU;BYMONTH=3
END:DAYLIGHT
BEGIN:STANDARD
TZOFFSETFROM:+0200
TZOFFSETTO:+0100
TZNAME:CET
DTSTART:19701025T030000
RRULE:FREQ=YEARLY;INTERVAL=1;BYDAY=-1SU;BYMONTH=10
END:STANDARD
END:VTIMEZONE
BEGIN:VEVENT
DTSTAMP:20260422T043211
DTSTART;TZID=Europe/Berlin:20251112T094500
DTEND;TZID=Europe/Berlin:20251112T111500
UID:T32041-20251112T094500@EFBOLDENBURG
SUMMARY:Tanz mit - bleib fit Internationale Tänze 60 Plus (T32041) 
LOCATION:St. Michael, Klingenbergstr. 20, Klingenbergstr. 20, 26133 Oldenburg
END:VEVENT
BEGIN:VEVENT
DTSTAMP:20260422T043211
DTSTART;TZID=Europe/Berlin:20251119T094500
DTEND;TZID=Europe/Berlin:20251119T111500
UID:T32041-20251119T094500@EFBOLDENBURG
SUMMARY:Tanz mit - bleib fit Internationale Tänze 60 Plus (T32041) 
LOCATION:St. Michael, Klingenbergstr. 20, Klingenbergstr. 20, 26133 Oldenburg
END:VEVENT
BEGIN:VEVENT
DTSTAMP:20260422T043211
DTSTART;TZID=Europe/Berlin:20251126T094500
DTEND;TZID=Europe/Berlin:20251126T111500
UID:T32041-20251126T094500@EFBOLDENBURG
SUMMARY:Tanz mit - bleib fit Internationale Tänze 60 Plus (T32041) 
LOCATION:St. Michael, Klingenbergstr. 20, Klingenbergstr. 20, 26133 Oldenburg
END:VEVENT
BEGIN:VEVENT
DTSTAMP:20260422T043211
DTSTART;TZID=Europe/Berlin:20251203T094500
DTEND;TZID=Europe/Berlin:20251203T111500
UID:T32041-20251203T094500@EFBOLDENBURG
SUMMARY:Tanz mit - bleib fit Internationale Tänze 60 Plus (T32041) 
LOCATION:St. Michael, Klingenbergstr. 20, Klingenbergstr. 20, 26133 Oldenburg
END:VEVENT
BEGIN:VEVENT
DTSTAMP:20260422T043211
DTSTART;TZID=Europe/Berlin:20251210T094500
DTEND;TZID=Europe/Berlin:20251210T111500
UID:T32041-20251210T094500@EFBOLDENBURG
SUMMARY:Tanz mit - bleib fit Internationale Tänze 60 Plus (T32041) 
LOCATION:St. Michael, Klingenbergstr. 20, Klingenbergstr. 20, 26133 Oldenburg
END:VEVENT
BEGIN:VEVENT
DTSTAMP:20260422T043211
DTSTART;TZID=Europe/Berlin:20251217T094500
DTEND;TZID=Europe/Berlin:20251217T111500
UID:T32041-20251217T094500@EFBOLDENBURG
SUMMARY:Tanz mit - bleib fit Internationale Tänze 60 Plus (T32041) 
LOCATION:St. Michael, Klingenbergstr. 20, Klingenbergstr. 20, 26133 Oldenburg
END:VEVENT
BEGIN:VEVENT
DTSTAMP:20260422T043211
DTSTART;TZID=Europe/Berlin:20260107T094500
DTEND;TZID=Europe/Berlin:20260107T111500
UID:T32041-20260107T094500@EFBOLDENBURG
SUMMARY:Tanz mit - bleib fit Internationale Tänze 60 Plus (T32041) 
LOCATION:St. Michael, Klingenbergstr. 20, Klingenbergstr. 20, 26133 Oldenburg
END:VEVENT
BEGIN:VEVENT
DTSTAMP:20260422T043211
DTSTART;TZID=Europe/Berlin:20260114T094500
DTEND;TZID=Europe/Berlin:20260114T111500
UID:T32041-20260114T094500@EFBOLDENBURG
SUMMARY:Tanz mit - bleib fit Internationale Tänze 60 Plus (T32041) 
LOCATION:St. Michael, Klingenbergstr. 20, Klingenbergstr. 20, 26133 Oldenburg
END:VEVENT
BEGIN:VEVENT
DTSTAMP:20260422T043211
DTSTART;TZID=Europe/Berlin:20260121T094500
DTEND;TZID=Europe/Berlin:20260121T111500
UID:T32041-20260121T094500@EFBOLDENBURG
SUMMARY:Tanz mit - bleib fit Internationale Tänze 60 Plus (T32041) 
LOCATION:St. Michael, Klingenbergstr. 20, Klingenbergstr. 20, 26133 Oldenburg
END:VEVENT
BEGIN:VEVENT
DTSTAMP:20260422T043211
DTSTART;TZID=Europe/Berlin:20260128T094500
DTEND;TZID=Europe/Berlin:20260128T111500
UID:T32041-20260128T094500@EFBOLDENBURG
SUMMARY:Tanz mit - bleib fit Internationale Tänze 60 Plus (T32041) 
LOCATION:St. Michael, Klingenbergstr. 20, Klingenbergstr. 20, 26133 Oldenburg
END:VEVENT
END:VCALENDAR