BEGIN:VCALENDAR
VERSION:2.0
PRODID:https://www.kufer.de/kuferweb / DE
METHOD:PUBLISH
CALSCALE:GREGORIAN
X-WR-TIMEZONE:Europe/Berlin
BEGIN:VTIMEZONE
TZID:Europe/Berlin
X-LIC-LOCATION:Europe/Berlin
BEGIN:DAYLIGHT
TZOFFSETFROM:+0100
TZOFFSETTO:+0200
TZNAME:CEST
DTSTART:19700329T020000
RRULE:FREQ=YEARLY;INTERVAL=1;BYDAY=-1SU;BYMONTH=3
END:DAYLIGHT
BEGIN:STANDARD
TZOFFSETFROM:+0200
TZOFFSETTO:+0100
TZNAME:CET
DTSTART:19701025T030000
RRULE:FREQ=YEARLY;INTERVAL=1;BYDAY=-1SU;BYMONTH=10
END:STANDARD
END:VTIMEZONE
BEGIN:VEVENT
DTSTAMP:20260421T214327
DTSTART;TZID=Europe/Berlin:20250814T174500
DTEND;TZID=Europe/Berlin:20250814T184500
UID:T32045-20250814T174500@EFBOLDENBURG
SUMMARY:Pilates Mittelstufe -  für Teilnehmer*innen mit Vorkenntnissen (T32045) 
LOCATION:Ev. Familien-Bildungsstätte, Saal, Gorch-Fock-Str. 5 a, 26135 Oldenburg
END:VEVENT
BEGIN:VEVENT
DTSTAMP:20260421T214327
DTSTART;TZID=Europe/Berlin:20250821T174500
DTEND;TZID=Europe/Berlin:20250821T184500
UID:T32045-20250821T174500@EFBOLDENBURG
SUMMARY:Pilates Mittelstufe -  für Teilnehmer*innen mit Vorkenntnissen (T32045) 
LOCATION:Ev. Familien-Bildungsstätte, Saal, Gorch-Fock-Str. 5 a, 26135 Oldenburg
END:VEVENT
BEGIN:VEVENT
DTSTAMP:20260421T214327
DTSTART;TZID=Europe/Berlin:20250828T174500
DTEND;TZID=Europe/Berlin:20250828T184500
UID:T32045-20250828T174500@EFBOLDENBURG
SUMMARY:Pilates Mittelstufe -  für Teilnehmer*innen mit Vorkenntnissen (T32045) 
LOCATION:Ev. Familien-Bildungsstätte, Saal, Gorch-Fock-Str. 5 a, 26135 Oldenburg
END:VEVENT
BEGIN:VEVENT
DTSTAMP:20260421T214327
DTSTART;TZID=Europe/Berlin:20250904T174500
DTEND;TZID=Europe/Berlin:20250904T184500
UID:T32045-20250904T174500@EFBOLDENBURG
SUMMARY:Pilates Mittelstufe -  für Teilnehmer*innen mit Vorkenntnissen (T32045) 
LOCATION:Ev. Familien-Bildungsstätte, Saal, Gorch-Fock-Str. 5 a, 26135 Oldenburg
END:VEVENT
BEGIN:VEVENT
DTSTAMP:20260421T214327
DTSTART;TZID=Europe/Berlin:20250911T174500
DTEND;TZID=Europe/Berlin:20250911T184500
UID:T32045-20250911T174500@EFBOLDENBURG
SUMMARY:Pilates Mittelstufe -  für Teilnehmer*innen mit Vorkenntnissen (T32045) 
LOCATION:Ev. Familien-Bildungsstätte, Saal, Gorch-Fock-Str. 5 a, 26135 Oldenburg
END:VEVENT
BEGIN:VEVENT
DTSTAMP:20260421T214327
DTSTART;TZID=Europe/Berlin:20250918T174500
DTEND;TZID=Europe/Berlin:20250918T184500
UID:T32045-20250918T174500@EFBOLDENBURG
SUMMARY:Pilates Mittelstufe -  für Teilnehmer*innen mit Vorkenntnissen (T32045) 
LOCATION:Ev. Familien-Bildungsstätte, Saal, Gorch-Fock-Str. 5 a, 26135 Oldenburg
END:VEVENT
BEGIN:VEVENT
DTSTAMP:20260421T214327
DTSTART;TZID=Europe/Berlin:20250925T174500
DTEND;TZID=Europe/Berlin:20250925T184500
UID:T32045-20250925T174500@EFBOLDENBURG
SUMMARY:Pilates Mittelstufe -  für Teilnehmer*innen mit Vorkenntnissen (T32045) 
LOCATION:Ev. Familien-Bildungsstätte, Saal, Gorch-Fock-Str. 5 a, 26135 Oldenburg
END:VEVENT
BEGIN:VEVENT
DTSTAMP:20260421T214327
DTSTART;TZID=Europe/Berlin:20251002T174500
DTEND;TZID=Europe/Berlin:20251002T184500
UID:T32045-20251002T174500@EFBOLDENBURG
SUMMARY:Pilates Mittelstufe -  für Teilnehmer*innen mit Vorkenntnissen (T32045) 
LOCATION:Ev. Familien-Bildungsstätte, Saal, Gorch-Fock-Str. 5 a, 26135 Oldenburg
END:VEVENT
BEGIN:VEVENT
DTSTAMP:20260421T214327
DTSTART;TZID=Europe/Berlin:20251009T174500
DTEND;TZID=Europe/Berlin:20251009T184500
UID:T32045-20251009T174500@EFBOLDENBURG
SUMMARY:Pilates Mittelstufe -  für Teilnehmer*innen mit Vorkenntnissen (T32045) 
LOCATION:Ev. Familien-Bildungsstätte, Saal, Gorch-Fock-Str. 5 a, 26135 Oldenburg
END:VEVENT
BEGIN:VEVENT
DTSTAMP:20260421T214327
DTSTART;TZID=Europe/Berlin:20251030T174500
DTEND;TZID=Europe/Berlin:20251030T184500
UID:T32045-20251030T174500@EFBOLDENBURG
SUMMARY:Pilates Mittelstufe -  für Teilnehmer*innen mit Vorkenntnissen (T32045) 
LOCATION:Ev. Familien-Bildungsstätte, Saal, Gorch-Fock-Str. 5 a, 26135 Oldenburg
END:VEVENT
BEGIN:VEVENT
DTSTAMP:20260421T214327
DTSTART;TZID=Europe/Berlin:20251113T174500
DTEND;TZID=Europe/Berlin:20251113T184500
UID:T32045-20251113T174500@EFBOLDENBURG
SUMMARY:Pilates Mittelstufe -  für Teilnehmer*innen mit Vorkenntnissen (T32045) 
LOCATION:Ev. Familien-Bildungsstätte, Saal, Gorch-Fock-Str. 5 a, 26135 Oldenburg
END:VEVENT
BEGIN:VEVENT
DTSTAMP:20260421T214327
DTSTART;TZID=Europe/Berlin:20251120T174500
DTEND;TZID=Europe/Berlin:20251120T184500
UID:T32045-20251120T174500@EFBOLDENBURG
SUMMARY:Pilates Mittelstufe -  für Teilnehmer*innen mit Vorkenntnissen (T32045) 
LOCATION:Ev. Familien-Bildungsstätte, Saal, Gorch-Fock-Str. 5 a, 26135 Oldenburg
END:VEVENT
BEGIN:VEVENT
DTSTAMP:20260421T214327
DTSTART;TZID=Europe/Berlin:20251127T174500
DTEND;TZID=Europe/Berlin:20251127T184500
UID:T32045-20251127T174500@EFBOLDENBURG
SUMMARY:Pilates Mittelstufe -  für Teilnehmer*innen mit Vorkenntnissen (T32045) 
LOCATION:Ev. Familien-Bildungsstätte, Saal, Gorch-Fock-Str. 5 a, 26135 Oldenburg
END:VEVENT
BEGIN:VEVENT
DTSTAMP:20260421T214327
DTSTART;TZID=Europe/Berlin:20251204T174500
DTEND;TZID=Europe/Berlin:20251204T184500
UID:T32045-20251204T174500@EFBOLDENBURG
SUMMARY:Pilates Mittelstufe -  für Teilnehmer*innen mit Vorkenntnissen (T32045) 
LOCATION:Ev. Familien-Bildungsstätte, Saal, Gorch-Fock-Str. 5 a, 26135 Oldenburg
END:VEVENT
BEGIN:VEVENT
DTSTAMP:20260421T214327
DTSTART;TZID=Europe/Berlin:20251211T174500
DTEND;TZID=Europe/Berlin:20251211T184500
UID:T32045-20251211T174500@EFBOLDENBURG
SUMMARY:Pilates Mittelstufe -  für Teilnehmer*innen mit Vorkenntnissen (T32045) 
LOCATION:Ev. Familien-Bildungsstätte, Saal, Gorch-Fock-Str. 5 a, 26135 Oldenburg
END:VEVENT
BEGIN:VEVENT
DTSTAMP:20260421T214327
DTSTART;TZID=Europe/Berlin:20251218T174500
DTEND;TZID=Europe/Berlin:20251218T184500
UID:T32045-20251218T174500@EFBOLDENBURG
DESCRIPTION:Ersatz für Ausfall am 06.11.2025
SUMMARY:Pilates Mittelstufe -  für Teilnehmer*innen mit Vorkenntnissen (T32045) 
LOCATION:Ev. Familien-Bildungsstätte, Saal, Gorch-Fock-Str. 5 a, 26135 Oldenburg
END:VEVENT
END:VCALENDAR