BEGIN:VCALENDAR
VERSION:2.0
PRODID:https://www.kufer.de/kuferweb / DE
METHOD:PUBLISH
CALSCALE:GREGORIAN
X-WR-TIMEZONE:Europe/Berlin
BEGIN:VTIMEZONE
TZID:Europe/Berlin
X-LIC-LOCATION:Europe/Berlin
BEGIN:DAYLIGHT
TZOFFSETFROM:+0100
TZOFFSETTO:+0200
TZNAME:CEST
DTSTART:19700329T020000
RRULE:FREQ=YEARLY;INTERVAL=1;BYDAY=-1SU;BYMONTH=3
END:DAYLIGHT
BEGIN:STANDARD
TZOFFSETFROM:+0200
TZOFFSETTO:+0100
TZNAME:CET
DTSTART:19701025T030000
RRULE:FREQ=YEARLY;INTERVAL=1;BYDAY=-1SU;BYMONTH=10
END:STANDARD
END:VTIMEZONE
BEGIN:VEVENT
DTSTAMP:20260421T165833
DTSTART;TZID=Europe/Berlin:20250814T184500
DTEND;TZID=Europe/Berlin:20250814T194500
UID:T32046-20250814T184500@EFBOLDENBURG
SUMMARY:Pilates für Fortgeschrittene für Teilnehmer*innen mit mehrjähriger Praxis (T32046) 
LOCATION:Ev. Familien-Bildungsstätte, Saal, Gorch-Fock-Str. 5 a, 26135 Oldenburg
END:VEVENT
BEGIN:VEVENT
DTSTAMP:20260421T165833
DTSTART;TZID=Europe/Berlin:20250821T184500
DTEND;TZID=Europe/Berlin:20250821T194500
UID:T32046-20250821T184500@EFBOLDENBURG
SUMMARY:Pilates für Fortgeschrittene für Teilnehmer*innen mit mehrjähriger Praxis (T32046) 
LOCATION:Ev. Familien-Bildungsstätte, Saal, Gorch-Fock-Str. 5 a, 26135 Oldenburg
END:VEVENT
BEGIN:VEVENT
DTSTAMP:20260421T165833
DTSTART;TZID=Europe/Berlin:20250828T184500
DTEND;TZID=Europe/Berlin:20250828T194500
UID:T32046-20250828T184500@EFBOLDENBURG
SUMMARY:Pilates für Fortgeschrittene für Teilnehmer*innen mit mehrjähriger Praxis (T32046) 
LOCATION:Ev. Familien-Bildungsstätte, Saal, Gorch-Fock-Str. 5 a, 26135 Oldenburg
END:VEVENT
BEGIN:VEVENT
DTSTAMP:20260421T165833
DTSTART;TZID=Europe/Berlin:20250904T184500
DTEND;TZID=Europe/Berlin:20250904T194500
UID:T32046-20250904T184500@EFBOLDENBURG
SUMMARY:Pilates für Fortgeschrittene für Teilnehmer*innen mit mehrjähriger Praxis (T32046) 
LOCATION:Ev. Familien-Bildungsstätte, Saal, Gorch-Fock-Str. 5 a, 26135 Oldenburg
END:VEVENT
BEGIN:VEVENT
DTSTAMP:20260421T165833
DTSTART;TZID=Europe/Berlin:20250911T184500
DTEND;TZID=Europe/Berlin:20250911T194500
UID:T32046-20250911T184500@EFBOLDENBURG
SUMMARY:Pilates für Fortgeschrittene für Teilnehmer*innen mit mehrjähriger Praxis (T32046) 
LOCATION:Ev. Familien-Bildungsstätte, Saal, Gorch-Fock-Str. 5 a, 26135 Oldenburg
END:VEVENT
BEGIN:VEVENT
DTSTAMP:20260421T165833
DTSTART;TZID=Europe/Berlin:20250918T184500
DTEND;TZID=Europe/Berlin:20250918T194500
UID:T32046-20250918T184500@EFBOLDENBURG
SUMMARY:Pilates für Fortgeschrittene für Teilnehmer*innen mit mehrjähriger Praxis (T32046) 
LOCATION:Ev. Familien-Bildungsstätte, Saal, Gorch-Fock-Str. 5 a, 26135 Oldenburg
END:VEVENT
BEGIN:VEVENT
DTSTAMP:20260421T165833
DTSTART;TZID=Europe/Berlin:20250925T184500
DTEND;TZID=Europe/Berlin:20250925T194500
UID:T32046-20250925T184500@EFBOLDENBURG
SUMMARY:Pilates für Fortgeschrittene für Teilnehmer*innen mit mehrjähriger Praxis (T32046) 
LOCATION:Ev. Familien-Bildungsstätte, Saal, Gorch-Fock-Str. 5 a, 26135 Oldenburg
END:VEVENT
BEGIN:VEVENT
DTSTAMP:20260421T165833
DTSTART;TZID=Europe/Berlin:20251002T184500
DTEND;TZID=Europe/Berlin:20251002T194500
UID:T32046-20251002T184500@EFBOLDENBURG
SUMMARY:Pilates für Fortgeschrittene für Teilnehmer*innen mit mehrjähriger Praxis (T32046) 
LOCATION:Ev. Familien-Bildungsstätte, Saal, Gorch-Fock-Str. 5 a, 26135 Oldenburg
END:VEVENT
BEGIN:VEVENT
DTSTAMP:20260421T165833
DTSTART;TZID=Europe/Berlin:20251009T184500
DTEND;TZID=Europe/Berlin:20251009T194500
UID:T32046-20251009T184500@EFBOLDENBURG
SUMMARY:Pilates für Fortgeschrittene für Teilnehmer*innen mit mehrjähriger Praxis (T32046) 
LOCATION:Ev. Familien-Bildungsstätte, Saal, Gorch-Fock-Str. 5 a, 26135 Oldenburg
END:VEVENT
BEGIN:VEVENT
DTSTAMP:20260421T165833
DTSTART;TZID=Europe/Berlin:20251030T184500
DTEND;TZID=Europe/Berlin:20251030T194500
UID:T32046-20251030T184500@EFBOLDENBURG
SUMMARY:Pilates für Fortgeschrittene für Teilnehmer*innen mit mehrjähriger Praxis (T32046) 
LOCATION:Ev. Familien-Bildungsstätte, Saal, Gorch-Fock-Str. 5 a, 26135 Oldenburg
END:VEVENT
BEGIN:VEVENT
DTSTAMP:20260421T165833
DTSTART;TZID=Europe/Berlin:20251113T184500
DTEND;TZID=Europe/Berlin:20251113T194500
UID:T32046-20251113T184500@EFBOLDENBURG
SUMMARY:Pilates für Fortgeschrittene für Teilnehmer*innen mit mehrjähriger Praxis (T32046) 
LOCATION:Ev. Familien-Bildungsstätte, Saal, Gorch-Fock-Str. 5 a, 26135 Oldenburg
END:VEVENT
BEGIN:VEVENT
DTSTAMP:20260421T165833
DTSTART;TZID=Europe/Berlin:20251120T184500
DTEND;TZID=Europe/Berlin:20251120T194500
UID:T32046-20251120T184500@EFBOLDENBURG
SUMMARY:Pilates für Fortgeschrittene für Teilnehmer*innen mit mehrjähriger Praxis (T32046) 
LOCATION:Ev. Familien-Bildungsstätte, Saal, Gorch-Fock-Str. 5 a, 26135 Oldenburg
END:VEVENT
BEGIN:VEVENT
DTSTAMP:20260421T165833
DTSTART;TZID=Europe/Berlin:20251127T184500
DTEND;TZID=Europe/Berlin:20251127T194500
UID:T32046-20251127T184500@EFBOLDENBURG
SUMMARY:Pilates für Fortgeschrittene für Teilnehmer*innen mit mehrjähriger Praxis (T32046) 
LOCATION:Ev. Familien-Bildungsstätte, Saal, Gorch-Fock-Str. 5 a, 26135 Oldenburg
END:VEVENT
BEGIN:VEVENT
DTSTAMP:20260421T165833
DTSTART;TZID=Europe/Berlin:20251204T184500
DTEND;TZID=Europe/Berlin:20251204T194500
UID:T32046-20251204T184500@EFBOLDENBURG
SUMMARY:Pilates für Fortgeschrittene für Teilnehmer*innen mit mehrjähriger Praxis (T32046) 
LOCATION:Ev. Familien-Bildungsstätte, Saal, Gorch-Fock-Str. 5 a, 26135 Oldenburg
END:VEVENT
BEGIN:VEVENT
DTSTAMP:20260421T165833
DTSTART;TZID=Europe/Berlin:20251211T184500
DTEND;TZID=Europe/Berlin:20251211T194500
UID:T32046-20251211T184500@EFBOLDENBURG
SUMMARY:Pilates für Fortgeschrittene für Teilnehmer*innen mit mehrjähriger Praxis (T32046) 
LOCATION:Ev. Familien-Bildungsstätte, Saal, Gorch-Fock-Str. 5 a, 26135 Oldenburg
END:VEVENT
BEGIN:VEVENT
DTSTAMP:20260421T165833
DTSTART;TZID=Europe/Berlin:20251218T184500
DTEND;TZID=Europe/Berlin:20251218T194500
UID:T32046-20251218T184500@EFBOLDENBURG
DESCRIPTION:Ersatz für Ausfall am 06.11.2025
SUMMARY:Pilates für Fortgeschrittene für Teilnehmer*innen mit mehrjähriger Praxis (T32046) 
LOCATION:Ev. Familien-Bildungsstätte, Saal, Gorch-Fock-Str. 5 a, 26135 Oldenburg
END:VEVENT
END:VCALENDAR