BEGIN:VCALENDAR
VERSION:2.0
PRODID:https://www.kufer.de/kuferweb / DE
METHOD:PUBLISH
CALSCALE:GREGORIAN
X-WR-TIMEZONE:Europe/Berlin
BEGIN:VTIMEZONE
TZID:Europe/Berlin
X-LIC-LOCATION:Europe/Berlin
BEGIN:DAYLIGHT
TZOFFSETFROM:+0100
TZOFFSETTO:+0200
TZNAME:CEST
DTSTART:19700329T020000
RRULE:FREQ=YEARLY;INTERVAL=1;BYDAY=-1SU;BYMONTH=3
END:DAYLIGHT
BEGIN:STANDARD
TZOFFSETFROM:+0200
TZOFFSETTO:+0100
TZNAME:CET
DTSTART:19701025T030000
RRULE:FREQ=YEARLY;INTERVAL=1;BYDAY=-1SU;BYMONTH=10
END:STANDARD
END:VTIMEZONE
BEGIN:VEVENT
DTSTAMP:20260421T233117
DTSTART;TZID=Europe/Berlin:20250821T090000
DTEND;TZID=Europe/Berlin:20250821T100000
UID:T33001-20250821T090000@EFBOLDENBURG
SUMMARY:Gesundheitsförderndes Qigong (T33001) 
LOCATION:Gemeindehaus Zietenstr., Zietenstr. 8, Zietenstr. 8, 26131 Oldenburg
END:VEVENT
BEGIN:VEVENT
DTSTAMP:20260421T233117
DTSTART;TZID=Europe/Berlin:20250904T090000
DTEND;TZID=Europe/Berlin:20250904T100000
UID:T33001-20250904T090000@EFBOLDENBURG
SUMMARY:Gesundheitsförderndes Qigong (T33001) 
LOCATION:Gemeindehaus Zietenstr., Zietenstr. 8, Zietenstr. 8, 26131 Oldenburg
END:VEVENT
BEGIN:VEVENT
DTSTAMP:20260421T233117
DTSTART;TZID=Europe/Berlin:20250925T090000
DTEND;TZID=Europe/Berlin:20250925T100000
UID:T33001-20250925T090000@EFBOLDENBURG
SUMMARY:Gesundheitsförderndes Qigong (T33001) 
LOCATION:Gemeindehaus Zietenstr., Zietenstr. 8, Zietenstr. 8, 26131 Oldenburg
END:VEVENT
BEGIN:VEVENT
DTSTAMP:20260421T233117
DTSTART;TZID=Europe/Berlin:20251002T090000
DTEND;TZID=Europe/Berlin:20251002T100000
UID:T33001-20251002T090000@EFBOLDENBURG
SUMMARY:Gesundheitsförderndes Qigong (T33001) 
LOCATION:Gemeindehaus Zietenstr., Zietenstr. 8, Zietenstr. 8, 26131 Oldenburg
END:VEVENT
BEGIN:VEVENT
DTSTAMP:20260421T233117
DTSTART;TZID=Europe/Berlin:20251009T090000
DTEND;TZID=Europe/Berlin:20251009T100000
UID:T33001-20251009T090000@EFBOLDENBURG
SUMMARY:Gesundheitsförderndes Qigong (T33001) 
LOCATION:Gemeindehaus Zietenstr., Zietenstr. 8, Zietenstr. 8, 26131 Oldenburg
END:VEVENT
BEGIN:VEVENT
DTSTAMP:20260421T233117
DTSTART;TZID=Europe/Berlin:20251023T090000
DTEND;TZID=Europe/Berlin:20251023T100000
UID:T33001-20251023T090000@EFBOLDENBURG
SUMMARY:Gesundheitsförderndes Qigong (T33001) 
LOCATION:Gemeindehaus Zietenstr., Zietenstr. 8, Zietenstr. 8, 26131 Oldenburg
END:VEVENT
BEGIN:VEVENT
DTSTAMP:20260421T233117
DTSTART;TZID=Europe/Berlin:20251030T090000
DTEND;TZID=Europe/Berlin:20251030T100000
UID:T33001-20251030T090000@EFBOLDENBURG
SUMMARY:Gesundheitsförderndes Qigong (T33001) 
LOCATION:Gemeindehaus Zietenstr., Zietenstr. 8, Zietenstr. 8, 26131 Oldenburg
END:VEVENT
BEGIN:VEVENT
DTSTAMP:20260421T233117
DTSTART;TZID=Europe/Berlin:20251113T090000
DTEND;TZID=Europe/Berlin:20251113T100000
UID:T33001-20251113T090000@EFBOLDENBURG
SUMMARY:Gesundheitsförderndes Qigong (T33001) 
LOCATION:Gemeindehaus Zietenstr., Zietenstr. 8, Zietenstr. 8, 26131 Oldenburg
END:VEVENT
BEGIN:VEVENT
DTSTAMP:20260421T233117
DTSTART;TZID=Europe/Berlin:20251120T090000
DTEND;TZID=Europe/Berlin:20251120T100000
UID:T33001-20251120T090000@EFBOLDENBURG
SUMMARY:Gesundheitsförderndes Qigong (T33001) 
LOCATION:Gemeindehaus Zietenstr., Zietenstr. 8, Zietenstr. 8, 26131 Oldenburg
END:VEVENT
BEGIN:VEVENT
DTSTAMP:20260421T233117
DTSTART;TZID=Europe/Berlin:20251127T090000
DTEND;TZID=Europe/Berlin:20251127T100000
UID:T33001-20251127T090000@EFBOLDENBURG
SUMMARY:Gesundheitsförderndes Qigong (T33001) 
LOCATION:Gemeindehaus Zietenstr., Zietenstr. 8, Zietenstr. 8, 26131 Oldenburg
END:VEVENT
BEGIN:VEVENT
DTSTAMP:20260421T233117
DTSTART;TZID=Europe/Berlin:20251204T090000
DTEND;TZID=Europe/Berlin:20251204T100000
UID:T33001-20251204T090000@EFBOLDENBURG
SUMMARY:Gesundheitsförderndes Qigong (T33001) 
LOCATION:Gemeindehaus Zietenstr., Zietenstr. 8, Zietenstr. 8, 26131 Oldenburg
END:VEVENT
BEGIN:VEVENT
DTSTAMP:20260421T233117
DTSTART;TZID=Europe/Berlin:20251211T090000
DTEND;TZID=Europe/Berlin:20251211T100000
UID:T33001-20251211T090000@EFBOLDENBURG
SUMMARY:Gesundheitsförderndes Qigong (T33001) 
LOCATION:Gemeindehaus Zietenstr., Zietenstr. 8, Zietenstr. 8, 26131 Oldenburg
END:VEVENT
BEGIN:VEVENT
DTSTAMP:20260421T233117
DTSTART;TZID=Europe/Berlin:20260115T090000
DTEND;TZID=Europe/Berlin:20260115T100000
UID:T33001-20260115T090000@EFBOLDENBURG
SUMMARY:Gesundheitsförderndes Qigong (T33001) 
LOCATION:Gemeindehaus Zietenstr., Zietenstr. 8, Zietenstr. 8, 26131 Oldenburg
END:VEVENT
BEGIN:VEVENT
DTSTAMP:20260421T233117
DTSTART;TZID=Europe/Berlin:20260122T090000
DTEND;TZID=Europe/Berlin:20260122T100000
UID:T33001-20260122T090000@EFBOLDENBURG
DESCRIPTION:Ersatz für Ausfall am 18.09.2025
SUMMARY:Gesundheitsförderndes Qigong (T33001) 
LOCATION:Gemeindehaus Zietenstr., Zietenstr. 8, Zietenstr. 8, 26131 Oldenburg
END:VEVENT
BEGIN:VEVENT
DTSTAMP:20260421T233117
DTSTART;TZID=Europe/Berlin:20260129T090000
DTEND;TZID=Europe/Berlin:20260129T100000
UID:T33001-20260129T090000@EFBOLDENBURG
DESCRIPTION:Ersatz für Ausfall am 11.09.2025
SUMMARY:Gesundheitsförderndes Qigong (T33001) 
LOCATION:Gemeindehaus Zietenstr., Zietenstr. 8, Zietenstr. 8, 26131 Oldenburg
END:VEVENT
BEGIN:VEVENT
DTSTAMP:20260421T233117
DTSTART;TZID=Europe/Berlin:20260205T090000
DTEND;TZID=Europe/Berlin:20260205T100000
UID:T33001-20260205T090000@EFBOLDENBURG
DESCRIPTION:Ersatz für Ausfall am 28.08.2025
SUMMARY:Gesundheitsförderndes Qigong (T33001) 
LOCATION:Gemeindehaus Zietenstr., Zietenstr. 8, Zietenstr. 8, 26131 Oldenburg
END:VEVENT
END:VCALENDAR