BEGIN:VCALENDAR
VERSION:2.0
PRODID:https://www.kufer.de/kuferweb / DE
METHOD:PUBLISH
CALSCALE:GREGORIAN
X-WR-TIMEZONE:Europe/Berlin
BEGIN:VTIMEZONE
TZID:Europe/Berlin
X-LIC-LOCATION:Europe/Berlin
BEGIN:DAYLIGHT
TZOFFSETFROM:+0100
TZOFFSETTO:+0200
TZNAME:CEST
DTSTART:19700329T020000
RRULE:FREQ=YEARLY;INTERVAL=1;BYDAY=-1SU;BYMONTH=3
END:DAYLIGHT
BEGIN:STANDARD
TZOFFSETFROM:+0200
TZOFFSETTO:+0100
TZNAME:CET
DTSTART:19701025T030000
RRULE:FREQ=YEARLY;INTERVAL=1;BYDAY=-1SU;BYMONTH=10
END:STANDARD
END:VTIMEZONE
BEGIN:VEVENT
DTSTAMP:20260421T165823
DTSTART;TZID=Europe/Berlin:20250821T101500
DTEND;TZID=Europe/Berlin:20250821T111500
UID:T33002-20250821T101500@EFBOLDENBURG
SUMMARY:Gesundheitsförderndes Qigong (T33002) 
LOCATION:Gemeindehaus Zietenstr., Zietenstr. 8, Zietenstr. 8, 26131 Oldenburg
END:VEVENT
BEGIN:VEVENT
DTSTAMP:20260421T165823
DTSTART;TZID=Europe/Berlin:20250904T101500
DTEND;TZID=Europe/Berlin:20250904T111500
UID:T33002-20250904T101500@EFBOLDENBURG
SUMMARY:Gesundheitsförderndes Qigong (T33002) 
LOCATION:Gemeindehaus Zietenstr., Zietenstr. 8, Zietenstr. 8, 26131 Oldenburg
END:VEVENT
BEGIN:VEVENT
DTSTAMP:20260421T165823
DTSTART;TZID=Europe/Berlin:20250925T101500
DTEND;TZID=Europe/Berlin:20250925T111500
UID:T33002-20250925T101500@EFBOLDENBURG
SUMMARY:Gesundheitsförderndes Qigong (T33002) 
LOCATION:Gemeindehaus Zietenstr., Zietenstr. 8, Zietenstr. 8, 26131 Oldenburg
END:VEVENT
BEGIN:VEVENT
DTSTAMP:20260421T165823
DTSTART;TZID=Europe/Berlin:20251002T101500
DTEND;TZID=Europe/Berlin:20251002T111500
UID:T33002-20251002T101500@EFBOLDENBURG
SUMMARY:Gesundheitsförderndes Qigong (T33002) 
LOCATION:Gemeindehaus Zietenstr., Zietenstr. 8, Zietenstr. 8, 26131 Oldenburg
END:VEVENT
BEGIN:VEVENT
DTSTAMP:20260421T165823
DTSTART;TZID=Europe/Berlin:20251009T101500
DTEND;TZID=Europe/Berlin:20251009T111500
UID:T33002-20251009T101500@EFBOLDENBURG
SUMMARY:Gesundheitsförderndes Qigong (T33002) 
LOCATION:Gemeindehaus Zietenstr., Zietenstr. 8, Zietenstr. 8, 26131 Oldenburg
END:VEVENT
BEGIN:VEVENT
DTSTAMP:20260421T165823
DTSTART;TZID=Europe/Berlin:20251023T101500
DTEND;TZID=Europe/Berlin:20251023T111500
UID:T33002-20251023T101500@EFBOLDENBURG
SUMMARY:Gesundheitsförderndes Qigong (T33002) 
LOCATION:Gemeindehaus Zietenstr., Zietenstr. 8, Zietenstr. 8, 26131 Oldenburg
END:VEVENT
BEGIN:VEVENT
DTSTAMP:20260421T165823
DTSTART;TZID=Europe/Berlin:20251030T101500
DTEND;TZID=Europe/Berlin:20251030T111500
UID:T33002-20251030T101500@EFBOLDENBURG
SUMMARY:Gesundheitsförderndes Qigong (T33002) 
LOCATION:Gemeindehaus Zietenstr., Zietenstr. 8, Zietenstr. 8, 26131 Oldenburg
END:VEVENT
BEGIN:VEVENT
DTSTAMP:20260421T165823
DTSTART;TZID=Europe/Berlin:20251113T101500
DTEND;TZID=Europe/Berlin:20251113T111500
UID:T33002-20251113T101500@EFBOLDENBURG
SUMMARY:Gesundheitsförderndes Qigong (T33002) 
LOCATION:Gemeindehaus Zietenstr., Zietenstr. 8, Zietenstr. 8, 26131 Oldenburg
END:VEVENT
BEGIN:VEVENT
DTSTAMP:20260421T165823
DTSTART;TZID=Europe/Berlin:20251120T101500
DTEND;TZID=Europe/Berlin:20251120T111500
UID:T33002-20251120T101500@EFBOLDENBURG
SUMMARY:Gesundheitsförderndes Qigong (T33002) 
LOCATION:Gemeindehaus Zietenstr., Zietenstr. 8, Zietenstr. 8, 26131 Oldenburg
END:VEVENT
BEGIN:VEVENT
DTSTAMP:20260421T165823
DTSTART;TZID=Europe/Berlin:20251127T101500
DTEND;TZID=Europe/Berlin:20251127T111500
UID:T33002-20251127T101500@EFBOLDENBURG
SUMMARY:Gesundheitsförderndes Qigong (T33002) 
LOCATION:Gemeindehaus Zietenstr., Zietenstr. 8, Zietenstr. 8, 26131 Oldenburg
END:VEVENT
BEGIN:VEVENT
DTSTAMP:20260421T165823
DTSTART;TZID=Europe/Berlin:20251204T101500
DTEND;TZID=Europe/Berlin:20251204T111500
UID:T33002-20251204T101500@EFBOLDENBURG
SUMMARY:Gesundheitsförderndes Qigong (T33002) 
LOCATION:Gemeindehaus Zietenstr., Zietenstr. 8, Zietenstr. 8, 26131 Oldenburg
END:VEVENT
BEGIN:VEVENT
DTSTAMP:20260421T165823
DTSTART;TZID=Europe/Berlin:20251211T101500
DTEND;TZID=Europe/Berlin:20251211T111500
UID:T33002-20251211T101500@EFBOLDENBURG
DESCRIPTION:Ersatz für Ausfall am 28.08.2025
SUMMARY:Gesundheitsförderndes Qigong (T33002) 
LOCATION:Gemeindehaus Zietenstr., Zietenstr. 8, Zietenstr. 8, 26131 Oldenburg
END:VEVENT
BEGIN:VEVENT
DTSTAMP:20260421T165823
DTSTART;TZID=Europe/Berlin:20260115T101500
DTEND;TZID=Europe/Berlin:20260115T111500
UID:T33002-20260115T101500@EFBOLDENBURG
DESCRIPTION:Ersatz für Ausfall am 11.09.2025
SUMMARY:Gesundheitsförderndes Qigong (T33002) 
LOCATION:Gemeindehaus Zietenstr., Zietenstr. 8, Zietenstr. 8, 26131 Oldenburg
END:VEVENT
BEGIN:VEVENT
DTSTAMP:20260421T165823
DTSTART;TZID=Europe/Berlin:20260122T101500
DTEND;TZID=Europe/Berlin:20260122T111500
UID:T33002-20260122T101500@EFBOLDENBURG
DESCRIPTION:Ersatz für Ausfall am 18.09.2025
SUMMARY:Gesundheitsförderndes Qigong (T33002) 
LOCATION:Gemeindehaus Zietenstr., Zietenstr. 8, Zietenstr. 8, 26131 Oldenburg
END:VEVENT
BEGIN:VEVENT
DTSTAMP:20260421T165823
DTSTART;TZID=Europe/Berlin:20260129T101500
DTEND;TZID=Europe/Berlin:20260129T111500
UID:T33002-20260129T101500@EFBOLDENBURG
SUMMARY:Gesundheitsförderndes Qigong (T33002) 
LOCATION:Gemeindehaus Zietenstr., Zietenstr. 8, Zietenstr. 8, 26131 Oldenburg
END:VEVENT
BEGIN:VEVENT
DTSTAMP:20260421T165823
DTSTART;TZID=Europe/Berlin:20260205T101500
DTEND;TZID=Europe/Berlin:20260205T111500
UID:T33002-20260205T101500@EFBOLDENBURG
DESCRIPTION:Ersatz für Ausfall am 06.11.2025 Ersatz für Ausfall am 16.10.2025
SUMMARY:Gesundheitsförderndes Qigong (T33002) 
LOCATION:Gemeindehaus Zietenstr., Zietenstr. 8, Zietenstr. 8, 26131 Oldenburg
END:VEVENT
END:VCALENDAR