BEGIN:VCALENDAR
VERSION:2.0
PRODID:https://www.kufer.de/kuferweb / DE
METHOD:PUBLISH
CALSCALE:GREGORIAN
X-WR-TIMEZONE:Europe/Berlin
BEGIN:VTIMEZONE
TZID:Europe/Berlin
X-LIC-LOCATION:Europe/Berlin
BEGIN:DAYLIGHT
TZOFFSETFROM:+0100
TZOFFSETTO:+0200
TZNAME:CEST
DTSTART:19700329T020000
RRULE:FREQ=YEARLY;INTERVAL=1;BYDAY=-1SU;BYMONTH=3
END:DAYLIGHT
BEGIN:STANDARD
TZOFFSETFROM:+0200
TZOFFSETTO:+0100
TZNAME:CET
DTSTART:19701025T030000
RRULE:FREQ=YEARLY;INTERVAL=1;BYDAY=-1SU;BYMONTH=10
END:STANDARD
END:VTIMEZONE
BEGIN:VEVENT
DTSTAMP:20260421T203045
DTSTART;TZID=Europe/Berlin:20250901T183000
DTEND;TZID=Europe/Berlin:20250901T194500
UID:T33020-EEB-20250901T183000@EFBOLDENBURG
SUMMARY:NEU: Viniyoga im Lukas-Haus (T33020-EEB) 
LOCATION:Gemeindehaus Lukas, Helmsweg 21, Helmsweg 21, 26135 Oldenburg
END:VEVENT
BEGIN:VEVENT
DTSTAMP:20260421T203045
DTSTART;TZID=Europe/Berlin:20250908T183000
DTEND;TZID=Europe/Berlin:20250908T194500
UID:T33020-EEB-20250908T183000@EFBOLDENBURG
SUMMARY:NEU: Viniyoga im Lukas-Haus (T33020-EEB) 
LOCATION:Gemeindehaus Lukas, Helmsweg 21, Helmsweg 21, 26135 Oldenburg
END:VEVENT
BEGIN:VEVENT
DTSTAMP:20260421T203045
DTSTART;TZID=Europe/Berlin:20250915T183000
DTEND;TZID=Europe/Berlin:20250915T194500
UID:T33020-EEB-20250915T183000@EFBOLDENBURG
SUMMARY:NEU: Viniyoga im Lukas-Haus (T33020-EEB) 
LOCATION:Gemeindehaus Lukas, Helmsweg 21, Helmsweg 21, 26135 Oldenburg
END:VEVENT
BEGIN:VEVENT
DTSTAMP:20260421T203045
DTSTART;TZID=Europe/Berlin:20250922T183000
DTEND;TZID=Europe/Berlin:20250922T194500
UID:T33020-EEB-20250922T183000@EFBOLDENBURG
SUMMARY:NEU: Viniyoga im Lukas-Haus (T33020-EEB) 
LOCATION:Gemeindehaus Lukas, Helmsweg 21, Helmsweg 21, 26135 Oldenburg
END:VEVENT
BEGIN:VEVENT
DTSTAMP:20260421T203045
DTSTART;TZID=Europe/Berlin:20250929T183000
DTEND;TZID=Europe/Berlin:20250929T194500
UID:T33020-EEB-20250929T183000@EFBOLDENBURG
SUMMARY:NEU: Viniyoga im Lukas-Haus (T33020-EEB) 
LOCATION:Gemeindehaus Lukas, Helmsweg 21, Helmsweg 21, 26135 Oldenburg
END:VEVENT
BEGIN:VEVENT
DTSTAMP:20260421T203045
DTSTART;TZID=Europe/Berlin:20251006T183000
DTEND;TZID=Europe/Berlin:20251006T194500
UID:T33020-EEB-20251006T183000@EFBOLDENBURG
SUMMARY:NEU: Viniyoga im Lukas-Haus (T33020-EEB) 
LOCATION:Gemeindehaus Lukas, Helmsweg 21, Helmsweg 21, 26135 Oldenburg
END:VEVENT
BEGIN:VEVENT
DTSTAMP:20260421T203045
DTSTART;TZID=Europe/Berlin:20251124T183000
DTEND;TZID=Europe/Berlin:20251124T194500
UID:T33020-EEB-20251124T183000@EFBOLDENBURG
SUMMARY:NEU: Viniyoga im Lukas-Haus (T33020-EEB) 
LOCATION:Gemeindehaus Lukas, Helmsweg 21, Helmsweg 21, 26135 Oldenburg
END:VEVENT
BEGIN:VEVENT
DTSTAMP:20260421T203045
DTSTART;TZID=Europe/Berlin:20251201T183000
DTEND;TZID=Europe/Berlin:20251201T194500
UID:T33020-EEB-20251201T183000@EFBOLDENBURG
DESCRIPTION:Ersatz für Ausfall am 25.08.2025
SUMMARY:NEU: Viniyoga im Lukas-Haus (T33020-EEB) 
LOCATION:Gemeindehaus Lukas, Helmsweg 21, Helmsweg 21, 26135 Oldenburg
END:VEVENT
BEGIN:VEVENT
DTSTAMP:20260421T203045
DTSTART;TZID=Europe/Berlin:20251208T183000
DTEND;TZID=Europe/Berlin:20251208T194500
UID:T33020-EEB-20251208T183000@EFBOLDENBURG
DESCRIPTION:Ersatz für Ausfall am 27.10.2025 Ersatz für Ausfall am 01.12.2025
SUMMARY:NEU: Viniyoga im Lukas-Haus (T33020-EEB) 
LOCATION:Gemeindehaus Lukas, Helmsweg 21, Helmsweg 21, 26135 Oldenburg
END:VEVENT
BEGIN:VEVENT
DTSTAMP:20260421T203045
DTSTART;TZID=Europe/Berlin:20251215T183000
DTEND;TZID=Europe/Berlin:20251215T194500
UID:T33020-EEB-20251215T183000@EFBOLDENBURG
DESCRIPTION:Ersatz für Ausfall am 17.11.2025
SUMMARY:NEU: Viniyoga im Lukas-Haus (T33020-EEB) 
LOCATION:Gemeindehaus Lukas, Helmsweg 21, Helmsweg 21, 26135 Oldenburg
END:VEVENT
END:VCALENDAR