BEGIN:VCALENDAR
VERSION:2.0
PRODID:https://www.kufer.de/kuferweb / DE
METHOD:PUBLISH
CALSCALE:GREGORIAN
X-WR-TIMEZONE:Europe/Berlin
BEGIN:VTIMEZONE
TZID:Europe/Berlin
X-LIC-LOCATION:Europe/Berlin
BEGIN:DAYLIGHT
TZOFFSETFROM:+0100
TZOFFSETTO:+0200
TZNAME:CEST
DTSTART:19700329T020000
RRULE:FREQ=YEARLY;INTERVAL=1;BYDAY=-1SU;BYMONTH=3
END:DAYLIGHT
BEGIN:STANDARD
TZOFFSETFROM:+0200
TZOFFSETTO:+0100
TZNAME:CET
DTSTART:19701025T030000
RRULE:FREQ=YEARLY;INTERVAL=1;BYDAY=-1SU;BYMONTH=10
END:STANDARD
END:VTIMEZONE
BEGIN:VEVENT
DTSTAMP:20260421T183006
DTSTART;TZID=Europe/Berlin:20250819T200000
DTEND;TZID=Europe/Berlin:20250819T213000
UID:T33025PEEB-20250819T200000@EFBOLDENBURG
SUMMARY:Hatha-Yoga (T33025PEEB) 
LOCATION:Ev. Familien-Bildungsstätte, Saal, Gorch-Fock-Str. 5 a, 26135 Oldenburg
END:VEVENT
BEGIN:VEVENT
DTSTAMP:20260421T183006
DTSTART;TZID=Europe/Berlin:20250826T200000
DTEND;TZID=Europe/Berlin:20250826T213000
UID:T33025PEEB-20250826T200000@EFBOLDENBURG
SUMMARY:Hatha-Yoga (T33025PEEB) 
LOCATION:Ev. Familien-Bildungsstätte, Saal, Gorch-Fock-Str. 5 a, 26135 Oldenburg
END:VEVENT
BEGIN:VEVENT
DTSTAMP:20260421T183006
DTSTART;TZID=Europe/Berlin:20250902T200000
DTEND;TZID=Europe/Berlin:20250902T213000
UID:T33025PEEB-20250902T200000@EFBOLDENBURG
SUMMARY:Hatha-Yoga (T33025PEEB) 
LOCATION:Ev. Familien-Bildungsstätte, Saal, Gorch-Fock-Str. 5 a, 26135 Oldenburg
END:VEVENT
BEGIN:VEVENT
DTSTAMP:20260421T183006
DTSTART;TZID=Europe/Berlin:20250909T200000
DTEND;TZID=Europe/Berlin:20250909T213000
UID:T33025PEEB-20250909T200000@EFBOLDENBURG
SUMMARY:Hatha-Yoga (T33025PEEB) 
LOCATION:Ev. Familien-Bildungsstätte, Saal, Gorch-Fock-Str. 5 a, 26135 Oldenburg
END:VEVENT
BEGIN:VEVENT
DTSTAMP:20260421T183006
DTSTART;TZID=Europe/Berlin:20250916T200000
DTEND;TZID=Europe/Berlin:20250916T213000
UID:T33025PEEB-20250916T200000@EFBOLDENBURG
SUMMARY:Hatha-Yoga (T33025PEEB) 
LOCATION:Ev. Familien-Bildungsstätte, Saal, Gorch-Fock-Str. 5 a, 26135 Oldenburg
END:VEVENT
BEGIN:VEVENT
DTSTAMP:20260421T183006
DTSTART;TZID=Europe/Berlin:20250923T200000
DTEND;TZID=Europe/Berlin:20250923T213000
UID:T33025PEEB-20250923T200000@EFBOLDENBURG
SUMMARY:Hatha-Yoga (T33025PEEB) 
LOCATION:Ev. Familien-Bildungsstätte, Saal, Gorch-Fock-Str. 5 a, 26135 Oldenburg
END:VEVENT
BEGIN:VEVENT
DTSTAMP:20260421T183006
DTSTART;TZID=Europe/Berlin:20250930T200000
DTEND;TZID=Europe/Berlin:20250930T213000
UID:T33025PEEB-20250930T200000@EFBOLDENBURG
SUMMARY:Hatha-Yoga (T33025PEEB) 
LOCATION:Ev. Familien-Bildungsstätte, Saal, Gorch-Fock-Str. 5 a, 26135 Oldenburg
END:VEVENT
BEGIN:VEVENT
DTSTAMP:20260421T183006
DTSTART;TZID=Europe/Berlin:20251007T200000
DTEND;TZID=Europe/Berlin:20251007T213000
UID:T33025PEEB-20251007T200000@EFBOLDENBURG
SUMMARY:Hatha-Yoga (T33025PEEB) 
LOCATION:Ev. Familien-Bildungsstätte, Saal, Gorch-Fock-Str. 5 a, 26135 Oldenburg
END:VEVENT
BEGIN:VEVENT
DTSTAMP:20260421T183006
DTSTART;TZID=Europe/Berlin:20251021T200000
DTEND;TZID=Europe/Berlin:20251021T213000
UID:T33025PEEB-20251021T200000@EFBOLDENBURG
DESCRIPTION:Ersatz für Ausfall am 04.11.2025 Ersatz für Ausfall am 14.10.2025
SUMMARY:Hatha-Yoga (T33025PEEB) 
LOCATION:Ev. Familien-Bildungsstätte, Saal, Gorch-Fock-Str. 5 a, 26135 Oldenburg
END:VEVENT
BEGIN:VEVENT
DTSTAMP:20260421T183006
DTSTART;TZID=Europe/Berlin:20251028T200000
DTEND;TZID=Europe/Berlin:20251028T213000
UID:T33025PEEB-20251028T200000@EFBOLDENBURG
SUMMARY:Hatha-Yoga (T33025PEEB) 
LOCATION:Ev. Familien-Bildungsstätte, Saal, Gorch-Fock-Str. 5 a, 26135 Oldenburg
END:VEVENT
END:VCALENDAR