BEGIN:VCALENDAR
VERSION:2.0
PRODID:https://www.kufer.de/kuferweb / DE
METHOD:PUBLISH
CALSCALE:GREGORIAN
X-WR-TIMEZONE:Europe/Berlin
BEGIN:VTIMEZONE
TZID:Europe/Berlin
X-LIC-LOCATION:Europe/Berlin
BEGIN:DAYLIGHT
TZOFFSETFROM:+0100
TZOFFSETTO:+0200
TZNAME:CEST
DTSTART:19700329T020000
RRULE:FREQ=YEARLY;INTERVAL=1;BYDAY=-1SU;BYMONTH=3
END:DAYLIGHT
BEGIN:STANDARD
TZOFFSETFROM:+0200
TZOFFSETTO:+0100
TZNAME:CET
DTSTART:19701025T030000
RRULE:FREQ=YEARLY;INTERVAL=1;BYDAY=-1SU;BYMONTH=10
END:STANDARD
END:VTIMEZONE
BEGIN:VEVENT
DTSTAMP:20260421T234935
DTSTART;TZID=Europe/Berlin:20250819T180000
DTEND;TZID=Europe/Berlin:20250819T193000
UID:T33028PEEB-20250819T180000@EFBOLDENBURG
DESCRIPTION:19.08.25 (*KH): 1 Stuhl pro TN + 1 Stuhl f. KL
SUMMARY:Hatha-Yoga für Fortgeschrittene - (T33028PEEB) 
LOCATION:Ev. Familien-Bildungsstätte, Saal, Gorch-Fock-Str. 5 a, 26135 Oldenburg
END:VEVENT
BEGIN:VEVENT
DTSTAMP:20260421T234935
DTSTART;TZID=Europe/Berlin:20250826T180000
DTEND;TZID=Europe/Berlin:20250826T193000
UID:T33028PEEB-20250826T180000@EFBOLDENBURG
DESCRIPTION:19.08.25 (*KH): 1 Stuhl pro TN + 1 Stuhl f. KL
SUMMARY:Hatha-Yoga für Fortgeschrittene - (T33028PEEB) 
LOCATION:Ev. Familien-Bildungsstätte, Saal, Gorch-Fock-Str. 5 a, 26135 Oldenburg
END:VEVENT
BEGIN:VEVENT
DTSTAMP:20260421T234935
DTSTART;TZID=Europe/Berlin:20250902T180000
DTEND;TZID=Europe/Berlin:20250902T193000
UID:T33028PEEB-20250902T180000@EFBOLDENBURG
DESCRIPTION:19.08.25 (*KH): 1 Stuhl pro TN + 1 Stuhl f. KL
SUMMARY:Hatha-Yoga für Fortgeschrittene - (T33028PEEB) 
LOCATION:Ev. Familien-Bildungsstätte, Saal, Gorch-Fock-Str. 5 a, 26135 Oldenburg
END:VEVENT
BEGIN:VEVENT
DTSTAMP:20260421T234935
DTSTART;TZID=Europe/Berlin:20250909T180000
DTEND;TZID=Europe/Berlin:20250909T193000
UID:T33028PEEB-20250909T180000@EFBOLDENBURG
DESCRIPTION:19.08.25 (*KH): 1 Stuhl pro TN + 1 Stuhl f. KL
SUMMARY:Hatha-Yoga für Fortgeschrittene - (T33028PEEB) 
LOCATION:Ev. Familien-Bildungsstätte, Saal, Gorch-Fock-Str. 5 a, 26135 Oldenburg
END:VEVENT
BEGIN:VEVENT
DTSTAMP:20260421T234935
DTSTART;TZID=Europe/Berlin:20250916T180000
DTEND;TZID=Europe/Berlin:20250916T193000
UID:T33028PEEB-20250916T180000@EFBOLDENBURG
DESCRIPTION:19.08.25 (*KH): 1 Stuhl pro TN + 1 Stuhl f. KL
SUMMARY:Hatha-Yoga für Fortgeschrittene - (T33028PEEB) 
LOCATION:Ev. Familien-Bildungsstätte, Saal, Gorch-Fock-Str. 5 a, 26135 Oldenburg
END:VEVENT
BEGIN:VEVENT
DTSTAMP:20260421T234935
DTSTART;TZID=Europe/Berlin:20250923T180000
DTEND;TZID=Europe/Berlin:20250923T193000
UID:T33028PEEB-20250923T180000@EFBOLDENBURG
DESCRIPTION:19.08.25 (*KH): 1 Stuhl pro TN + 1 Stuhl f. KL
SUMMARY:Hatha-Yoga für Fortgeschrittene - (T33028PEEB) 
LOCATION:Ev. Familien-Bildungsstätte, Saal, Gorch-Fock-Str. 5 a, 26135 Oldenburg
END:VEVENT
BEGIN:VEVENT
DTSTAMP:20260421T234935
DTSTART;TZID=Europe/Berlin:20250930T180000
DTEND;TZID=Europe/Berlin:20250930T193000
UID:T33028PEEB-20250930T180000@EFBOLDENBURG
DESCRIPTION:19.08.25 (*KH): 1 Stuhl pro TN + 1 Stuhl f. KL
SUMMARY:Hatha-Yoga für Fortgeschrittene - (T33028PEEB) 
LOCATION:Ev. Familien-Bildungsstätte, Saal, Gorch-Fock-Str. 5 a, 26135 Oldenburg
END:VEVENT
BEGIN:VEVENT
DTSTAMP:20260421T234935
DTSTART;TZID=Europe/Berlin:20251007T180000
DTEND;TZID=Europe/Berlin:20251007T193000
UID:T33028PEEB-20251007T180000@EFBOLDENBURG
DESCRIPTION:19.08.25 (*KH): 1 Stuhl pro TN + 1 Stuhl f. KL
SUMMARY:Hatha-Yoga für Fortgeschrittene - (T33028PEEB) 
LOCATION:Ev. Familien-Bildungsstätte, Saal, Gorch-Fock-Str. 5 a, 26135 Oldenburg
END:VEVENT
BEGIN:VEVENT
DTSTAMP:20260421T234935
DTSTART;TZID=Europe/Berlin:20251021T180000
DTEND;TZID=Europe/Berlin:20251021T193000
UID:T33028PEEB-20251021T180000@EFBOLDENBURG
DESCRIPTION:Ersatz für Ausfall am 14.10.2025
SUMMARY:Hatha-Yoga für Fortgeschrittene - (T33028PEEB) 
LOCATION:Ev. Familien-Bildungsstätte, Saal, Gorch-Fock-Str. 5 a, 26135 Oldenburg
END:VEVENT
BEGIN:VEVENT
DTSTAMP:20260421T234935
DTSTART;TZID=Europe/Berlin:20251028T180000
DTEND;TZID=Europe/Berlin:20251028T193000
UID:T33028PEEB-20251028T180000@EFBOLDENBURG
SUMMARY:Hatha-Yoga für Fortgeschrittene - (T33028PEEB) 
LOCATION:Ev. Familien-Bildungsstätte, Saal, Gorch-Fock-Str. 5 a, 26135 Oldenburg
END:VEVENT
END:VCALENDAR