BEGIN:VCALENDAR
VERSION:2.0
PRODID:https://www.kufer.de/kuferweb / DE
METHOD:PUBLISH
CALSCALE:GREGORIAN
X-WR-TIMEZONE:Europe/Berlin
BEGIN:VTIMEZONE
TZID:Europe/Berlin
X-LIC-LOCATION:Europe/Berlin
BEGIN:DAYLIGHT
TZOFFSETFROM:+0100
TZOFFSETTO:+0200
TZNAME:CEST
DTSTART:19700329T020000
RRULE:FREQ=YEARLY;INTERVAL=1;BYDAY=-1SU;BYMONTH=3
END:DAYLIGHT
BEGIN:STANDARD
TZOFFSETFROM:+0200
TZOFFSETTO:+0100
TZNAME:CET
DTSTART:19701025T030000
RRULE:FREQ=YEARLY;INTERVAL=1;BYDAY=-1SU;BYMONTH=10
END:STANDARD
END:VTIMEZONE
BEGIN:VEVENT
DTSTAMP:20260421T151400
DTSTART;TZID=Europe/Berlin:20251104T180000
DTEND;TZID=Europe/Berlin:20251104T193000
UID:T33029PEEB-20251104T180000@EFBOLDENBURG
SUMMARY:Hatha-Yoga für Fortgeschrittene - (T33029PEEB) 
LOCATION:Ev. Familien-Bildungsstätte, Saal, Gorch-Fock-Str. 5 a, 26135 Oldenburg
END:VEVENT
BEGIN:VEVENT
DTSTAMP:20260421T151400
DTSTART;TZID=Europe/Berlin:20251111T180000
DTEND;TZID=Europe/Berlin:20251111T193000
UID:T33029PEEB-20251111T180000@EFBOLDENBURG
SUMMARY:Hatha-Yoga für Fortgeschrittene - (T33029PEEB) 
LOCATION:Ev. Familien-Bildungsstätte, Saal, Gorch-Fock-Str. 5 a, 26135 Oldenburg
END:VEVENT
BEGIN:VEVENT
DTSTAMP:20260421T151400
DTSTART;TZID=Europe/Berlin:20251118T180000
DTEND;TZID=Europe/Berlin:20251118T193000
UID:T33029PEEB-20251118T180000@EFBOLDENBURG
SUMMARY:Hatha-Yoga für Fortgeschrittene - (T33029PEEB) 
LOCATION:Ev. Familien-Bildungsstätte, Saal, Gorch-Fock-Str. 5 a, 26135 Oldenburg
END:VEVENT
BEGIN:VEVENT
DTSTAMP:20260421T151400
DTSTART;TZID=Europe/Berlin:20251125T180000
DTEND;TZID=Europe/Berlin:20251125T193000
UID:T33029PEEB-20251125T180000@EFBOLDENBURG
SUMMARY:Hatha-Yoga für Fortgeschrittene - (T33029PEEB) 
LOCATION:Ev. Familien-Bildungsstätte, Saal, Gorch-Fock-Str. 5 a, 26135 Oldenburg
END:VEVENT
BEGIN:VEVENT
DTSTAMP:20260421T151400
DTSTART;TZID=Europe/Berlin:20251202T180000
DTEND;TZID=Europe/Berlin:20251202T193000
UID:T33029PEEB-20251202T180000@EFBOLDENBURG
SUMMARY:Hatha-Yoga für Fortgeschrittene - (T33029PEEB) 
LOCATION:Ev. Familien-Bildungsstätte, Saal, Gorch-Fock-Str. 5 a, 26135 Oldenburg
END:VEVENT
BEGIN:VEVENT
DTSTAMP:20260421T151400
DTSTART;TZID=Europe/Berlin:20251209T180000
DTEND;TZID=Europe/Berlin:20251209T193000
UID:T33029PEEB-20251209T180000@EFBOLDENBURG
SUMMARY:Hatha-Yoga für Fortgeschrittene - (T33029PEEB) 
LOCATION:Ev. Familien-Bildungsstätte, Saal, Gorch-Fock-Str. 5 a, 26135 Oldenburg
END:VEVENT
BEGIN:VEVENT
DTSTAMP:20260421T151400
DTSTART;TZID=Europe/Berlin:20251216T180000
DTEND;TZID=Europe/Berlin:20251216T193000
UID:T33029PEEB-20251216T180000@EFBOLDENBURG
SUMMARY:Hatha-Yoga für Fortgeschrittene - (T33029PEEB) 
LOCATION:Ev. Familien-Bildungsstätte, Saal, Gorch-Fock-Str. 5 a, 26135 Oldenburg
END:VEVENT
BEGIN:VEVENT
DTSTAMP:20260421T151400
DTSTART;TZID=Europe/Berlin:20260106T180000
DTEND;TZID=Europe/Berlin:20260106T193000
UID:T33029PEEB-20260106T180000@EFBOLDENBURG
DESCRIPTION:Ersatz für Ausfall am 06.01.2026 Ersatz für Ausfall am 23.12.2025
SUMMARY:Hatha-Yoga für Fortgeschrittene - (T33029PEEB) 
LOCATION:Ev. Familien-Bildungsstätte, Saal, Gorch-Fock-Str. 5 a, 26135 Oldenburg
END:VEVENT
BEGIN:VEVENT
DTSTAMP:20260421T151400
DTSTART;TZID=Europe/Berlin:20260113T180000
DTEND;TZID=Europe/Berlin:20260113T193000
UID:T33029PEEB-20260113T180000@EFBOLDENBURG
SUMMARY:Hatha-Yoga für Fortgeschrittene - (T33029PEEB) 
LOCATION:Ev. Familien-Bildungsstätte, Saal, Gorch-Fock-Str. 5 a, 26135 Oldenburg
END:VEVENT
BEGIN:VEVENT
DTSTAMP:20260421T151400
DTSTART;TZID=Europe/Berlin:20260120T180000
DTEND;TZID=Europe/Berlin:20260120T193000
UID:T33029PEEB-20260120T180000@EFBOLDENBURG
SUMMARY:Hatha-Yoga für Fortgeschrittene - (T33029PEEB) 
LOCATION:Ev. Familien-Bildungsstätte, Saal, Gorch-Fock-Str. 5 a, 26135 Oldenburg
END:VEVENT
END:VCALENDAR