BEGIN:VCALENDAR
VERSION:2.0
PRODID:https://www.kufer.de/kuferweb / DE
METHOD:PUBLISH
CALSCALE:GREGORIAN
X-WR-TIMEZONE:Europe/Berlin
BEGIN:VTIMEZONE
TZID:Europe/Berlin
X-LIC-LOCATION:Europe/Berlin
BEGIN:DAYLIGHT
TZOFFSETFROM:+0100
TZOFFSETTO:+0200
TZNAME:CEST
DTSTART:19700329T020000
RRULE:FREQ=YEARLY;INTERVAL=1;BYDAY=-1SU;BYMONTH=3
END:DAYLIGHT
BEGIN:STANDARD
TZOFFSETFROM:+0200
TZOFFSETTO:+0100
TZNAME:CET
DTSTART:19701025T030000
RRULE:FREQ=YEARLY;INTERVAL=1;BYDAY=-1SU;BYMONTH=10
END:STANDARD
END:VTIMEZONE
BEGIN:VEVENT
DTSTAMP:20260421T202302
DTSTART;TZID=Europe/Berlin:20250821T110000
DTEND;TZID=Europe/Berlin:20250821T121500
UID:T33037-EEB-20250821T110000@EFBOLDENBURG
SUMMARY:Achtsamer Yoga für den älteren Menschen 70+ (T33037-EEB) 
LOCATION:Ev. Familien-Bildungsstätte, Saal, Gorch-Fock-Str. 5 a, 26135 Oldenburg
END:VEVENT
BEGIN:VEVENT
DTSTAMP:20260421T202302
DTSTART;TZID=Europe/Berlin:20250828T110000
DTEND;TZID=Europe/Berlin:20250828T121500
UID:T33037-EEB-20250828T110000@EFBOLDENBURG
SUMMARY:Achtsamer Yoga für den älteren Menschen 70+ (T33037-EEB) 
LOCATION:Ev. Familien-Bildungsstätte, Saal, Gorch-Fock-Str. 5 a, 26135 Oldenburg
END:VEVENT
BEGIN:VEVENT
DTSTAMP:20260421T202302
DTSTART;TZID=Europe/Berlin:20250904T110000
DTEND;TZID=Europe/Berlin:20250904T121500
UID:T33037-EEB-20250904T110000@EFBOLDENBURG
SUMMARY:Achtsamer Yoga für den älteren Menschen 70+ (T33037-EEB) 
LOCATION:Ev. Familien-Bildungsstätte, Saal, Gorch-Fock-Str. 5 a, 26135 Oldenburg
END:VEVENT
BEGIN:VEVENT
DTSTAMP:20260421T202302
DTSTART;TZID=Europe/Berlin:20250918T110000
DTEND;TZID=Europe/Berlin:20250918T121500
UID:T33037-EEB-20250918T110000@EFBOLDENBURG
SUMMARY:Achtsamer Yoga für den älteren Menschen 70+ (T33037-EEB) 
LOCATION:Ev. Familien-Bildungsstätte, Saal, Gorch-Fock-Str. 5 a, 26135 Oldenburg
END:VEVENT
BEGIN:VEVENT
DTSTAMP:20260421T202302
DTSTART;TZID=Europe/Berlin:20250925T110000
DTEND;TZID=Europe/Berlin:20250925T121500
UID:T33037-EEB-20250925T110000@EFBOLDENBURG
DESCRIPTION:Ersatz für Ausfall am 04.12.2025
SUMMARY:Achtsamer Yoga für den älteren Menschen 70+ (T33037-EEB) 
LOCATION:Ev. Familien-Bildungsstätte, Saal, Gorch-Fock-Str. 5 a, 26135 Oldenburg
END:VEVENT
BEGIN:VEVENT
DTSTAMP:20260421T202302
DTSTART;TZID=Europe/Berlin:20251002T110000
DTEND;TZID=Europe/Berlin:20251002T121500
UID:T33037-EEB-20251002T110000@EFBOLDENBURG
SUMMARY:Achtsamer Yoga für den älteren Menschen 70+ (T33037-EEB) 
LOCATION:Ev. Familien-Bildungsstätte, Saal, Gorch-Fock-Str. 5 a, 26135 Oldenburg
END:VEVENT
BEGIN:VEVENT
DTSTAMP:20260421T202302
DTSTART;TZID=Europe/Berlin:20251009T110000
DTEND;TZID=Europe/Berlin:20251009T121500
UID:T33037-EEB-20251009T110000@EFBOLDENBURG
SUMMARY:Achtsamer Yoga für den älteren Menschen 70+ (T33037-EEB) 
LOCATION:Ev. Familien-Bildungsstätte, Saal, Gorch-Fock-Str. 5 a, 26135 Oldenburg
END:VEVENT
BEGIN:VEVENT
DTSTAMP:20260421T202302
DTSTART;TZID=Europe/Berlin:20251016T110000
DTEND;TZID=Europe/Berlin:20251016T121500
UID:T33037-EEB-20251016T110000@EFBOLDENBURG
DESCRIPTION:Ersatz für Ausfall am 11.09.2025 Ersatz für Ausfall am 11.12.2025
SUMMARY:Achtsamer Yoga für den älteren Menschen 70+ (T33037-EEB) 
LOCATION:Ev. Familien-Bildungsstätte, Saal, Gorch-Fock-Str. 5 a, 26135 Oldenburg
END:VEVENT
BEGIN:VEVENT
DTSTAMP:20260421T202302
DTSTART;TZID=Europe/Berlin:20251023T110000
DTEND;TZID=Europe/Berlin:20251023T121500
UID:T33037-EEB-20251023T110000@EFBOLDENBURG
DESCRIPTION:Ersatz für Ausfall am 20.11.2025
SUMMARY:Achtsamer Yoga für den älteren Menschen 70+ (T33037-EEB) 
LOCATION:Ev. Familien-Bildungsstätte, Saal, Gorch-Fock-Str. 5 a, 26135 Oldenburg
END:VEVENT
BEGIN:VEVENT
DTSTAMP:20260421T202302
DTSTART;TZID=Europe/Berlin:20251030T110000
DTEND;TZID=Europe/Berlin:20251030T121500
UID:T33037-EEB-20251030T110000@EFBOLDENBURG
SUMMARY:Achtsamer Yoga für den älteren Menschen 70+ (T33037-EEB) 
LOCATION:Ev. Familien-Bildungsstätte, Saal, Gorch-Fock-Str. 5 a, 26135 Oldenburg
END:VEVENT
BEGIN:VEVENT
DTSTAMP:20260421T202302
DTSTART;TZID=Europe/Berlin:20251106T110000
DTEND;TZID=Europe/Berlin:20251106T121500
UID:T33037-EEB-20251106T110000@EFBOLDENBURG
DESCRIPTION:Ersatz für Ausfall am 13.11.2025
SUMMARY:Achtsamer Yoga für den älteren Menschen 70+ (T33037-EEB) 
LOCATION:Ev. Familien-Bildungsstätte, Saal, Gorch-Fock-Str. 5 a, 26135 Oldenburg
END:VEVENT
END:VCALENDAR