BEGIN:VCALENDAR
VERSION:2.0
PRODID:https://www.kufer.de/kuferweb / DE
METHOD:PUBLISH
CALSCALE:GREGORIAN
X-WR-TIMEZONE:Europe/Berlin
BEGIN:VTIMEZONE
TZID:Europe/Berlin
X-LIC-LOCATION:Europe/Berlin
BEGIN:DAYLIGHT
TZOFFSETFROM:+0100
TZOFFSETTO:+0200
TZNAME:CEST
DTSTART:19700329T020000
RRULE:FREQ=YEARLY;INTERVAL=1;BYDAY=-1SU;BYMONTH=3
END:DAYLIGHT
BEGIN:STANDARD
TZOFFSETFROM:+0200
TZOFFSETTO:+0100
TZNAME:CET
DTSTART:19701025T030000
RRULE:FREQ=YEARLY;INTERVAL=1;BYDAY=-1SU;BYMONTH=10
END:STANDARD
END:VTIMEZONE
BEGIN:VEVENT
DTSTAMP:20260421T170007
DTSTART;TZID=Europe/Berlin:20251120T110000
DTEND;TZID=Europe/Berlin:20251120T121500
UID:T33901-EEB-20251120T110000@EFBOLDENBURG
SUMMARY:Achtsamer Yoga für den älteren Menschen 70+ (T33901-EEB) 
LOCATION:Ev. Familien-Bildungsstätte, Saal, Gorch-Fock-Str. 5 a, 26135 Oldenburg
END:VEVENT
BEGIN:VEVENT
DTSTAMP:20260421T170007
DTSTART;TZID=Europe/Berlin:20251127T110000
DTEND;TZID=Europe/Berlin:20251127T121500
UID:T33901-EEB-20251127T110000@EFBOLDENBURG
SUMMARY:Achtsamer Yoga für den älteren Menschen 70+ (T33901-EEB) 
LOCATION:Ev. Familien-Bildungsstätte, Saal, Gorch-Fock-Str. 5 a, 26135 Oldenburg
END:VEVENT
BEGIN:VEVENT
DTSTAMP:20260421T170007
DTSTART;TZID=Europe/Berlin:20251204T110000
DTEND;TZID=Europe/Berlin:20251204T121500
UID:T33901-EEB-20251204T110000@EFBOLDENBURG
SUMMARY:Achtsamer Yoga für den älteren Menschen 70+ (T33901-EEB) 
LOCATION:Ev. Familien-Bildungsstätte, Saal, Gorch-Fock-Str. 5 a, 26135 Oldenburg
END:VEVENT
BEGIN:VEVENT
DTSTAMP:20260421T170007
DTSTART;TZID=Europe/Berlin:20251211T110000
DTEND;TZID=Europe/Berlin:20251211T121500
UID:T33901-EEB-20251211T110000@EFBOLDENBURG
SUMMARY:Achtsamer Yoga für den älteren Menschen 70+ (T33901-EEB) 
LOCATION:Ev. Familien-Bildungsstätte, Saal, Gorch-Fock-Str. 5 a, 26135 Oldenburg
END:VEVENT
BEGIN:VEVENT
DTSTAMP:20260421T170007
DTSTART;TZID=Europe/Berlin:20260108T110000
DTEND;TZID=Europe/Berlin:20260108T121500
UID:T33901-EEB-20260108T110000@EFBOLDENBURG
SUMMARY:Achtsamer Yoga für den älteren Menschen 70+ (T33901-EEB) 
LOCATION:Ev. Familien-Bildungsstätte, Saal, Gorch-Fock-Str. 5 a, 26135 Oldenburg
END:VEVENT
BEGIN:VEVENT
DTSTAMP:20260421T170007
DTSTART;TZID=Europe/Berlin:20260115T110000
DTEND;TZID=Europe/Berlin:20260115T121500
UID:T33901-EEB-20260115T110000@EFBOLDENBURG
SUMMARY:Achtsamer Yoga für den älteren Menschen 70+ (T33901-EEB) 
LOCATION:Ev. Familien-Bildungsstätte, Saal, Gorch-Fock-Str. 5 a, 26135 Oldenburg
END:VEVENT
BEGIN:VEVENT
DTSTAMP:20260421T170007
DTSTART;TZID=Europe/Berlin:20260122T110000
DTEND;TZID=Europe/Berlin:20260122T121500
UID:T33901-EEB-20260122T110000@EFBOLDENBURG
SUMMARY:Achtsamer Yoga für den älteren Menschen 70+ (T33901-EEB) 
LOCATION:Ev. Familien-Bildungsstätte, Saal, Gorch-Fock-Str. 5 a, 26135 Oldenburg
END:VEVENT
BEGIN:VEVENT
DTSTAMP:20260421T170007
DTSTART;TZID=Europe/Berlin:20260205T110000
DTEND;TZID=Europe/Berlin:20260205T121500
UID:T33901-EEB-20260205T110000@EFBOLDENBURG
SUMMARY:Achtsamer Yoga für den älteren Menschen 70+ (T33901-EEB) 
LOCATION:Ev. Familien-Bildungsstätte, Saal, Gorch-Fock-Str. 5 a, 26135 Oldenburg
END:VEVENT
BEGIN:VEVENT
DTSTAMP:20260421T170007
DTSTART;TZID=Europe/Berlin:20260219T110000
DTEND;TZID=Europe/Berlin:20260219T121500
UID:T33901-EEB-20260219T110000@EFBOLDENBURG
DESCRIPTION:Ersatz für Ausfall am 12.02.2026 Ersatz für Ausfall am 13.11.2025
SUMMARY:Achtsamer Yoga für den älteren Menschen 70+ (T33901-EEB) 
LOCATION:Ev. Familien-Bildungsstätte, Saal, Gorch-Fock-Str. 5 a, 26135 Oldenburg
END:VEVENT
BEGIN:VEVENT
DTSTAMP:20260421T170007
DTSTART;TZID=Europe/Berlin:20260226T110000
DTEND;TZID=Europe/Berlin:20260226T121500
UID:T33901-EEB-20260226T110000@EFBOLDENBURG
DESCRIPTION:Ersatz für Ausfall am 18.12.2025
SUMMARY:Achtsamer Yoga für den älteren Menschen 70+ (T33901-EEB) 
LOCATION:Ev. Familien-Bildungsstätte, Saal, Gorch-Fock-Str. 5 a, 26135 Oldenburg
END:VEVENT
END:VCALENDAR