BEGIN:VCALENDAR
VERSION:2.0
PRODID:https://www.kufer.de/kuferweb / DE
METHOD:PUBLISH
CALSCALE:GREGORIAN
X-WR-TIMEZONE:Europe/Berlin
BEGIN:VTIMEZONE
TZID:Europe/Berlin
X-LIC-LOCATION:Europe/Berlin
BEGIN:DAYLIGHT
TZOFFSETFROM:+0100
TZOFFSETTO:+0200
TZNAME:CEST
DTSTART:19700329T020000
RRULE:FREQ=YEARLY;INTERVAL=1;BYDAY=-1SU;BYMONTH=3
END:DAYLIGHT
BEGIN:STANDARD
TZOFFSETFROM:+0200
TZOFFSETTO:+0100
TZNAME:CET
DTSTART:19701025T030000
RRULE:FREQ=YEARLY;INTERVAL=1;BYDAY=-1SU;BYMONTH=10
END:STANDARD
END:VTIMEZONE
BEGIN:VEVENT
DTSTAMP:20260421T165707
DTSTART;TZID=Europe/Berlin:20250915T180000
DTEND;TZID=Europe/Berlin:20250915T193000
UID:T41006-20250915T180000@EFBOLDENBURG
SUMMARY:Ukulelespielen mit erweiterten Kenntnissen (T41006) 
LOCATION:Ev. Familien-Bildungsstätte, Gesprächsraum, Gorch-Fock-Str. 5 a, 26135 Oldenburg
END:VEVENT
BEGIN:VEVENT
DTSTAMP:20260421T165707
DTSTART;TZID=Europe/Berlin:20250922T180000
DTEND;TZID=Europe/Berlin:20250922T193000
UID:T41006-20250922T180000@EFBOLDENBURG
SUMMARY:Ukulelespielen mit erweiterten Kenntnissen (T41006) 
LOCATION:Ev. Familien-Bildungsstätte, Gesprächsraum, Gorch-Fock-Str. 5 a, 26135 Oldenburg
END:VEVENT
BEGIN:VEVENT
DTSTAMP:20260421T165707
DTSTART;TZID=Europe/Berlin:20250929T180000
DTEND;TZID=Europe/Berlin:20250929T193000
UID:T41006-20250929T180000@EFBOLDENBURG
SUMMARY:Ukulelespielen mit erweiterten Kenntnissen (T41006) 
LOCATION:Ev. Familien-Bildungsstätte, Gesprächsraum, Gorch-Fock-Str. 5 a, 26135 Oldenburg
END:VEVENT
BEGIN:VEVENT
DTSTAMP:20260421T165707
DTSTART;TZID=Europe/Berlin:20251006T180000
DTEND;TZID=Europe/Berlin:20251006T193000
UID:T41006-20251006T180000@EFBOLDENBURG
SUMMARY:Ukulelespielen mit erweiterten Kenntnissen (T41006) 
LOCATION:Ev. Familien-Bildungsstätte, Gesprächsraum, Gorch-Fock-Str. 5 a, 26135 Oldenburg
END:VEVENT
BEGIN:VEVENT
DTSTAMP:20260421T165707
DTSTART;TZID=Europe/Berlin:20251027T180000
DTEND;TZID=Europe/Berlin:20251027T193000
UID:T41006-20251027T180000@EFBOLDENBURG
SUMMARY:Ukulelespielen mit erweiterten Kenntnissen (T41006) 
LOCATION:Ev. Familien-Bildungsstätte, Gesprächsraum, Gorch-Fock-Str. 5 a, 26135 Oldenburg
END:VEVENT
BEGIN:VEVENT
DTSTAMP:20260421T165707
DTSTART;TZID=Europe/Berlin:20251110T180000
DTEND;TZID=Europe/Berlin:20251110T193000
UID:T41006-20251110T180000@EFBOLDENBURG
SUMMARY:Ukulelespielen mit erweiterten Kenntnissen (T41006) 
LOCATION:Ev. Familien-Bildungsstätte, Gesprächsraum, Gorch-Fock-Str. 5 a, 26135 Oldenburg
END:VEVENT
BEGIN:VEVENT
DTSTAMP:20260421T165707
DTSTART;TZID=Europe/Berlin:20251117T180000
DTEND;TZID=Europe/Berlin:20251117T193000
UID:T41006-20251117T180000@EFBOLDENBURG
SUMMARY:Ukulelespielen mit erweiterten Kenntnissen (T41006) 
LOCATION:Ev. Familien-Bildungsstätte, Gesprächsraum, Gorch-Fock-Str. 5 a, 26135 Oldenburg
END:VEVENT
BEGIN:VEVENT
DTSTAMP:20260421T165707
DTSTART;TZID=Europe/Berlin:20251124T180000
DTEND;TZID=Europe/Berlin:20251124T193000
UID:T41006-20251124T180000@EFBOLDENBURG
SUMMARY:Ukulelespielen mit erweiterten Kenntnissen (T41006) 
LOCATION:Ev. Familien-Bildungsstätte, Gesprächsraum, Gorch-Fock-Str. 5 a, 26135 Oldenburg
END:VEVENT
BEGIN:VEVENT
DTSTAMP:20260421T165707
DTSTART;TZID=Europe/Berlin:20251201T180000
DTEND;TZID=Europe/Berlin:20251201T193000
UID:T41006-20251201T180000@EFBOLDENBURG
DESCRIPTION:Ersatz für Ausfall am 03.11.2025
SUMMARY:Ukulelespielen mit erweiterten Kenntnissen (T41006) 
LOCATION:Ev. Familien-Bildungsstätte, Gesprächsraum, Gorch-Fock-Str. 5 a, 26135 Oldenburg
END:VEVENT
END:VCALENDAR