BEGIN:VCALENDAR
VERSION:2.0
PRODID:https://www.kufer.de/kuferweb / DE
METHOD:PUBLISH
CALSCALE:GREGORIAN
X-WR-TIMEZONE:Europe/Berlin
BEGIN:VTIMEZONE
TZID:Europe/Berlin
X-LIC-LOCATION:Europe/Berlin
BEGIN:DAYLIGHT
TZOFFSETFROM:+0100
TZOFFSETTO:+0200
TZNAME:CEST
DTSTART:19700329T020000
RRULE:FREQ=YEARLY;INTERVAL=1;BYDAY=-1SU;BYMONTH=3
END:DAYLIGHT
BEGIN:STANDARD
TZOFFSETFROM:+0200
TZOFFSETTO:+0100
TZNAME:CET
DTSTART:19701025T030000
RRULE:FREQ=YEARLY;INTERVAL=1;BYDAY=-1SU;BYMONTH=10
END:STANDARD
END:VTIMEZONE
BEGIN:VEVENT
DTSTAMP:20260421T165838
DTSTART;TZID=Europe/Berlin:20250825T190000
DTEND;TZID=Europe/Berlin:20250825T200000
UID:T41019-20250825T190000@EFBOLDENBURG
SUMMARY:Gitarrenkurse für Erwachsene      U2 im Gemeindehaus Jona (T41019) 
LOCATION:Ev. Familien-Bildungsstätte, Saal, Gorch-Fock-Str. 5 a, 26135 Oldenburg
END:VEVENT
BEGIN:VEVENT
DTSTAMP:20260421T165838
DTSTART;TZID=Europe/Berlin:20250901T190000
DTEND;TZID=Europe/Berlin:20250901T200000
UID:T41019-20250901T190000@EFBOLDENBURG
SUMMARY:Gitarrenkurse für Erwachsene      U2 im Gemeindehaus Jona (T41019) 
LOCATION:Ev. Familien-Bildungsstätte, Saal, Gorch-Fock-Str. 5 a, 26135 Oldenburg
END:VEVENT
BEGIN:VEVENT
DTSTAMP:20260421T165838
DTSTART;TZID=Europe/Berlin:20250908T190000
DTEND;TZID=Europe/Berlin:20250908T200000
UID:T41019-20250908T190000@EFBOLDENBURG
SUMMARY:Gitarrenkurse für Erwachsene      U2 im Gemeindehaus Jona (T41019) 
LOCATION:Ev. Familien-Bildungsstätte, Saal, Gorch-Fock-Str. 5 a, 26135 Oldenburg
END:VEVENT
BEGIN:VEVENT
DTSTAMP:20260421T165838
DTSTART;TZID=Europe/Berlin:20250915T190000
DTEND;TZID=Europe/Berlin:20250915T200000
UID:T41019-20250915T190000@EFBOLDENBURG
SUMMARY:Gitarrenkurse für Erwachsene      U2 im Gemeindehaus Jona (T41019) 
LOCATION:Ev. Familien-Bildungsstätte, Saal, Gorch-Fock-Str. 5 a, 26135 Oldenburg
END:VEVENT
BEGIN:VEVENT
DTSTAMP:20260421T165838
DTSTART;TZID=Europe/Berlin:20250922T190000
DTEND;TZID=Europe/Berlin:20250922T200000
UID:T41019-20250922T190000@EFBOLDENBURG
SUMMARY:Gitarrenkurse für Erwachsene      U2 im Gemeindehaus Jona (T41019) 
LOCATION:Ev. Familien-Bildungsstätte, Saal, Gorch-Fock-Str. 5 a, 26135 Oldenburg
END:VEVENT
BEGIN:VEVENT
DTSTAMP:20260421T165838
DTSTART;TZID=Europe/Berlin:20250929T190000
DTEND;TZID=Europe/Berlin:20250929T200000
UID:T41019-20250929T190000@EFBOLDENBURG
SUMMARY:Gitarrenkurse für Erwachsene      U2 im Gemeindehaus Jona (T41019) 
LOCATION:Ev. Familien-Bildungsstätte, Saal, Gorch-Fock-Str. 5 a, 26135 Oldenburg
END:VEVENT
BEGIN:VEVENT
DTSTAMP:20260421T165838
DTSTART;TZID=Europe/Berlin:20251027T190000
DTEND;TZID=Europe/Berlin:20251027T200000
UID:T41019-20251027T190000@EFBOLDENBURG
SUMMARY:Gitarrenkurse für Erwachsene      U2 im Gemeindehaus Jona (T41019) 
LOCATION:Ev. Familien-Bildungsstätte, Saal, Gorch-Fock-Str. 5 a, 26135 Oldenburg
END:VEVENT
BEGIN:VEVENT
DTSTAMP:20260421T165838
DTSTART;TZID=Europe/Berlin:20251103T190000
DTEND;TZID=Europe/Berlin:20251103T200000
UID:T41019-20251103T190000@EFBOLDENBURG
SUMMARY:Gitarrenkurse für Erwachsene      U2 im Gemeindehaus Jona (T41019) 
LOCATION:Ev. Familien-Bildungsstätte, Saal, Gorch-Fock-Str. 5 a, 26135 Oldenburg
END:VEVENT
BEGIN:VEVENT
DTSTAMP:20260421T165838
DTSTART;TZID=Europe/Berlin:20251110T190000
DTEND;TZID=Europe/Berlin:20251110T200000
UID:T41019-20251110T190000@EFBOLDENBURG
SUMMARY:Gitarrenkurse für Erwachsene      U2 im Gemeindehaus Jona (T41019) 
LOCATION:Ev. Familien-Bildungsstätte, Saal, Gorch-Fock-Str. 5 a, 26135 Oldenburg
END:VEVENT
BEGIN:VEVENT
DTSTAMP:20260421T165838
DTSTART;TZID=Europe/Berlin:20251117T190000
DTEND;TZID=Europe/Berlin:20251117T200000
UID:T41019-20251117T190000@EFBOLDENBURG
SUMMARY:Gitarrenkurse für Erwachsene      U2 im Gemeindehaus Jona (T41019) 
LOCATION:Ev. Familien-Bildungsstätte, Saal, Gorch-Fock-Str. 5 a, 26135 Oldenburg
END:VEVENT
BEGIN:VEVENT
DTSTAMP:20260421T165838
DTSTART;TZID=Europe/Berlin:20251124T190000
DTEND;TZID=Europe/Berlin:20251124T200000
UID:T41019-20251124T190000@EFBOLDENBURG
SUMMARY:Gitarrenkurse für Erwachsene      U2 im Gemeindehaus Jona (T41019) 
LOCATION:Ev. Familien-Bildungsstätte, Saal, Gorch-Fock-Str. 5 a, 26135 Oldenburg
END:VEVENT
BEGIN:VEVENT
DTSTAMP:20260421T165838
DTSTART;TZID=Europe/Berlin:20251201T190000
DTEND;TZID=Europe/Berlin:20251201T200000
UID:T41019-20251201T190000@EFBOLDENBURG
SUMMARY:Gitarrenkurse für Erwachsene      U2 im Gemeindehaus Jona (T41019) 
LOCATION:Ev. Familien-Bildungsstätte, Saal, Gorch-Fock-Str. 5 a, 26135 Oldenburg
END:VEVENT
BEGIN:VEVENT
DTSTAMP:20260421T165838
DTSTART;TZID=Europe/Berlin:20251208T190000
DTEND;TZID=Europe/Berlin:20251208T200000
UID:T41019-20251208T190000@EFBOLDENBURG
SUMMARY:Gitarrenkurse für Erwachsene      U2 im Gemeindehaus Jona (T41019) 
LOCATION:Ev. Familien-Bildungsstätte, Saal, Gorch-Fock-Str. 5 a, 26135 Oldenburg
END:VEVENT
BEGIN:VEVENT
DTSTAMP:20260421T165838
DTSTART;TZID=Europe/Berlin:20251215T190000
DTEND;TZID=Europe/Berlin:20251215T200000
UID:T41019-20251215T190000@EFBOLDENBURG
DESCRIPTION:Ersatz für Ausfall am 06.10.2025
SUMMARY:Gitarrenkurse für Erwachsene      U2 im Gemeindehaus Jona (T41019) 
LOCATION:Ev. Familien-Bildungsstätte, Saal, Gorch-Fock-Str. 5 a, 26135 Oldenburg
END:VEVENT
END:VCALENDAR