BEGIN:VCALENDAR
VERSION:2.0
PRODID:https://www.kufer.de/kuferweb / DE
METHOD:PUBLISH
CALSCALE:GREGORIAN
X-WR-TIMEZONE:Europe/Berlin
BEGIN:VTIMEZONE
TZID:Europe/Berlin
X-LIC-LOCATION:Europe/Berlin
BEGIN:DAYLIGHT
TZOFFSETFROM:+0100
TZOFFSETTO:+0200
TZNAME:CEST
DTSTART:19700329T020000
RRULE:FREQ=YEARLY;INTERVAL=1;BYDAY=-1SU;BYMONTH=3
END:DAYLIGHT
BEGIN:STANDARD
TZOFFSETFROM:+0200
TZOFFSETTO:+0100
TZNAME:CET
DTSTART:19701025T030000
RRULE:FREQ=YEARLY;INTERVAL=1;BYDAY=-1SU;BYMONTH=10
END:STANDARD
END:VTIMEZONE
BEGIN:VEVENT
DTSTAMP:20260421T184811
DTSTART;TZID=Europe/Berlin:20250818T183000
DTEND;TZID=Europe/Berlin:20250818T193000
UID:T41021-20250818T183000@EFBOLDENBURG
SUMMARY:Gitarrenkurse für Erwachsene (T41021) 
LOCATION:Gemeindehaus Nikolai, Hundsmühler Str. 111, Hundsmühler Str. 111, 26131 Oldenburg
END:VEVENT
BEGIN:VEVENT
DTSTAMP:20260421T184811
DTSTART;TZID=Europe/Berlin:20250825T183000
DTEND;TZID=Europe/Berlin:20250825T193000
UID:T41021-20250825T183000@EFBOLDENBURG
SUMMARY:Gitarrenkurse für Erwachsene (T41021) 
LOCATION:Gemeindehaus Nikolai, Hundsmühler Str. 111, Hundsmühler Str. 111, 26131 Oldenburg
END:VEVENT
BEGIN:VEVENT
DTSTAMP:20260421T184811
DTSTART;TZID=Europe/Berlin:20250901T183000
DTEND;TZID=Europe/Berlin:20250901T193000
UID:T41021-20250901T183000@EFBOLDENBURG
SUMMARY:Gitarrenkurse für Erwachsene (T41021) 
LOCATION:Gemeindehaus Nikolai, Hundsmühler Str. 111, Hundsmühler Str. 111, 26131 Oldenburg
END:VEVENT
BEGIN:VEVENT
DTSTAMP:20260421T184811
DTSTART;TZID=Europe/Berlin:20250908T183000
DTEND;TZID=Europe/Berlin:20250908T193000
UID:T41021-20250908T183000@EFBOLDENBURG
SUMMARY:Gitarrenkurse für Erwachsene (T41021) 
LOCATION:Gemeindehaus Nikolai, Hundsmühler Str. 111, Hundsmühler Str. 111, 26131 Oldenburg
END:VEVENT
BEGIN:VEVENT
DTSTAMP:20260421T184811
DTSTART;TZID=Europe/Berlin:20250915T183000
DTEND;TZID=Europe/Berlin:20250915T193000
UID:T41021-20250915T183000@EFBOLDENBURG
SUMMARY:Gitarrenkurse für Erwachsene (T41021) 
LOCATION:Gemeindehaus Nikolai, Hundsmühler Str. 111, Hundsmühler Str. 111, 26131 Oldenburg
END:VEVENT
BEGIN:VEVENT
DTSTAMP:20260421T184811
DTSTART;TZID=Europe/Berlin:20250922T183000
DTEND;TZID=Europe/Berlin:20250922T193000
UID:T41021-20250922T183000@EFBOLDENBURG
SUMMARY:Gitarrenkurse für Erwachsene (T41021) 
LOCATION:Gemeindehaus Nikolai, Hundsmühler Str. 111, Hundsmühler Str. 111, 26131 Oldenburg
END:VEVENT
BEGIN:VEVENT
DTSTAMP:20260421T184811
DTSTART;TZID=Europe/Berlin:20250929T183000
DTEND;TZID=Europe/Berlin:20250929T193000
UID:T41021-20250929T183000@EFBOLDENBURG
SUMMARY:Gitarrenkurse für Erwachsene (T41021) 
LOCATION:Gemeindehaus Nikolai, Hundsmühler Str. 111, Hundsmühler Str. 111, 26131 Oldenburg
END:VEVENT
BEGIN:VEVENT
DTSTAMP:20260421T184811
DTSTART;TZID=Europe/Berlin:20251006T183000
DTEND;TZID=Europe/Berlin:20251006T193000
UID:T41021-20251006T183000@EFBOLDENBURG
SUMMARY:Gitarrenkurse für Erwachsene (T41021) 
LOCATION:Gemeindehaus Nikolai, Hundsmühler Str. 111, Hundsmühler Str. 111, 26131 Oldenburg
END:VEVENT
BEGIN:VEVENT
DTSTAMP:20260421T184811
DTSTART;TZID=Europe/Berlin:20251027T183000
DTEND;TZID=Europe/Berlin:20251027T193000
UID:T41021-20251027T183000@EFBOLDENBURG
SUMMARY:Gitarrenkurse für Erwachsene (T41021) 
LOCATION:Gemeindehaus Nikolai, Hundsmühler Str. 111, Hundsmühler Str. 111, 26131 Oldenburg
END:VEVENT
BEGIN:VEVENT
DTSTAMP:20260421T184811
DTSTART;TZID=Europe/Berlin:20251103T183000
DTEND;TZID=Europe/Berlin:20251103T193000
UID:T41021-20251103T183000@EFBOLDENBURG
SUMMARY:Gitarrenkurse für Erwachsene (T41021) 
LOCATION:Gemeindehaus Nikolai, Hundsmühler Str. 111, Hundsmühler Str. 111, 26131 Oldenburg
END:VEVENT
BEGIN:VEVENT
DTSTAMP:20260421T184811
DTSTART;TZID=Europe/Berlin:20251110T183000
DTEND;TZID=Europe/Berlin:20251110T193000
UID:T41021-20251110T183000@EFBOLDENBURG
SUMMARY:Gitarrenkurse für Erwachsene (T41021) 
LOCATION:Gemeindehaus Nikolai, Hundsmühler Str. 111, Hundsmühler Str. 111, 26131 Oldenburg
END:VEVENT
BEGIN:VEVENT
DTSTAMP:20260421T184811
DTSTART;TZID=Europe/Berlin:20251117T183000
DTEND;TZID=Europe/Berlin:20251117T193000
UID:T41021-20251117T183000@EFBOLDENBURG
SUMMARY:Gitarrenkurse für Erwachsene (T41021) 
LOCATION:Gemeindehaus Nikolai, Hundsmühler Str. 111, Hundsmühler Str. 111, 26131 Oldenburg
END:VEVENT
END:VCALENDAR