BEGIN:VCALENDAR
VERSION:2.0
PRODID:https://www.kufer.de/kuferweb / DE
METHOD:PUBLISH
CALSCALE:GREGORIAN
X-WR-TIMEZONE:Europe/Berlin
BEGIN:VTIMEZONE
TZID:Europe/Berlin
X-LIC-LOCATION:Europe/Berlin
BEGIN:DAYLIGHT
TZOFFSETFROM:+0100
TZOFFSETTO:+0200
TZNAME:CEST
DTSTART:19700329T020000
RRULE:FREQ=YEARLY;INTERVAL=1;BYDAY=-1SU;BYMONTH=3
END:DAYLIGHT
BEGIN:STANDARD
TZOFFSETFROM:+0200
TZOFFSETTO:+0100
TZNAME:CET
DTSTART:19701025T030000
RRULE:FREQ=YEARLY;INTERVAL=1;BYDAY=-1SU;BYMONTH=10
END:STANDARD
END:VTIMEZONE
BEGIN:VEVENT
DTSTAMP:20260421T204237
DTSTART;TZID=Europe/Berlin:20250820T171500
DTEND;TZID=Europe/Berlin:20250820T181500
UID:T41022-20250820T171500@EFBOLDENBURG
SUMMARY:Gitarrenkurse für Erwachsene (T41022) 
LOCATION:Gemeindehaus Nikolai, Hundsmühler Str. 111, Hundsmühler Str. 111, 26131 Oldenburg
END:VEVENT
BEGIN:VEVENT
DTSTAMP:20260421T204237
DTSTART;TZID=Europe/Berlin:20250827T171500
DTEND;TZID=Europe/Berlin:20250827T181500
UID:T41022-20250827T171500@EFBOLDENBURG
SUMMARY:Gitarrenkurse für Erwachsene (T41022) 
LOCATION:Gemeindehaus Nikolai, Hundsmühler Str. 111, Hundsmühler Str. 111, 26131 Oldenburg
END:VEVENT
BEGIN:VEVENT
DTSTAMP:20260421T204237
DTSTART;TZID=Europe/Berlin:20250903T171500
DTEND;TZID=Europe/Berlin:20250903T181500
UID:T41022-20250903T171500@EFBOLDENBURG
SUMMARY:Gitarrenkurse für Erwachsene (T41022) 
LOCATION:Gemeindehaus Nikolai, Hundsmühler Str. 111, Hundsmühler Str. 111, 26131 Oldenburg
END:VEVENT
BEGIN:VEVENT
DTSTAMP:20260421T204237
DTSTART;TZID=Europe/Berlin:20250910T171500
DTEND;TZID=Europe/Berlin:20250910T181500
UID:T41022-20250910T171500@EFBOLDENBURG
SUMMARY:Gitarrenkurse für Erwachsene (T41022) 
LOCATION:Gemeindehaus Nikolai, Hundsmühler Str. 111, Hundsmühler Str. 111, 26131 Oldenburg
END:VEVENT
BEGIN:VEVENT
DTSTAMP:20260421T204237
DTSTART;TZID=Europe/Berlin:20250917T171500
DTEND;TZID=Europe/Berlin:20250917T181500
UID:T41022-20250917T171500@EFBOLDENBURG
SUMMARY:Gitarrenkurse für Erwachsene (T41022) 
LOCATION:Gemeindehaus Nikolai, Hundsmühler Str. 111, Hundsmühler Str. 111, 26131 Oldenburg
END:VEVENT
BEGIN:VEVENT
DTSTAMP:20260421T204237
DTSTART;TZID=Europe/Berlin:20250924T171500
DTEND;TZID=Europe/Berlin:20250924T181500
UID:T41022-20250924T171500@EFBOLDENBURG
SUMMARY:Gitarrenkurse für Erwachsene (T41022) 
LOCATION:Gemeindehaus Nikolai, Hundsmühler Str. 111, Hundsmühler Str. 111, 26131 Oldenburg
END:VEVENT
BEGIN:VEVENT
DTSTAMP:20260421T204237
DTSTART;TZID=Europe/Berlin:20251001T171500
DTEND;TZID=Europe/Berlin:20251001T181500
UID:T41022-20251001T171500@EFBOLDENBURG
SUMMARY:Gitarrenkurse für Erwachsene (T41022) 
LOCATION:Gemeindehaus Nikolai, Hundsmühler Str. 111, Hundsmühler Str. 111, 26131 Oldenburg
END:VEVENT
BEGIN:VEVENT
DTSTAMP:20260421T204237
DTSTART;TZID=Europe/Berlin:20251008T171500
DTEND;TZID=Europe/Berlin:20251008T181500
UID:T41022-20251008T171500@EFBOLDENBURG
SUMMARY:Gitarrenkurse für Erwachsene (T41022) 
LOCATION:Gemeindehaus Nikolai, Hundsmühler Str. 111, Hundsmühler Str. 111, 26131 Oldenburg
END:VEVENT
BEGIN:VEVENT
DTSTAMP:20260421T204237
DTSTART;TZID=Europe/Berlin:20251029T171500
DTEND;TZID=Europe/Berlin:20251029T181500
UID:T41022-20251029T171500@EFBOLDENBURG
SUMMARY:Gitarrenkurse für Erwachsene (T41022) 
LOCATION:Gemeindehaus Nikolai, Hundsmühler Str. 111, Hundsmühler Str. 111, 26131 Oldenburg
END:VEVENT
BEGIN:VEVENT
DTSTAMP:20260421T204237
DTSTART;TZID=Europe/Berlin:20251105T171500
DTEND;TZID=Europe/Berlin:20251105T181500
UID:T41022-20251105T171500@EFBOLDENBURG
SUMMARY:Gitarrenkurse für Erwachsene (T41022) 
LOCATION:Gemeindehaus Nikolai, Hundsmühler Str. 111, Hundsmühler Str. 111, 26131 Oldenburg
END:VEVENT
BEGIN:VEVENT
DTSTAMP:20260421T204237
DTSTART;TZID=Europe/Berlin:20251112T171500
DTEND;TZID=Europe/Berlin:20251112T181500
UID:T41022-20251112T171500@EFBOLDENBURG
SUMMARY:Gitarrenkurse für Erwachsene (T41022) 
LOCATION:Gemeindehaus Nikolai, Hundsmühler Str. 111, Hundsmühler Str. 111, 26131 Oldenburg
END:VEVENT
BEGIN:VEVENT
DTSTAMP:20260421T204237
DTSTART;TZID=Europe/Berlin:20251119T171500
DTEND;TZID=Europe/Berlin:20251119T181500
UID:T41022-20251119T171500@EFBOLDENBURG
SUMMARY:Gitarrenkurse für Erwachsene (T41022) 
LOCATION:Gemeindehaus Nikolai, Hundsmühler Str. 111, Hundsmühler Str. 111, 26131 Oldenburg
END:VEVENT
END:VCALENDAR