BEGIN:VCALENDAR
VERSION:2.0
PRODID:https://www.kufer.de/kuferweb / DE
METHOD:PUBLISH
CALSCALE:GREGORIAN
X-WR-TIMEZONE:Europe/Berlin
BEGIN:VTIMEZONE
TZID:Europe/Berlin
X-LIC-LOCATION:Europe/Berlin
BEGIN:DAYLIGHT
TZOFFSETFROM:+0100
TZOFFSETTO:+0200
TZNAME:CEST
DTSTART:19700329T020000
RRULE:FREQ=YEARLY;INTERVAL=1;BYDAY=-1SU;BYMONTH=3
END:DAYLIGHT
BEGIN:STANDARD
TZOFFSETFROM:+0200
TZOFFSETTO:+0100
TZNAME:CET
DTSTART:19701025T030000
RRULE:FREQ=YEARLY;INTERVAL=1;BYDAY=-1SU;BYMONTH=10
END:STANDARD
END:VTIMEZONE
BEGIN:VEVENT
DTSTAMP:20260421T210237
DTSTART;TZID=Europe/Berlin:20250820T183000
DTEND;TZID=Europe/Berlin:20250820T193000
UID:T41023-20250820T183000@EFBOLDENBURG
SUMMARY:Gitarrenkurse für Erwachsene (T41023) 
LOCATION:Gemeindehaus Nikolai, Hundsmühler Str. 111, Hundsmühler Str. 111, 26131 Oldenburg
END:VEVENT
BEGIN:VEVENT
DTSTAMP:20260421T210237
DTSTART;TZID=Europe/Berlin:20250827T183000
DTEND;TZID=Europe/Berlin:20250827T193000
UID:T41023-20250827T183000@EFBOLDENBURG
SUMMARY:Gitarrenkurse für Erwachsene (T41023) 
LOCATION:Gemeindehaus Nikolai, Hundsmühler Str. 111, Hundsmühler Str. 111, 26131 Oldenburg
END:VEVENT
BEGIN:VEVENT
DTSTAMP:20260421T210237
DTSTART;TZID=Europe/Berlin:20250903T183000
DTEND;TZID=Europe/Berlin:20250903T193000
UID:T41023-20250903T183000@EFBOLDENBURG
SUMMARY:Gitarrenkurse für Erwachsene (T41023) 
LOCATION:Gemeindehaus Nikolai, Hundsmühler Str. 111, Hundsmühler Str. 111, 26131 Oldenburg
END:VEVENT
BEGIN:VEVENT
DTSTAMP:20260421T210237
DTSTART;TZID=Europe/Berlin:20250910T183000
DTEND;TZID=Europe/Berlin:20250910T193000
UID:T41023-20250910T183000@EFBOLDENBURG
SUMMARY:Gitarrenkurse für Erwachsene (T41023) 
LOCATION:Gemeindehaus Nikolai, Hundsmühler Str. 111, Hundsmühler Str. 111, 26131 Oldenburg
END:VEVENT
BEGIN:VEVENT
DTSTAMP:20260421T210237
DTSTART;TZID=Europe/Berlin:20250917T183000
DTEND;TZID=Europe/Berlin:20250917T193000
UID:T41023-20250917T183000@EFBOLDENBURG
SUMMARY:Gitarrenkurse für Erwachsene (T41023) 
LOCATION:Gemeindehaus Nikolai, Hundsmühler Str. 111, Hundsmühler Str. 111, 26131 Oldenburg
END:VEVENT
BEGIN:VEVENT
DTSTAMP:20260421T210237
DTSTART;TZID=Europe/Berlin:20250924T183000
DTEND;TZID=Europe/Berlin:20250924T193000
UID:T41023-20250924T183000@EFBOLDENBURG
SUMMARY:Gitarrenkurse für Erwachsene (T41023) 
LOCATION:Gemeindehaus Nikolai, Hundsmühler Str. 111, Hundsmühler Str. 111, 26131 Oldenburg
END:VEVENT
BEGIN:VEVENT
DTSTAMP:20260421T210237
DTSTART;TZID=Europe/Berlin:20251001T183000
DTEND;TZID=Europe/Berlin:20251001T193000
UID:T41023-20251001T183000@EFBOLDENBURG
SUMMARY:Gitarrenkurse für Erwachsene (T41023) 
LOCATION:Gemeindehaus Nikolai, Hundsmühler Str. 111, Hundsmühler Str. 111, 26131 Oldenburg
END:VEVENT
BEGIN:VEVENT
DTSTAMP:20260421T210237
DTSTART;TZID=Europe/Berlin:20251008T183000
DTEND;TZID=Europe/Berlin:20251008T193000
UID:T41023-20251008T183000@EFBOLDENBURG
SUMMARY:Gitarrenkurse für Erwachsene (T41023) 
LOCATION:Gemeindehaus Nikolai, Hundsmühler Str. 111, Hundsmühler Str. 111, 26131 Oldenburg
END:VEVENT
BEGIN:VEVENT
DTSTAMP:20260421T210237
DTSTART;TZID=Europe/Berlin:20251029T183000
DTEND;TZID=Europe/Berlin:20251029T193000
UID:T41023-20251029T183000@EFBOLDENBURG
SUMMARY:Gitarrenkurse für Erwachsene (T41023) 
LOCATION:Gemeindehaus Nikolai, Hundsmühler Str. 111, Hundsmühler Str. 111, 26131 Oldenburg
END:VEVENT
BEGIN:VEVENT
DTSTAMP:20260421T210237
DTSTART;TZID=Europe/Berlin:20251105T183000
DTEND;TZID=Europe/Berlin:20251105T193000
UID:T41023-20251105T183000@EFBOLDENBURG
SUMMARY:Gitarrenkurse für Erwachsene (T41023) 
LOCATION:Gemeindehaus Nikolai, Hundsmühler Str. 111, Hundsmühler Str. 111, 26131 Oldenburg
END:VEVENT
BEGIN:VEVENT
DTSTAMP:20260421T210237
DTSTART;TZID=Europe/Berlin:20251112T183000
DTEND;TZID=Europe/Berlin:20251112T193000
UID:T41023-20251112T183000@EFBOLDENBURG
SUMMARY:Gitarrenkurse für Erwachsene (T41023) 
LOCATION:Gemeindehaus Nikolai, Hundsmühler Str. 111, Hundsmühler Str. 111, 26131 Oldenburg
END:VEVENT
BEGIN:VEVENT
DTSTAMP:20260421T210237
DTSTART;TZID=Europe/Berlin:20251119T183000
DTEND;TZID=Europe/Berlin:20251119T193000
UID:T41023-20251119T183000@EFBOLDENBURG
SUMMARY:Gitarrenkurse für Erwachsene (T41023) 
LOCATION:Gemeindehaus Nikolai, Hundsmühler Str. 111, Hundsmühler Str. 111, 26131 Oldenburg
END:VEVENT
END:VCALENDAR